BEGIN:VCALENDAR
VERSION:2.0
PRODID:-//Little BIG - ECPv6.15.20//NONSGML v1.0//EN
CALSCALE:GREGORIAN
METHOD:PUBLISH
X-ORIGINAL-URL:https://littlebigfoundation.org
X-WR-CALDESC:Events for Little BIG
REFRESH-INTERVAL;VALUE=DURATION:PT1H
X-Robots-Tag:noindex
X-PUBLISHED-TTL:PT1H
BEGIN:VTIMEZONE
TZID:Australia/Sydney
BEGIN:STANDARD
TZOFFSETFROM:+1100
TZOFFSETTO:+1000
TZNAME:AEST
DTSTART:20240406T160000
END:STANDARD
BEGIN:DAYLIGHT
TZOFFSETFROM:+1000
TZOFFSETTO:+1100
TZNAME:AEDT
DTSTART:20241005T160000
END:DAYLIGHT
BEGIN:STANDARD
TZOFFSETFROM:+1100
TZOFFSETTO:+1000
TZNAME:AEST
DTSTART:20250405T160000
END:STANDARD
BEGIN:DAYLIGHT
TZOFFSETFROM:+1000
TZOFFSETTO:+1100
TZNAME:AEDT
DTSTART:20251004T160000
END:DAYLIGHT
BEGIN:STANDARD
TZOFFSETFROM:+1100
TZOFFSETTO:+1000
TZNAME:AEST
DTSTART:20260404T160000
END:STANDARD
BEGIN:DAYLIGHT
TZOFFSETFROM:+1000
TZOFFSETTO:+1100
TZNAME:AEDT
DTSTART:20261003T160000
END:DAYLIGHT
END:VTIMEZONE
BEGIN:VEVENT
DTSTART;TZID=Australia/Sydney:20250919T091500
DTEND;TZID=Australia/Sydney:20250919T101500
DTSTAMP:20260425T082046
CREATED:20250822T011434Z
LAST-MODIFIED:20250929T233830Z
UID:10006715-1758273300-1758276900@littlebigfoundation.org
SUMMARY:Paid Tai Chi
DESCRIPTION:
URL:https://littlebigfoundation.org/event/paid-tai-chi-2/2025-09-19/
LOCATION:Mungo Scott Plaza\, 16 Flour Mill Way\, Summer Hill\, Sydney\, NSW\, 2130\, Australia
CATEGORIES:Paid
ATTACH;FMTTYPE=image/jpeg:https://littlebigfoundation.org/wp-content/uploads/Robyn-sitting-2.jpeg
GEO:-33.8937768;151.143025
X-APPLE-STRUCTURED-LOCATION;VALUE=URI;X-ADDRESS=Mungo Scott Plaza 16 Flour Mill Way Summer Hill Sydney NSW 2130 Australia;X-APPLE-RADIUS=500;X-TITLE=16 Flour Mill Way\, Summer Hill:geo:151.143025,-33.8937768
END:VEVENT
BEGIN:VEVENT
DTSTART;TZID=Australia/Sydney:20250916T081500
DTEND;TZID=Australia/Sydney:20250916T084500
DTSTAMP:20260425T082046
CREATED:20250827T024120Z
LAST-MODIFIED:20250929T233746Z
UID:10007668-1758010500-1758012300@littlebigfoundation.org
SUMMARY:Free Tai Chi
DESCRIPTION:
URL:https://littlebigfoundation.org/event/free-tai-chi/2025-09-16/
LOCATION:Mungo Scott Plaza\, 16 Flour Mill Way\, Summer Hill\, Sydney\, NSW\, 2130\, Australia
CATEGORIES:Fitness & Wellness,Free
ATTACH;FMTTYPE=image/jpeg:https://littlebigfoundation.org/wp-content/uploads/IMG_4213-e1750994424874.jpg
GEO:-33.8937768;151.143025
X-APPLE-STRUCTURED-LOCATION;VALUE=URI;X-ADDRESS=Mungo Scott Plaza 16 Flour Mill Way Summer Hill Sydney NSW 2130 Australia;X-APPLE-RADIUS=500;X-TITLE=16 Flour Mill Way\, Summer Hill:geo:151.143025,-33.8937768
END:VEVENT
BEGIN:VEVENT
DTSTART;TZID=Australia/Sydney:20250912T091500
DTEND;TZID=Australia/Sydney:20250912T101500
DTSTAMP:20260425T082046
CREATED:20250822T011434Z
LAST-MODIFIED:20250929T233830Z
UID:10006714-1757668500-1757672100@littlebigfoundation.org
SUMMARY:Paid Tai Chi
DESCRIPTION:
URL:https://littlebigfoundation.org/event/paid-tai-chi-2/2025-09-12/
LOCATION:Mungo Scott Plaza\, 16 Flour Mill Way\, Summer Hill\, Sydney\, NSW\, 2130\, Australia
CATEGORIES:Paid
ATTACH;FMTTYPE=image/jpeg:https://littlebigfoundation.org/wp-content/uploads/Robyn-sitting-2.jpeg
GEO:-33.8937768;151.143025
X-APPLE-STRUCTURED-LOCATION;VALUE=URI;X-ADDRESS=Mungo Scott Plaza 16 Flour Mill Way Summer Hill Sydney NSW 2130 Australia;X-APPLE-RADIUS=500;X-TITLE=16 Flour Mill Way\, Summer Hill:geo:151.143025,-33.8937768
END:VEVENT
BEGIN:VEVENT
DTSTART;TZID=Australia/Sydney:20250909T081500
DTEND;TZID=Australia/Sydney:20250909T084500
DTSTAMP:20260425T082046
CREATED:20250827T024120Z
LAST-MODIFIED:20250929T233746Z
UID:10007667-1757405700-1757407500@littlebigfoundation.org
SUMMARY:Free Tai Chi
DESCRIPTION:
URL:https://littlebigfoundation.org/event/free-tai-chi/2025-09-09/
LOCATION:Mungo Scott Plaza\, 16 Flour Mill Way\, Summer Hill\, Sydney\, NSW\, 2130\, Australia
CATEGORIES:Fitness & Wellness,Free
ATTACH;FMTTYPE=image/jpeg:https://littlebigfoundation.org/wp-content/uploads/IMG_4213-e1750994424874.jpg
GEO:-33.8937768;151.143025
X-APPLE-STRUCTURED-LOCATION;VALUE=URI;X-ADDRESS=Mungo Scott Plaza 16 Flour Mill Way Summer Hill Sydney NSW 2130 Australia;X-APPLE-RADIUS=500;X-TITLE=16 Flour Mill Way\, Summer Hill:geo:151.143025,-33.8937768
END:VEVENT
BEGIN:VEVENT
DTSTART;TZID=Australia/Sydney:20250905T091500
DTEND;TZID=Australia/Sydney:20250905T101500
DTSTAMP:20260425T082046
CREATED:20250822T011434Z
LAST-MODIFIED:20250929T233830Z
UID:10006713-1757063700-1757067300@littlebigfoundation.org
SUMMARY:Paid Tai Chi
DESCRIPTION:
URL:https://littlebigfoundation.org/event/paid-tai-chi-2/2025-09-05/
LOCATION:Mungo Scott Plaza\, 16 Flour Mill Way\, Summer Hill\, Sydney\, NSW\, 2130\, Australia
CATEGORIES:Paid
ATTACH;FMTTYPE=image/jpeg:https://littlebigfoundation.org/wp-content/uploads/Robyn-sitting-2.jpeg
GEO:-33.8937768;151.143025
X-APPLE-STRUCTURED-LOCATION;VALUE=URI;X-ADDRESS=Mungo Scott Plaza 16 Flour Mill Way Summer Hill Sydney NSW 2130 Australia;X-APPLE-RADIUS=500;X-TITLE=16 Flour Mill Way\, Summer Hill:geo:151.143025,-33.8937768
END:VEVENT
BEGIN:VEVENT
DTSTART;TZID=Australia/Sydney:20250902T081500
DTEND;TZID=Australia/Sydney:20250902T084500
DTSTAMP:20260425T082046
CREATED:20250827T024120Z
LAST-MODIFIED:20250929T233746Z
UID:10007666-1756800900-1756802700@littlebigfoundation.org
SUMMARY:Free Tai Chi
DESCRIPTION:
URL:https://littlebigfoundation.org/event/free-tai-chi/2025-09-02/
LOCATION:Mungo Scott Plaza\, 16 Flour Mill Way\, Summer Hill\, Sydney\, NSW\, 2130\, Australia
CATEGORIES:Fitness & Wellness,Free
ATTACH;FMTTYPE=image/jpeg:https://littlebigfoundation.org/wp-content/uploads/IMG_4213-e1750994424874.jpg
GEO:-33.8937768;151.143025
X-APPLE-STRUCTURED-LOCATION;VALUE=URI;X-ADDRESS=Mungo Scott Plaza 16 Flour Mill Way Summer Hill Sydney NSW 2130 Australia;X-APPLE-RADIUS=500;X-TITLE=16 Flour Mill Way\, Summer Hill:geo:151.143025,-33.8937768
END:VEVENT
BEGIN:VEVENT
DTSTART;TZID=Australia/Sydney:20250829T091500
DTEND;TZID=Australia/Sydney:20250829T101500
DTSTAMP:20260425T082046
CREATED:20250822T011434Z
LAST-MODIFIED:20250929T233830Z
UID:10006979-1756458900-1756462500@littlebigfoundation.org
SUMMARY:Paid Tai Chi
DESCRIPTION:
URL:https://littlebigfoundation.org/event/paid-tai-chi-2/2025-08-29/
LOCATION:Mungo Scott Plaza\, 16 Flour Mill Way\, Summer Hill\, Sydney\, NSW\, 2130\, Australia
CATEGORIES:Paid
ATTACH;FMTTYPE=image/jpeg:https://littlebigfoundation.org/wp-content/uploads/Robyn-sitting-2.jpeg
GEO:-33.8937768;151.143025
X-APPLE-STRUCTURED-LOCATION;VALUE=URI;X-ADDRESS=Mungo Scott Plaza 16 Flour Mill Way Summer Hill Sydney NSW 2130 Australia;X-APPLE-RADIUS=500;X-TITLE=16 Flour Mill Way\, Summer Hill:geo:151.143025,-33.8937768
END:VEVENT
BEGIN:VEVENT
DTSTART;TZID=Australia/Sydney:20250826T081500
DTEND;TZID=Australia/Sydney:20250826T084500
DTSTAMP:20260425T082046
CREATED:20250827T024120Z
LAST-MODIFIED:20250929T233746Z
UID:10007402-1756196100-1756197900@littlebigfoundation.org
SUMMARY:Free Tai Chi
DESCRIPTION:
URL:https://littlebigfoundation.org/event/free-tai-chi/2025-08-26/
LOCATION:Mungo Scott Plaza\, 16 Flour Mill Way\, Summer Hill\, Sydney\, NSW\, 2130\, Australia
CATEGORIES:Fitness & Wellness,Free
ATTACH;FMTTYPE=image/jpeg:https://littlebigfoundation.org/wp-content/uploads/IMG_4213-e1750994424874.jpg
GEO:-33.8937768;151.143025
X-APPLE-STRUCTURED-LOCATION;VALUE=URI;X-ADDRESS=Mungo Scott Plaza 16 Flour Mill Way Summer Hill Sydney NSW 2130 Australia;X-APPLE-RADIUS=500;X-TITLE=16 Flour Mill Way\, Summer Hill:geo:151.143025,-33.8937768
END:VEVENT
BEGIN:VEVENT
DTSTART;TZID=Australia/Sydney:20250822T091500
DTEND;TZID=Australia/Sydney:20250822T101500
DTSTAMP:20260425T082046
CREATED:20250822T011434Z
LAST-MODIFIED:20250929T233830Z
UID:10006978-1755854100-1755857700@littlebigfoundation.org
SUMMARY:Paid Tai Chi
DESCRIPTION:
URL:https://littlebigfoundation.org/event/paid-tai-chi-2/2025-08-22/
LOCATION:Mungo Scott Plaza\, 16 Flour Mill Way\, Summer Hill\, Sydney\, NSW\, 2130\, Australia
CATEGORIES:Paid
ATTACH;FMTTYPE=image/jpeg:https://littlebigfoundation.org/wp-content/uploads/Robyn-sitting-2.jpeg
GEO:-33.8937768;151.143025
X-APPLE-STRUCTURED-LOCATION;VALUE=URI;X-ADDRESS=Mungo Scott Plaza 16 Flour Mill Way Summer Hill Sydney NSW 2130 Australia;X-APPLE-RADIUS=500;X-TITLE=16 Flour Mill Way\, Summer Hill:geo:151.143025,-33.8937768
END:VEVENT
BEGIN:VEVENT
DTSTART;TZID=Australia/Sydney:20250815T091500
DTEND;TZID=Australia/Sydney:20250815T101500
DTSTAMP:20260425T082046
CREATED:20250822T011434Z
LAST-MODIFIED:20250929T233830Z
UID:10006977-1755249300-1755252900@littlebigfoundation.org
SUMMARY:Paid Tai Chi
DESCRIPTION:
URL:https://littlebigfoundation.org/event/paid-tai-chi-2/2025-08-15/
LOCATION:Mungo Scott Plaza\, 16 Flour Mill Way\, Summer Hill\, Sydney\, NSW\, 2130\, Australia
CATEGORIES:Paid
ATTACH;FMTTYPE=image/jpeg:https://littlebigfoundation.org/wp-content/uploads/Robyn-sitting-2.jpeg
GEO:-33.8937768;151.143025
X-APPLE-STRUCTURED-LOCATION;VALUE=URI;X-ADDRESS=Mungo Scott Plaza 16 Flour Mill Way Summer Hill Sydney NSW 2130 Australia;X-APPLE-RADIUS=500;X-TITLE=16 Flour Mill Way\, Summer Hill:geo:151.143025,-33.8937768
END:VEVENT
BEGIN:VEVENT
DTSTART;TZID=Australia/Sydney:20250808T091500
DTEND;TZID=Australia/Sydney:20250808T101500
DTSTAMP:20260425T082046
CREATED:20250822T011434Z
LAST-MODIFIED:20250929T233830Z
UID:10006976-1754644500-1754648100@littlebigfoundation.org
SUMMARY:Paid Tai Chi
DESCRIPTION:
URL:https://littlebigfoundation.org/event/paid-tai-chi-2/2025-08-08/
LOCATION:Mungo Scott Plaza\, 16 Flour Mill Way\, Summer Hill\, Sydney\, NSW\, 2130\, Australia
CATEGORIES:Paid
ATTACH;FMTTYPE=image/jpeg:https://littlebigfoundation.org/wp-content/uploads/Robyn-sitting-2.jpeg
GEO:-33.8937768;151.143025
X-APPLE-STRUCTURED-LOCATION;VALUE=URI;X-ADDRESS=Mungo Scott Plaza 16 Flour Mill Way Summer Hill Sydney NSW 2130 Australia;X-APPLE-RADIUS=500;X-TITLE=16 Flour Mill Way\, Summer Hill:geo:151.143025,-33.8937768
END:VEVENT
BEGIN:VEVENT
DTSTART;TZID=Australia/Sydney:20250801T091500
DTEND;TZID=Australia/Sydney:20250801T101500
DTSTAMP:20260425T082046
CREATED:20250822T011434Z
LAST-MODIFIED:20250929T233830Z
UID:10006975-1754039700-1754043300@littlebigfoundation.org
SUMMARY:Paid Tai Chi
DESCRIPTION:
URL:https://littlebigfoundation.org/event/paid-tai-chi-2/2025-08-01/
LOCATION:Mungo Scott Plaza\, 16 Flour Mill Way\, Summer Hill\, Sydney\, NSW\, 2130\, Australia
CATEGORIES:Paid
ATTACH;FMTTYPE=image/jpeg:https://littlebigfoundation.org/wp-content/uploads/Robyn-sitting-2.jpeg
GEO:-33.8937768;151.143025
X-APPLE-STRUCTURED-LOCATION;VALUE=URI;X-ADDRESS=Mungo Scott Plaza 16 Flour Mill Way Summer Hill Sydney NSW 2130 Australia;X-APPLE-RADIUS=500;X-TITLE=16 Flour Mill Way\, Summer Hill:geo:151.143025,-33.8937768
END:VEVENT
BEGIN:VEVENT
DTSTART;TZID=Australia/Sydney:20250725T091500
DTEND;TZID=Australia/Sydney:20250725T101500
DTSTAMP:20260425T082046
CREATED:20250822T011434Z
LAST-MODIFIED:20250929T233830Z
UID:10006974-1753434900-1753438500@littlebigfoundation.org
SUMMARY:Paid Tai Chi
DESCRIPTION:
URL:https://littlebigfoundation.org/event/paid-tai-chi-2/2025-07-25/
LOCATION:Mungo Scott Plaza\, 16 Flour Mill Way\, Summer Hill\, Sydney\, NSW\, 2130\, Australia
CATEGORIES:Paid
ATTACH;FMTTYPE=image/jpeg:https://littlebigfoundation.org/wp-content/uploads/Robyn-sitting-2.jpeg
GEO:-33.8937768;151.143025
X-APPLE-STRUCTURED-LOCATION;VALUE=URI;X-ADDRESS=Mungo Scott Plaza 16 Flour Mill Way Summer Hill Sydney NSW 2130 Australia;X-APPLE-RADIUS=500;X-TITLE=16 Flour Mill Way\, Summer Hill:geo:151.143025,-33.8937768
END:VEVENT
BEGIN:VEVENT
DTSTART;TZID=Australia/Sydney:20250718T091500
DTEND;TZID=Australia/Sydney:20250718T101500
DTSTAMP:20260425T082046
CREATED:20250822T011434Z
LAST-MODIFIED:20250929T233830Z
UID:10006973-1752830100-1752833700@littlebigfoundation.org
SUMMARY:Paid Tai Chi
DESCRIPTION:
URL:https://littlebigfoundation.org/event/paid-tai-chi-2/2025-07-18/
LOCATION:Mungo Scott Plaza\, 16 Flour Mill Way\, Summer Hill\, Sydney\, NSW\, 2130\, Australia
CATEGORIES:Paid
ATTACH;FMTTYPE=image/jpeg:https://littlebigfoundation.org/wp-content/uploads/Robyn-sitting-2.jpeg
GEO:-33.8937768;151.143025
X-APPLE-STRUCTURED-LOCATION;VALUE=URI;X-ADDRESS=Mungo Scott Plaza 16 Flour Mill Way Summer Hill Sydney NSW 2130 Australia;X-APPLE-RADIUS=500;X-TITLE=16 Flour Mill Way\, Summer Hill:geo:151.143025,-33.8937768
END:VEVENT
BEGIN:VEVENT
DTSTART;TZID=Australia/Sydney:20250711T091500
DTEND;TZID=Australia/Sydney:20250711T101500
DTSTAMP:20260425T082046
CREATED:20250822T011434Z
LAST-MODIFIED:20250929T233830Z
UID:10006972-1752225300-1752228900@littlebigfoundation.org
SUMMARY:Paid Tai Chi
DESCRIPTION:
URL:https://littlebigfoundation.org/event/paid-tai-chi-2/2025-07-11/
LOCATION:Mungo Scott Plaza\, 16 Flour Mill Way\, Summer Hill\, Sydney\, NSW\, 2130\, Australia
CATEGORIES:Paid
ATTACH;FMTTYPE=image/jpeg:https://littlebigfoundation.org/wp-content/uploads/Robyn-sitting-2.jpeg
GEO:-33.8937768;151.143025
X-APPLE-STRUCTURED-LOCATION;VALUE=URI;X-ADDRESS=Mungo Scott Plaza 16 Flour Mill Way Summer Hill Sydney NSW 2130 Australia;X-APPLE-RADIUS=500;X-TITLE=16 Flour Mill Way\, Summer Hill:geo:151.143025,-33.8937768
END:VEVENT
BEGIN:VEVENT
DTSTART;TZID=Australia/Sydney:20250704T091500
DTEND;TZID=Australia/Sydney:20250704T101500
DTSTAMP:20260425T082046
CREATED:20250822T011434Z
LAST-MODIFIED:20250929T233830Z
UID:10006712-1751620500-1751624100@littlebigfoundation.org
SUMMARY:Paid Tai Chi
DESCRIPTION:
URL:https://littlebigfoundation.org/event/paid-tai-chi-2/2025-07-04/
LOCATION:Mungo Scott Plaza\, 16 Flour Mill Way\, Summer Hill\, Sydney\, NSW\, 2130\, Australia
CATEGORIES:Paid
ATTACH;FMTTYPE=image/jpeg:https://littlebigfoundation.org/wp-content/uploads/Robyn-sitting-2.jpeg
GEO:-33.8937768;151.143025
X-APPLE-STRUCTURED-LOCATION;VALUE=URI;X-ADDRESS=Mungo Scott Plaza 16 Flour Mill Way Summer Hill Sydney NSW 2130 Australia;X-APPLE-RADIUS=500;X-TITLE=16 Flour Mill Way\, Summer Hill:geo:151.143025,-33.8937768
END:VEVENT
END:VCALENDAR