BEGIN:VCALENDAR
VERSION:2.0
PRODID:-//Little BIG - ECPv6.15.20//NONSGML v1.0//EN
CALSCALE:GREGORIAN
METHOD:PUBLISH
X-WR-CALNAME:Little BIG
X-ORIGINAL-URL:https://littlebigfoundation.org
X-WR-CALDESC:Events for Little BIG
REFRESH-INTERVAL;VALUE=DURATION:PT1H
X-Robots-Tag:noindex
X-PUBLISHED-TTL:PT1H
BEGIN:VTIMEZONE
TZID:Australia/Sydney
BEGIN:STANDARD
TZOFFSETFROM:+1100
TZOFFSETTO:+1000
TZNAME:AEST
DTSTART:20240406T160000
END:STANDARD
BEGIN:DAYLIGHT
TZOFFSETFROM:+1000
TZOFFSETTO:+1100
TZNAME:AEDT
DTSTART:20241005T160000
END:DAYLIGHT
BEGIN:STANDARD
TZOFFSETFROM:+1100
TZOFFSETTO:+1000
TZNAME:AEST
DTSTART:20250405T160000
END:STANDARD
BEGIN:DAYLIGHT
TZOFFSETFROM:+1000
TZOFFSETTO:+1100
TZNAME:AEDT
DTSTART:20251004T160000
END:DAYLIGHT
BEGIN:STANDARD
TZOFFSETFROM:+1100
TZOFFSETTO:+1000
TZNAME:AEST
DTSTART:20260404T160000
END:STANDARD
BEGIN:DAYLIGHT
TZOFFSETFROM:+1000
TZOFFSETTO:+1100
TZNAME:AEDT
DTSTART:20261003T160000
END:DAYLIGHT
END:VTIMEZONE
BEGIN:VEVENT
DTSTART;TZID=Australia/Sydney:20251031T063000
DTEND;TZID=Australia/Sydney:20251031T071500
DTSTAMP:20260426T081204
CREATED:20250523T010951Z
LAST-MODIFIED:20250904T071148Z
UID:10006401-1761892200-1761894900@littlebigfoundation.org
SUMMARY:Outdoor Fitness Class
DESCRIPTION:
URL:https://littlebigfoundation.org/event/outdoor-fitness-class/2025-10-31/
LOCATION:Harvest Park\, Summer Hill\, 16 Flour Mill Way\, Summer Hill\, Sydney\, NSW\, 2130\, Australia
CATEGORIES:Fitness & Wellness,Free
ATTACH;FMTTYPE=image/png:https://littlebigfoundation.org/wp-content/uploads/Screenshot-2024-01-17-at-01.06.50.png
END:VEVENT
BEGIN:VEVENT
DTSTART;TZID=Australia/Sydney:20251029T063000
DTEND;TZID=Australia/Sydney:20251029T071500
DTSTAMP:20260426T081204
CREATED:20250523T010951Z
LAST-MODIFIED:20250904T071148Z
UID:10006400-1761719400-1761722100@littlebigfoundation.org
SUMMARY:Outdoor Fitness Class
DESCRIPTION:
URL:https://littlebigfoundation.org/event/outdoor-fitness-class/2025-10-29/
LOCATION:Harvest Park\, Summer Hill\, 16 Flour Mill Way\, Summer Hill\, Sydney\, NSW\, 2130\, Australia
CATEGORIES:Fitness & Wellness,Free
ATTACH;FMTTYPE=image/png:https://littlebigfoundation.org/wp-content/uploads/Screenshot-2024-01-17-at-01.06.50.png
END:VEVENT
BEGIN:VEVENT
DTSTART;TZID=Australia/Sydney:20251027T063000
DTEND;TZID=Australia/Sydney:20251027T071500
DTSTAMP:20260426T081204
CREATED:20250523T010951Z
LAST-MODIFIED:20250904T071148Z
UID:10006399-1761546600-1761549300@littlebigfoundation.org
SUMMARY:Outdoor Fitness Class
DESCRIPTION:
URL:https://littlebigfoundation.org/event/outdoor-fitness-class/2025-10-27/
LOCATION:Harvest Park\, Summer Hill\, 16 Flour Mill Way\, Summer Hill\, Sydney\, NSW\, 2130\, Australia
CATEGORIES:Fitness & Wellness,Free
ATTACH;FMTTYPE=image/png:https://littlebigfoundation.org/wp-content/uploads/Screenshot-2024-01-17-at-01.06.50.png
END:VEVENT
BEGIN:VEVENT
DTSTART;TZID=Australia/Sydney:20251024T063000
DTEND;TZID=Australia/Sydney:20251024T071500
DTSTAMP:20260426T081204
CREATED:20250523T010951Z
LAST-MODIFIED:20250904T071148Z
UID:10006398-1761287400-1761290100@littlebigfoundation.org
SUMMARY:Outdoor Fitness Class
DESCRIPTION:
URL:https://littlebigfoundation.org/event/outdoor-fitness-class/2025-10-24/
LOCATION:Harvest Park\, Summer Hill\, 16 Flour Mill Way\, Summer Hill\, Sydney\, NSW\, 2130\, Australia
CATEGORIES:Fitness & Wellness,Free
ATTACH;FMTTYPE=image/png:https://littlebigfoundation.org/wp-content/uploads/Screenshot-2024-01-17-at-01.06.50.png
END:VEVENT
BEGIN:VEVENT
DTSTART;TZID=Australia/Sydney:20251022T063000
DTEND;TZID=Australia/Sydney:20251022T071500
DTSTAMP:20260426T081204
CREATED:20250523T010951Z
LAST-MODIFIED:20250904T071148Z
UID:10006397-1761114600-1761117300@littlebigfoundation.org
SUMMARY:Outdoor Fitness Class
DESCRIPTION:
URL:https://littlebigfoundation.org/event/outdoor-fitness-class/2025-10-22/
LOCATION:Harvest Park\, Summer Hill\, 16 Flour Mill Way\, Summer Hill\, Sydney\, NSW\, 2130\, Australia
CATEGORIES:Fitness & Wellness,Free
ATTACH;FMTTYPE=image/png:https://littlebigfoundation.org/wp-content/uploads/Screenshot-2024-01-17-at-01.06.50.png
END:VEVENT
BEGIN:VEVENT
DTSTART;TZID=Australia/Sydney:20251020T063000
DTEND;TZID=Australia/Sydney:20251020T071500
DTSTAMP:20260426T081204
CREATED:20250523T010951Z
LAST-MODIFIED:20250904T071148Z
UID:10006396-1760941800-1760944500@littlebigfoundation.org
SUMMARY:Outdoor Fitness Class
DESCRIPTION:
URL:https://littlebigfoundation.org/event/outdoor-fitness-class/2025-10-20/
LOCATION:Harvest Park\, Summer Hill\, 16 Flour Mill Way\, Summer Hill\, Sydney\, NSW\, 2130\, Australia
CATEGORIES:Fitness & Wellness,Free
ATTACH;FMTTYPE=image/png:https://littlebigfoundation.org/wp-content/uploads/Screenshot-2024-01-17-at-01.06.50.png
END:VEVENT
BEGIN:VEVENT
DTSTART;TZID=Australia/Sydney:20251017T063000
DTEND;TZID=Australia/Sydney:20251017T071500
DTSTAMP:20260426T081204
CREATED:20250523T010951Z
LAST-MODIFIED:20250904T071148Z
UID:10006395-1760682600-1760685300@littlebigfoundation.org
SUMMARY:Outdoor Fitness Class
DESCRIPTION:
URL:https://littlebigfoundation.org/event/outdoor-fitness-class/2025-10-17/
LOCATION:Harvest Park\, Summer Hill\, 16 Flour Mill Way\, Summer Hill\, Sydney\, NSW\, 2130\, Australia
CATEGORIES:Fitness & Wellness,Free
ATTACH;FMTTYPE=image/png:https://littlebigfoundation.org/wp-content/uploads/Screenshot-2024-01-17-at-01.06.50.png
END:VEVENT
BEGIN:VEVENT
DTSTART;TZID=Australia/Sydney:20251015T063000
DTEND;TZID=Australia/Sydney:20251015T071500
DTSTAMP:20260426T081204
CREATED:20250523T010951Z
LAST-MODIFIED:20250904T071148Z
UID:10006394-1760509800-1760512500@littlebigfoundation.org
SUMMARY:Outdoor Fitness Class
DESCRIPTION:
URL:https://littlebigfoundation.org/event/outdoor-fitness-class/2025-10-15/
LOCATION:Harvest Park\, Summer Hill\, 16 Flour Mill Way\, Summer Hill\, Sydney\, NSW\, 2130\, Australia
CATEGORIES:Fitness & Wellness,Free
ATTACH;FMTTYPE=image/png:https://littlebigfoundation.org/wp-content/uploads/Screenshot-2024-01-17-at-01.06.50.png
END:VEVENT
BEGIN:VEVENT
DTSTART;TZID=Australia/Sydney:20251013T063000
DTEND;TZID=Australia/Sydney:20251013T071500
DTSTAMP:20260426T081204
CREATED:20250523T010951Z
LAST-MODIFIED:20250904T071148Z
UID:10006393-1760337000-1760339700@littlebigfoundation.org
SUMMARY:Outdoor Fitness Class
DESCRIPTION:
URL:https://littlebigfoundation.org/event/outdoor-fitness-class/2025-10-13/
LOCATION:Harvest Park\, Summer Hill\, 16 Flour Mill Way\, Summer Hill\, Sydney\, NSW\, 2130\, Australia
CATEGORIES:Fitness & Wellness,Free
ATTACH;FMTTYPE=image/png:https://littlebigfoundation.org/wp-content/uploads/Screenshot-2024-01-17-at-01.06.50.png
END:VEVENT
BEGIN:VEVENT
DTSTART;TZID=Australia/Sydney:20251010T063000
DTEND;TZID=Australia/Sydney:20251010T071500
DTSTAMP:20260426T081204
CREATED:20250523T010951Z
LAST-MODIFIED:20250904T071148Z
UID:10006392-1760077800-1760080500@littlebigfoundation.org
SUMMARY:Outdoor Fitness Class
DESCRIPTION:
URL:https://littlebigfoundation.org/event/outdoor-fitness-class/2025-10-10/
LOCATION:Harvest Park\, Summer Hill\, 16 Flour Mill Way\, Summer Hill\, Sydney\, NSW\, 2130\, Australia
CATEGORIES:Fitness & Wellness,Free
ATTACH;FMTTYPE=image/png:https://littlebigfoundation.org/wp-content/uploads/Screenshot-2024-01-17-at-01.06.50.png
END:VEVENT
BEGIN:VEVENT
DTSTART;TZID=Australia/Sydney:20251008T063000
DTEND;TZID=Australia/Sydney:20251008T071500
DTSTAMP:20260426T081204
CREATED:20250523T010951Z
LAST-MODIFIED:20250904T071148Z
UID:10006391-1759905000-1759907700@littlebigfoundation.org
SUMMARY:Outdoor Fitness Class
DESCRIPTION:
URL:https://littlebigfoundation.org/event/outdoor-fitness-class/2025-10-08/
LOCATION:Harvest Park\, Summer Hill\, 16 Flour Mill Way\, Summer Hill\, Sydney\, NSW\, 2130\, Australia
CATEGORIES:Fitness & Wellness,Free
ATTACH;FMTTYPE=image/png:https://littlebigfoundation.org/wp-content/uploads/Screenshot-2024-01-17-at-01.06.50.png
END:VEVENT
BEGIN:VEVENT
DTSTART;TZID=Australia/Sydney:20251006T063000
DTEND;TZID=Australia/Sydney:20251006T071500
DTSTAMP:20260426T081204
CREATED:20250523T010951Z
LAST-MODIFIED:20250904T071148Z
UID:10006390-1759732200-1759734900@littlebigfoundation.org
SUMMARY:Outdoor Fitness Class
DESCRIPTION:
URL:https://littlebigfoundation.org/event/outdoor-fitness-class/2025-10-06/
LOCATION:Harvest Park\, Summer Hill\, 16 Flour Mill Way\, Summer Hill\, Sydney\, NSW\, 2130\, Australia
CATEGORIES:Fitness & Wellness,Free
ATTACH;FMTTYPE=image/png:https://littlebigfoundation.org/wp-content/uploads/Screenshot-2024-01-17-at-01.06.50.png
END:VEVENT
BEGIN:VEVENT
DTSTART;TZID=Australia/Sydney:20251003T063000
DTEND;TZID=Australia/Sydney:20251003T071500
DTSTAMP:20260426T081204
CREATED:20250523T010951Z
LAST-MODIFIED:20250904T071148Z
UID:10006389-1759473000-1759475700@littlebigfoundation.org
SUMMARY:Outdoor Fitness Class
DESCRIPTION:
URL:https://littlebigfoundation.org/event/outdoor-fitness-class/2025-10-03/
LOCATION:Harvest Park\, Summer Hill\, 16 Flour Mill Way\, Summer Hill\, Sydney\, NSW\, 2130\, Australia
CATEGORIES:Fitness & Wellness,Free
ATTACH;FMTTYPE=image/png:https://littlebigfoundation.org/wp-content/uploads/Screenshot-2024-01-17-at-01.06.50.png
END:VEVENT
BEGIN:VEVENT
DTSTART;TZID=Australia/Sydney:20251001T063000
DTEND;TZID=Australia/Sydney:20251001T071500
DTSTAMP:20260426T081204
CREATED:20250523T010951Z
LAST-MODIFIED:20250904T071148Z
UID:10006388-1759300200-1759302900@littlebigfoundation.org
SUMMARY:Outdoor Fitness Class
DESCRIPTION:
URL:https://littlebigfoundation.org/event/outdoor-fitness-class/2025-10-01/
LOCATION:Harvest Park\, Summer Hill\, 16 Flour Mill Way\, Summer Hill\, Sydney\, NSW\, 2130\, Australia
CATEGORIES:Fitness & Wellness,Free
ATTACH;FMTTYPE=image/png:https://littlebigfoundation.org/wp-content/uploads/Screenshot-2024-01-17-at-01.06.50.png
END:VEVENT
BEGIN:VEVENT
DTSTART;TZID=Australia/Sydney:20250929T063000
DTEND;TZID=Australia/Sydney:20250929T071500
DTSTAMP:20260426T081204
CREATED:20250523T010951Z
LAST-MODIFIED:20250904T071148Z
UID:10006387-1759127400-1759130100@littlebigfoundation.org
SUMMARY:Outdoor Fitness Class
DESCRIPTION:
URL:https://littlebigfoundation.org/event/outdoor-fitness-class/2025-09-29/
LOCATION:Harvest Park\, Summer Hill\, 16 Flour Mill Way\, Summer Hill\, Sydney\, NSW\, 2130\, Australia
CATEGORIES:Fitness & Wellness,Free
ATTACH;FMTTYPE=image/png:https://littlebigfoundation.org/wp-content/uploads/Screenshot-2024-01-17-at-01.06.50.png
END:VEVENT
BEGIN:VEVENT
DTSTART;TZID=Australia/Sydney:20250926T063000
DTEND;TZID=Australia/Sydney:20250926T071500
DTSTAMP:20260426T081204
CREATED:20250523T010951Z
LAST-MODIFIED:20250904T071148Z
UID:10006386-1758868200-1758870900@littlebigfoundation.org
SUMMARY:Outdoor Fitness Class
DESCRIPTION:
URL:https://littlebigfoundation.org/event/outdoor-fitness-class/2025-09-26/
LOCATION:Harvest Park\, Summer Hill\, 16 Flour Mill Way\, Summer Hill\, Sydney\, NSW\, 2130\, Australia
CATEGORIES:Fitness & Wellness,Free
ATTACH;FMTTYPE=image/png:https://littlebigfoundation.org/wp-content/uploads/Screenshot-2024-01-17-at-01.06.50.png
END:VEVENT
BEGIN:VEVENT
DTSTART;TZID=Australia/Sydney:20250924T063000
DTEND;TZID=Australia/Sydney:20250924T071500
DTSTAMP:20260426T081204
CREATED:20250523T010951Z
LAST-MODIFIED:20250904T071148Z
UID:10006385-1758695400-1758698100@littlebigfoundation.org
SUMMARY:Outdoor Fitness Class
DESCRIPTION:
URL:https://littlebigfoundation.org/event/outdoor-fitness-class/2025-09-24/
LOCATION:Harvest Park\, Summer Hill\, 16 Flour Mill Way\, Summer Hill\, Sydney\, NSW\, 2130\, Australia
CATEGORIES:Fitness & Wellness,Free
ATTACH;FMTTYPE=image/png:https://littlebigfoundation.org/wp-content/uploads/Screenshot-2024-01-17-at-01.06.50.png
END:VEVENT
BEGIN:VEVENT
DTSTART;TZID=Australia/Sydney:20250922T063000
DTEND;TZID=Australia/Sydney:20250922T071500
DTSTAMP:20260426T081204
CREATED:20250523T010951Z
LAST-MODIFIED:20250904T071148Z
UID:10006384-1758522600-1758525300@littlebigfoundation.org
SUMMARY:Outdoor Fitness Class
DESCRIPTION:
URL:https://littlebigfoundation.org/event/outdoor-fitness-class/2025-09-22/
LOCATION:Harvest Park\, Summer Hill\, 16 Flour Mill Way\, Summer Hill\, Sydney\, NSW\, 2130\, Australia
CATEGORIES:Fitness & Wellness,Free
ATTACH;FMTTYPE=image/png:https://littlebigfoundation.org/wp-content/uploads/Screenshot-2024-01-17-at-01.06.50.png
END:VEVENT
BEGIN:VEVENT
DTSTART;TZID=Australia/Sydney:20250919T063000
DTEND;TZID=Australia/Sydney:20250919T071500
DTSTAMP:20260426T081204
CREATED:20250523T010951Z
LAST-MODIFIED:20250904T071148Z
UID:10006383-1758263400-1758266100@littlebigfoundation.org
SUMMARY:Outdoor Fitness Class
DESCRIPTION:
URL:https://littlebigfoundation.org/event/outdoor-fitness-class/2025-09-19/
LOCATION:Harvest Park\, Summer Hill\, 16 Flour Mill Way\, Summer Hill\, Sydney\, NSW\, 2130\, Australia
CATEGORIES:Fitness & Wellness,Free
ATTACH;FMTTYPE=image/png:https://littlebigfoundation.org/wp-content/uploads/Screenshot-2024-01-17-at-01.06.50.png
END:VEVENT
BEGIN:VEVENT
DTSTART;TZID=Australia/Sydney:20250917T063000
DTEND;TZID=Australia/Sydney:20250917T071500
DTSTAMP:20260426T081204
CREATED:20250523T010951Z
LAST-MODIFIED:20250904T071148Z
UID:10006382-1758090600-1758093300@littlebigfoundation.org
SUMMARY:Outdoor Fitness Class
DESCRIPTION:
URL:https://littlebigfoundation.org/event/outdoor-fitness-class/2025-09-17/
LOCATION:Harvest Park\, Summer Hill\, 16 Flour Mill Way\, Summer Hill\, Sydney\, NSW\, 2130\, Australia
CATEGORIES:Fitness & Wellness,Free
ATTACH;FMTTYPE=image/png:https://littlebigfoundation.org/wp-content/uploads/Screenshot-2024-01-17-at-01.06.50.png
END:VEVENT
BEGIN:VEVENT
DTSTART;TZID=Australia/Sydney:20250915T063000
DTEND;TZID=Australia/Sydney:20250915T071500
DTSTAMP:20260426T081204
CREATED:20250523T010951Z
LAST-MODIFIED:20250904T071148Z
UID:10006381-1757917800-1757920500@littlebigfoundation.org
SUMMARY:Outdoor Fitness Class
DESCRIPTION:
URL:https://littlebigfoundation.org/event/outdoor-fitness-class/2025-09-15/
LOCATION:Harvest Park\, Summer Hill\, 16 Flour Mill Way\, Summer Hill\, Sydney\, NSW\, 2130\, Australia
CATEGORIES:Fitness & Wellness,Free
ATTACH;FMTTYPE=image/png:https://littlebigfoundation.org/wp-content/uploads/Screenshot-2024-01-17-at-01.06.50.png
END:VEVENT
BEGIN:VEVENT
DTSTART;TZID=Australia/Sydney:20250912T063000
DTEND;TZID=Australia/Sydney:20250912T071500
DTSTAMP:20260426T081204
CREATED:20250523T010951Z
LAST-MODIFIED:20250904T071148Z
UID:10006380-1757658600-1757661300@littlebigfoundation.org
SUMMARY:Outdoor Fitness Class
DESCRIPTION:
URL:https://littlebigfoundation.org/event/outdoor-fitness-class/2025-09-12/
LOCATION:Harvest Park\, Summer Hill\, 16 Flour Mill Way\, Summer Hill\, Sydney\, NSW\, 2130\, Australia
CATEGORIES:Fitness & Wellness,Free
ATTACH;FMTTYPE=image/png:https://littlebigfoundation.org/wp-content/uploads/Screenshot-2024-01-17-at-01.06.50.png
END:VEVENT
BEGIN:VEVENT
DTSTART;TZID=Australia/Sydney:20250910T063000
DTEND;TZID=Australia/Sydney:20250910T071500
DTSTAMP:20260426T081204
CREATED:20250523T010951Z
LAST-MODIFIED:20250904T071148Z
UID:10006379-1757485800-1757488500@littlebigfoundation.org
SUMMARY:Outdoor Fitness Class
DESCRIPTION:
URL:https://littlebigfoundation.org/event/outdoor-fitness-class/2025-09-10/
LOCATION:Harvest Park\, Summer Hill\, 16 Flour Mill Way\, Summer Hill\, Sydney\, NSW\, 2130\, Australia
CATEGORIES:Fitness & Wellness,Free
ATTACH;FMTTYPE=image/png:https://littlebigfoundation.org/wp-content/uploads/Screenshot-2024-01-17-at-01.06.50.png
END:VEVENT
BEGIN:VEVENT
DTSTART;TZID=Australia/Sydney:20250908T063000
DTEND;TZID=Australia/Sydney:20250908T071500
DTSTAMP:20260426T081204
CREATED:20250523T010951Z
LAST-MODIFIED:20250904T071148Z
UID:10006378-1757313000-1757315700@littlebigfoundation.org
SUMMARY:Outdoor Fitness Class
DESCRIPTION:
URL:https://littlebigfoundation.org/event/outdoor-fitness-class/2025-09-08/
LOCATION:Harvest Park\, Summer Hill\, 16 Flour Mill Way\, Summer Hill\, Sydney\, NSW\, 2130\, Australia
CATEGORIES:Fitness & Wellness,Free
ATTACH;FMTTYPE=image/png:https://littlebigfoundation.org/wp-content/uploads/Screenshot-2024-01-17-at-01.06.50.png
END:VEVENT
BEGIN:VEVENT
DTSTART;TZID=Australia/Sydney:20250905T063000
DTEND;TZID=Australia/Sydney:20250905T071500
DTSTAMP:20260426T081204
CREATED:20250523T010951Z
LAST-MODIFIED:20250904T071148Z
UID:10006377-1757053800-1757056500@littlebigfoundation.org
SUMMARY:Outdoor Fitness Class
DESCRIPTION:
URL:https://littlebigfoundation.org/event/outdoor-fitness-class/2025-09-05/
LOCATION:Harvest Park\, Summer Hill\, 16 Flour Mill Way\, Summer Hill\, Sydney\, NSW\, 2130\, Australia
CATEGORIES:Fitness & Wellness,Free
ATTACH;FMTTYPE=image/png:https://littlebigfoundation.org/wp-content/uploads/Screenshot-2024-01-17-at-01.06.50.png
END:VEVENT
BEGIN:VEVENT
DTSTART;TZID=Australia/Sydney:20250903T063000
DTEND;TZID=Australia/Sydney:20250903T071500
DTSTAMP:20260426T081204
CREATED:20250523T010951Z
LAST-MODIFIED:20250904T071148Z
UID:10006376-1756881000-1756883700@littlebigfoundation.org
SUMMARY:Outdoor Fitness Class
DESCRIPTION:
URL:https://littlebigfoundation.org/event/outdoor-fitness-class/2025-09-03/
LOCATION:Harvest Park\, Summer Hill\, 16 Flour Mill Way\, Summer Hill\, Sydney\, NSW\, 2130\, Australia
CATEGORIES:Fitness & Wellness,Free
ATTACH;FMTTYPE=image/png:https://littlebigfoundation.org/wp-content/uploads/Screenshot-2024-01-17-at-01.06.50.png
END:VEVENT
BEGIN:VEVENT
DTSTART;TZID=Australia/Sydney:20250901T063000
DTEND;TZID=Australia/Sydney:20250901T071500
DTSTAMP:20260426T081204
CREATED:20250523T010951Z
LAST-MODIFIED:20250904T071148Z
UID:10006375-1756708200-1756710900@littlebigfoundation.org
SUMMARY:Outdoor Fitness Class
DESCRIPTION:
URL:https://littlebigfoundation.org/event/outdoor-fitness-class/2025-09-01/
LOCATION:Harvest Park\, Summer Hill\, 16 Flour Mill Way\, Summer Hill\, Sydney\, NSW\, 2130\, Australia
CATEGORIES:Fitness & Wellness,Free
ATTACH;FMTTYPE=image/png:https://littlebigfoundation.org/wp-content/uploads/Screenshot-2024-01-17-at-01.06.50.png
END:VEVENT
BEGIN:VEVENT
DTSTART;TZID=Australia/Sydney:20250829T063000
DTEND;TZID=Australia/Sydney:20250829T071500
DTSTAMP:20260426T081204
CREATED:20250523T010951Z
LAST-MODIFIED:20250904T071148Z
UID:10006374-1756449000-1756451700@littlebigfoundation.org
SUMMARY:Outdoor Fitness Class
DESCRIPTION:
URL:https://littlebigfoundation.org/event/outdoor-fitness-class/2025-08-29/
LOCATION:Harvest Park\, Summer Hill\, 16 Flour Mill Way\, Summer Hill\, Sydney\, NSW\, 2130\, Australia
CATEGORIES:Fitness & Wellness,Free
ATTACH;FMTTYPE=image/png:https://littlebigfoundation.org/wp-content/uploads/Screenshot-2024-01-17-at-01.06.50.png
END:VEVENT
BEGIN:VEVENT
DTSTART;TZID=Australia/Sydney:20250827T063000
DTEND;TZID=Australia/Sydney:20250827T071500
DTSTAMP:20260426T081204
CREATED:20250523T010951Z
LAST-MODIFIED:20250904T071148Z
UID:10006373-1756276200-1756278900@littlebigfoundation.org
SUMMARY:Outdoor Fitness Class
DESCRIPTION:
URL:https://littlebigfoundation.org/event/outdoor-fitness-class/2025-08-27/
LOCATION:Harvest Park\, Summer Hill\, 16 Flour Mill Way\, Summer Hill\, Sydney\, NSW\, 2130\, Australia
CATEGORIES:Fitness & Wellness,Free
ATTACH;FMTTYPE=image/png:https://littlebigfoundation.org/wp-content/uploads/Screenshot-2024-01-17-at-01.06.50.png
END:VEVENT
BEGIN:VEVENT
DTSTART;TZID=Australia/Sydney:20250825T063000
DTEND;TZID=Australia/Sydney:20250825T071500
DTSTAMP:20260426T081204
CREATED:20250523T010951Z
LAST-MODIFIED:20250904T071148Z
UID:10006372-1756103400-1756106100@littlebigfoundation.org
SUMMARY:Outdoor Fitness Class
DESCRIPTION:
URL:https://littlebigfoundation.org/event/outdoor-fitness-class/2025-08-25/
LOCATION:Harvest Park\, Summer Hill\, 16 Flour Mill Way\, Summer Hill\, Sydney\, NSW\, 2130\, Australia
CATEGORIES:Fitness & Wellness,Free
ATTACH;FMTTYPE=image/png:https://littlebigfoundation.org/wp-content/uploads/Screenshot-2024-01-17-at-01.06.50.png
END:VEVENT
END:VCALENDAR