BEGIN:VCALENDAR
VERSION:2.0
PRODID:-//Little BIG - ECPv6.15.20//NONSGML v1.0//EN
CALSCALE:GREGORIAN
METHOD:PUBLISH
X-WR-CALNAME:Little BIG
X-ORIGINAL-URL:https://littlebigfoundation.org
X-WR-CALDESC:Events for Little BIG
REFRESH-INTERVAL;VALUE=DURATION:PT1H
X-Robots-Tag:noindex
X-PUBLISHED-TTL:PT1H
BEGIN:VTIMEZONE
TZID:Australia/Sydney
BEGIN:STANDARD
TZOFFSETFROM:+1100
TZOFFSETTO:+1000
TZNAME:AEST
DTSTART:20240406T160000
END:STANDARD
BEGIN:DAYLIGHT
TZOFFSETFROM:+1000
TZOFFSETTO:+1100
TZNAME:AEDT
DTSTART:20241005T160000
END:DAYLIGHT
BEGIN:STANDARD
TZOFFSETFROM:+1100
TZOFFSETTO:+1000
TZNAME:AEST
DTSTART:20250405T160000
END:STANDARD
BEGIN:DAYLIGHT
TZOFFSETFROM:+1000
TZOFFSETTO:+1100
TZNAME:AEDT
DTSTART:20251004T160000
END:DAYLIGHT
BEGIN:STANDARD
TZOFFSETFROM:+1100
TZOFFSETTO:+1000
TZNAME:AEST
DTSTART:20260404T160000
END:STANDARD
BEGIN:DAYLIGHT
TZOFFSETFROM:+1000
TZOFFSETTO:+1100
TZNAME:AEDT
DTSTART:20261003T160000
END:DAYLIGHT
BEGIN:STANDARD
TZOFFSETFROM:+1100
TZOFFSETTO:+1000
TZNAME:AEST
DTSTART:20270403T160000
END:STANDARD
BEGIN:DAYLIGHT
TZOFFSETFROM:+1000
TZOFFSETTO:+1100
TZNAME:AEDT
DTSTART:20271002T160000
END:DAYLIGHT
END:VTIMEZONE
BEGIN:VEVENT
DTSTART;TZID=Australia/Sydney:20260202T063000
DTEND;TZID=Australia/Sydney:20260202T071500
DTSTAMP:20260426T014702
CREATED:20251205T051919Z
LAST-MODIFIED:20260407T015933Z
UID:10012303-1770013800-1770016500@littlebigfoundation.org
SUMMARY:Outdoor Fitness Class
DESCRIPTION:
URL:https://littlebigfoundation.org/event/outdoor-fitness-class-2/2026-02-02/
LOCATION:Harvest Park\, Summer Hill\, 16 Flour Mill Way\, Summer Hill\, Sydney\, NSW\, 2130\, Australia
CATEGORIES:Fitness & Wellness,Free
ATTACH;FMTTYPE=image/png:https://littlebigfoundation.org/wp-content/uploads/Screenshot-2024-01-17-at-01.06.50.png
END:VEVENT
BEGIN:VEVENT
DTSTART;TZID=Australia/Sydney:20260130T063000
DTEND;TZID=Australia/Sydney:20260130T071500
DTSTAMP:20260426T014702
CREATED:20251205T051919Z
LAST-MODIFIED:20260407T015933Z
UID:10012302-1769754600-1769757300@littlebigfoundation.org
SUMMARY:Outdoor Fitness Class
DESCRIPTION:
URL:https://littlebigfoundation.org/event/outdoor-fitness-class-2/2026-01-30/
LOCATION:Harvest Park\, Summer Hill\, 16 Flour Mill Way\, Summer Hill\, Sydney\, NSW\, 2130\, Australia
CATEGORIES:Fitness & Wellness,Free
ATTACH;FMTTYPE=image/png:https://littlebigfoundation.org/wp-content/uploads/Screenshot-2024-01-17-at-01.06.50.png
END:VEVENT
BEGIN:VEVENT
DTSTART;TZID=Australia/Sydney:20260129T100000
DTEND;TZID=Australia/Sydney:20260129T104500
DTSTAMP:20260426T014702
CREATED:20251218T022224Z
LAST-MODIFIED:20260318T033538Z
UID:10015090-1769680800-1769683500@littlebigfoundation.org
SUMMARY:Outdoor Yoga
DESCRIPTION:
URL:https://littlebigfoundation.org/event/free-outdoor-yoga/2026-01-29/
LOCATION:Harvest Park\, Summer Hill\, 16 Flour Mill Way\, Summer Hill\, Sydney\, NSW\, 2130\, Australia
CATEGORIES:Fitness & Wellness,Free
ATTACH;FMTTYPE=image/jpeg:https://littlebigfoundation.org/wp-content/uploads/20231010_1113492-scaled-1.jpg
END:VEVENT
BEGIN:VEVENT
DTSTART;TZID=Australia/Sydney:20260128T063000
DTEND;TZID=Australia/Sydney:20260128T071500
DTSTAMP:20260426T014702
CREATED:20251205T051919Z
LAST-MODIFIED:20260407T015933Z
UID:10012301-1769581800-1769584500@littlebigfoundation.org
SUMMARY:Outdoor Fitness Class
DESCRIPTION:
URL:https://littlebigfoundation.org/event/outdoor-fitness-class-2/2026-01-28/
LOCATION:Harvest Park\, Summer Hill\, 16 Flour Mill Way\, Summer Hill\, Sydney\, NSW\, 2130\, Australia
CATEGORIES:Fitness & Wellness,Free
ATTACH;FMTTYPE=image/png:https://littlebigfoundation.org/wp-content/uploads/Screenshot-2024-01-17-at-01.06.50.png
END:VEVENT
BEGIN:VEVENT
DTSTART;TZID=Australia/Sydney:20260126T063000
DTEND;TZID=Australia/Sydney:20260126T071500
DTSTAMP:20260426T014702
CREATED:20251205T051919Z
LAST-MODIFIED:20260407T015933Z
UID:10012300-1769409000-1769411700@littlebigfoundation.org
SUMMARY:Outdoor Fitness Class
DESCRIPTION:
URL:https://littlebigfoundation.org/event/outdoor-fitness-class-2/2026-01-26/
LOCATION:Harvest Park\, Summer Hill\, 16 Flour Mill Way\, Summer Hill\, Sydney\, NSW\, 2130\, Australia
CATEGORIES:Fitness & Wellness,Free
ATTACH;FMTTYPE=image/png:https://littlebigfoundation.org/wp-content/uploads/Screenshot-2024-01-17-at-01.06.50.png
END:VEVENT
BEGIN:VEVENT
DTSTART;TZID=Australia/Sydney:20260123T063000
DTEND;TZID=Australia/Sydney:20260123T071500
DTSTAMP:20260426T014702
CREATED:20251205T051919Z
LAST-MODIFIED:20260407T015933Z
UID:10011210-1769149800-1769152500@littlebigfoundation.org
SUMMARY:Outdoor Fitness Class
DESCRIPTION:
URL:https://littlebigfoundation.org/event/outdoor-fitness-class-2/2026-01-23/
LOCATION:Harvest Park\, Summer Hill\, 16 Flour Mill Way\, Summer Hill\, Sydney\, NSW\, 2130\, Australia
CATEGORIES:Fitness & Wellness,Free
ATTACH;FMTTYPE=image/png:https://littlebigfoundation.org/wp-content/uploads/Screenshot-2024-01-17-at-01.06.50.png
END:VEVENT
BEGIN:VEVENT
DTSTART;TZID=Australia/Sydney:20260122T100000
DTEND;TZID=Australia/Sydney:20260122T104500
DTSTAMP:20260426T014702
CREATED:20251218T022224Z
LAST-MODIFIED:20260318T033538Z
UID:10015089-1769076000-1769078700@littlebigfoundation.org
SUMMARY:Outdoor Yoga
DESCRIPTION:
URL:https://littlebigfoundation.org/event/free-outdoor-yoga/2026-01-22/
LOCATION:Harvest Park\, Summer Hill\, 16 Flour Mill Way\, Summer Hill\, Sydney\, NSW\, 2130\, Australia
CATEGORIES:Fitness & Wellness,Free
ATTACH;FMTTYPE=image/jpeg:https://littlebigfoundation.org/wp-content/uploads/20231010_1113492-scaled-1.jpg
END:VEVENT
BEGIN:VEVENT
DTSTART;TZID=Australia/Sydney:20260121T063000
DTEND;TZID=Australia/Sydney:20260121T071500
DTSTAMP:20260426T014702
CREATED:20251205T051919Z
LAST-MODIFIED:20260407T015933Z
UID:10011209-1768977000-1768979700@littlebigfoundation.org
SUMMARY:Outdoor Fitness Class
DESCRIPTION:
URL:https://littlebigfoundation.org/event/outdoor-fitness-class-2/2026-01-21/
LOCATION:Harvest Park\, Summer Hill\, 16 Flour Mill Way\, Summer Hill\, Sydney\, NSW\, 2130\, Australia
CATEGORIES:Fitness & Wellness,Free
ATTACH;FMTTYPE=image/png:https://littlebigfoundation.org/wp-content/uploads/Screenshot-2024-01-17-at-01.06.50.png
END:VEVENT
BEGIN:VEVENT
DTSTART;TZID=Australia/Sydney:20260119T063000
DTEND;TZID=Australia/Sydney:20260119T071500
DTSTAMP:20260426T014702
CREATED:20251205T051919Z
LAST-MODIFIED:20260407T015933Z
UID:10011208-1768804200-1768806900@littlebigfoundation.org
SUMMARY:Outdoor Fitness Class
DESCRIPTION:
URL:https://littlebigfoundation.org/event/outdoor-fitness-class-2/2026-01-19/
LOCATION:Harvest Park\, Summer Hill\, 16 Flour Mill Way\, Summer Hill\, Sydney\, NSW\, 2130\, Australia
CATEGORIES:Fitness & Wellness,Free
ATTACH;FMTTYPE=image/png:https://littlebigfoundation.org/wp-content/uploads/Screenshot-2024-01-17-at-01.06.50.png
END:VEVENT
BEGIN:VEVENT
DTSTART;TZID=Australia/Sydney:20260116T063000
DTEND;TZID=Australia/Sydney:20260116T071500
DTSTAMP:20260426T014702
CREATED:20251205T051919Z
LAST-MODIFIED:20260407T015933Z
UID:10011207-1768545000-1768547700@littlebigfoundation.org
SUMMARY:Outdoor Fitness Class
DESCRIPTION:
URL:https://littlebigfoundation.org/event/outdoor-fitness-class-2/2026-01-16/
LOCATION:Harvest Park\, Summer Hill\, 16 Flour Mill Way\, Summer Hill\, Sydney\, NSW\, 2130\, Australia
CATEGORIES:Fitness & Wellness,Free
ATTACH;FMTTYPE=image/png:https://littlebigfoundation.org/wp-content/uploads/Screenshot-2024-01-17-at-01.06.50.png
END:VEVENT
BEGIN:VEVENT
DTSTART;TZID=Australia/Sydney:20260115T100000
DTEND;TZID=Australia/Sydney:20260115T104500
DTSTAMP:20260426T014702
CREATED:20251218T022224Z
LAST-MODIFIED:20260318T033538Z
UID:10015088-1768471200-1768473900@littlebigfoundation.org
SUMMARY:Outdoor Yoga
DESCRIPTION:
URL:https://littlebigfoundation.org/event/free-outdoor-yoga/2026-01-15/
LOCATION:Harvest Park\, Summer Hill\, 16 Flour Mill Way\, Summer Hill\, Sydney\, NSW\, 2130\, Australia
CATEGORIES:Fitness & Wellness,Free
ATTACH;FMTTYPE=image/jpeg:https://littlebigfoundation.org/wp-content/uploads/20231010_1113492-scaled-1.jpg
END:VEVENT
BEGIN:VEVENT
DTSTART;TZID=Australia/Sydney:20260114T063000
DTEND;TZID=Australia/Sydney:20260114T071500
DTSTAMP:20260426T014702
CREATED:20251205T051919Z
LAST-MODIFIED:20260407T015933Z
UID:10011206-1768372200-1768374900@littlebigfoundation.org
SUMMARY:Outdoor Fitness Class
DESCRIPTION:
URL:https://littlebigfoundation.org/event/outdoor-fitness-class-2/2026-01-14/
LOCATION:Harvest Park\, Summer Hill\, 16 Flour Mill Way\, Summer Hill\, Sydney\, NSW\, 2130\, Australia
CATEGORIES:Fitness & Wellness,Free
ATTACH;FMTTYPE=image/png:https://littlebigfoundation.org/wp-content/uploads/Screenshot-2024-01-17-at-01.06.50.png
END:VEVENT
BEGIN:VEVENT
DTSTART;TZID=Australia/Sydney:20260112T063000
DTEND;TZID=Australia/Sydney:20260112T071500
DTSTAMP:20260426T014702
CREATED:20251205T051919Z
LAST-MODIFIED:20260407T015933Z
UID:10011205-1768199400-1768202100@littlebigfoundation.org
SUMMARY:Outdoor Fitness Class
DESCRIPTION:
URL:https://littlebigfoundation.org/event/outdoor-fitness-class-2/2026-01-12/
LOCATION:Harvest Park\, Summer Hill\, 16 Flour Mill Way\, Summer Hill\, Sydney\, NSW\, 2130\, Australia
CATEGORIES:Fitness & Wellness,Free
ATTACH;FMTTYPE=image/png:https://littlebigfoundation.org/wp-content/uploads/Screenshot-2024-01-17-at-01.06.50.png
END:VEVENT
BEGIN:VEVENT
DTSTART;TZID=Australia/Sydney:20260109T063000
DTEND;TZID=Australia/Sydney:20260109T071500
DTSTAMP:20260426T014702
CREATED:20251205T051919Z
LAST-MODIFIED:20260407T015933Z
UID:10011204-1767940200-1767942900@littlebigfoundation.org
SUMMARY:Outdoor Fitness Class
DESCRIPTION:
URL:https://littlebigfoundation.org/event/outdoor-fitness-class-2/2026-01-09/
LOCATION:Harvest Park\, Summer Hill\, 16 Flour Mill Way\, Summer Hill\, Sydney\, NSW\, 2130\, Australia
CATEGORIES:Fitness & Wellness,Free
ATTACH;FMTTYPE=image/png:https://littlebigfoundation.org/wp-content/uploads/Screenshot-2024-01-17-at-01.06.50.png
END:VEVENT
BEGIN:VEVENT
DTSTART;TZID=Australia/Sydney:20260108T100000
DTEND;TZID=Australia/Sydney:20260108T104500
DTSTAMP:20260426T014702
CREATED:20251218T022224Z
LAST-MODIFIED:20260318T033538Z
UID:10015087-1767866400-1767869100@littlebigfoundation.org
SUMMARY:Outdoor Yoga
DESCRIPTION:
URL:https://littlebigfoundation.org/event/free-outdoor-yoga/2026-01-08/
LOCATION:Harvest Park\, Summer Hill\, 16 Flour Mill Way\, Summer Hill\, Sydney\, NSW\, 2130\, Australia
CATEGORIES:Fitness & Wellness,Free
ATTACH;FMTTYPE=image/jpeg:https://littlebigfoundation.org/wp-content/uploads/20231010_1113492-scaled-1.jpg
END:VEVENT
BEGIN:VEVENT
DTSTART;TZID=Australia/Sydney:20260107T063000
DTEND;TZID=Australia/Sydney:20260107T071500
DTSTAMP:20260426T014702
CREATED:20251205T051919Z
LAST-MODIFIED:20260407T015933Z
UID:10011203-1767767400-1767770100@littlebigfoundation.org
SUMMARY:Outdoor Fitness Class
DESCRIPTION:
URL:https://littlebigfoundation.org/event/outdoor-fitness-class-2/2026-01-07/
LOCATION:Harvest Park\, Summer Hill\, 16 Flour Mill Way\, Summer Hill\, Sydney\, NSW\, 2130\, Australia
CATEGORIES:Fitness & Wellness,Free
ATTACH;FMTTYPE=image/png:https://littlebigfoundation.org/wp-content/uploads/Screenshot-2024-01-17-at-01.06.50.png
END:VEVENT
BEGIN:VEVENT
DTSTART;TZID=Australia/Sydney:20260105T063000
DTEND;TZID=Australia/Sydney:20260105T071500
DTSTAMP:20260426T014702
CREATED:20251205T051919Z
LAST-MODIFIED:20260407T015933Z
UID:10011202-1767594600-1767597300@littlebigfoundation.org
SUMMARY:Outdoor Fitness Class
DESCRIPTION:
URL:https://littlebigfoundation.org/event/outdoor-fitness-class-2/2026-01-05/
LOCATION:Harvest Park\, Summer Hill\, 16 Flour Mill Way\, Summer Hill\, Sydney\, NSW\, 2130\, Australia
CATEGORIES:Fitness & Wellness,Free
ATTACH;FMTTYPE=image/png:https://littlebigfoundation.org/wp-content/uploads/Screenshot-2024-01-17-at-01.06.50.png
END:VEVENT
BEGIN:VEVENT
DTSTART;TZID=Australia/Sydney:20260102T063000
DTEND;TZID=Australia/Sydney:20260102T071500
DTSTAMP:20260426T014702
CREATED:20251205T051919Z
LAST-MODIFIED:20260407T015933Z
UID:10006417-1767335400-1767338100@littlebigfoundation.org
SUMMARY:Outdoor Fitness Class
DESCRIPTION:
URL:https://littlebigfoundation.org/event/outdoor-fitness-class-2/2026-01-02/
LOCATION:Harvest Park\, Summer Hill\, 16 Flour Mill Way\, Summer Hill\, Sydney\, NSW\, 2130\, Australia
CATEGORIES:Fitness & Wellness,Free
ATTACH;FMTTYPE=image/png:https://littlebigfoundation.org/wp-content/uploads/Screenshot-2024-01-17-at-01.06.50.png
END:VEVENT
BEGIN:VEVENT
DTSTART;TZID=Australia/Sydney:20260101T100000
DTEND;TZID=Australia/Sydney:20260101T104500
DTSTAMP:20260426T014702
CREATED:20251218T022224Z
LAST-MODIFIED:20260318T033538Z
UID:10015086-1767261600-1767264300@littlebigfoundation.org
SUMMARY:Outdoor Yoga
DESCRIPTION:
URL:https://littlebigfoundation.org/event/free-outdoor-yoga/2026-01-01/
LOCATION:Harvest Park\, Summer Hill\, 16 Flour Mill Way\, Summer Hill\, Sydney\, NSW\, 2130\, Australia
CATEGORIES:Fitness & Wellness,Free
ATTACH;FMTTYPE=image/jpeg:https://littlebigfoundation.org/wp-content/uploads/20231010_1113492-scaled-1.jpg
END:VEVENT
BEGIN:VEVENT
DTSTART;TZID=Australia/Sydney:20251231T063000
DTEND;TZID=Australia/Sydney:20251231T071500
DTSTAMP:20260426T014702
CREATED:20251205T051919Z
LAST-MODIFIED:20260407T015933Z
UID:10011982-1767162600-1767165300@littlebigfoundation.org
SUMMARY:Outdoor Fitness Class
DESCRIPTION:
URL:https://littlebigfoundation.org/event/outdoor-fitness-class-2/2025-12-31/
LOCATION:Harvest Park\, Summer Hill\, 16 Flour Mill Way\, Summer Hill\, Sydney\, NSW\, 2130\, Australia
CATEGORIES:Fitness & Wellness,Free
ATTACH;FMTTYPE=image/png:https://littlebigfoundation.org/wp-content/uploads/Screenshot-2024-01-17-at-01.06.50.png
END:VEVENT
BEGIN:VEVENT
DTSTART;TZID=Australia/Sydney:20251229T063000
DTEND;TZID=Australia/Sydney:20251229T071500
DTSTAMP:20260426T014702
CREATED:20251205T051919Z
LAST-MODIFIED:20260407T015933Z
UID:10011981-1766989800-1766992500@littlebigfoundation.org
SUMMARY:Outdoor Fitness Class
DESCRIPTION:
URL:https://littlebigfoundation.org/event/outdoor-fitness-class-2/2025-12-29/
LOCATION:Harvest Park\, Summer Hill\, 16 Flour Mill Way\, Summer Hill\, Sydney\, NSW\, 2130\, Australia
CATEGORIES:Fitness & Wellness,Free
ATTACH;FMTTYPE=image/png:https://littlebigfoundation.org/wp-content/uploads/Screenshot-2024-01-17-at-01.06.50.png
END:VEVENT
BEGIN:VEVENT
DTSTART;TZID=Australia/Sydney:20251226T063000
DTEND;TZID=Australia/Sydney:20251226T071500
DTSTAMP:20260426T014702
CREATED:20251205T051919Z
LAST-MODIFIED:20260407T015933Z
UID:10012299-1766730600-1766733300@littlebigfoundation.org
SUMMARY:Outdoor Fitness Class
DESCRIPTION:
URL:https://littlebigfoundation.org/event/outdoor-fitness-class-2/2025-12-26/
LOCATION:Harvest Park\, Summer Hill\, 16 Flour Mill Way\, Summer Hill\, Sydney\, NSW\, 2130\, Australia
CATEGORIES:Fitness & Wellness,Free
ATTACH;FMTTYPE=image/png:https://littlebigfoundation.org/wp-content/uploads/Screenshot-2024-01-17-at-01.06.50.png
END:VEVENT
BEGIN:VEVENT
DTSTART;TZID=Australia/Sydney:20251224T063000
DTEND;TZID=Australia/Sydney:20251224T071500
DTSTAMP:20260426T014702
CREATED:20251207T233536Z
LAST-MODIFIED:20251207T233538Z
UID:10011211-1766557800-1766560500@littlebigfoundation.org
SUMMARY:Outdoor Fitness Class
DESCRIPTION:
URL:https://littlebigfoundation.org/event/outdoor-fitness-class-3/2025-12-24/
LOCATION:Harvest Park\, Summer Hill\, 16 Flour Mill Way\, Summer Hill\, Sydney\, NSW\, 2130\, Australia
CATEGORIES:Fitness & Wellness,Free
ATTACH;FMTTYPE=image/png:https://littlebigfoundation.org/wp-content/uploads/Screenshot-2024-01-17-at-01.06.50.png
END:VEVENT
BEGIN:VEVENT
DTSTART;TZID=Australia/Sydney:20251224T063000
DTEND;TZID=Australia/Sydney:20251224T071500
DTSTAMP:20260426T014702
CREATED:20251205T051919Z
LAST-MODIFIED:20260407T015933Z
UID:10011983-1766557800-1766560500@littlebigfoundation.org
SUMMARY:Outdoor Fitness Class
DESCRIPTION:
URL:https://littlebigfoundation.org/event/outdoor-fitness-class-2/2025-12-24/
LOCATION:Harvest Park\, Summer Hill\, 16 Flour Mill Way\, Summer Hill\, Sydney\, NSW\, 2130\, Australia
CATEGORIES:Fitness & Wellness,Free
ATTACH;FMTTYPE=image/png:https://littlebigfoundation.org/wp-content/uploads/Screenshot-2024-01-17-at-01.06.50.png
END:VEVENT
BEGIN:VEVENT
DTSTART;TZID=Australia/Sydney:20251222T063000
DTEND;TZID=Australia/Sydney:20251222T071500
DTSTAMP:20260426T014702
CREATED:20251205T051919Z
LAST-MODIFIED:20260407T015933Z
UID:10011978-1766385000-1766387700@littlebigfoundation.org
SUMMARY:Outdoor Fitness Class
DESCRIPTION:
URL:https://littlebigfoundation.org/event/outdoor-fitness-class-2/2025-12-22/
LOCATION:Harvest Park\, Summer Hill\, 16 Flour Mill Way\, Summer Hill\, Sydney\, NSW\, 2130\, Australia
CATEGORIES:Fitness & Wellness,Free
ATTACH;FMTTYPE=image/png:https://littlebigfoundation.org/wp-content/uploads/Screenshot-2024-01-17-at-01.06.50.png
END:VEVENT
BEGIN:VEVENT
DTSTART;TZID=Australia/Sydney:20251219T063000
DTEND;TZID=Australia/Sydney:20251219T071500
DTSTAMP:20260426T014702
CREATED:20251205T051919Z
LAST-MODIFIED:20260407T015933Z
UID:10011977-1766125800-1766128500@littlebigfoundation.org
SUMMARY:Outdoor Fitness Class
DESCRIPTION:
URL:https://littlebigfoundation.org/event/outdoor-fitness-class-2/2025-12-19/
LOCATION:Harvest Park\, Summer Hill\, 16 Flour Mill Way\, Summer Hill\, Sydney\, NSW\, 2130\, Australia
CATEGORIES:Fitness & Wellness,Free
ATTACH;FMTTYPE=image/png:https://littlebigfoundation.org/wp-content/uploads/Screenshot-2024-01-17-at-01.06.50.png
END:VEVENT
BEGIN:VEVENT
DTSTART;TZID=Australia/Sydney:20251217T063000
DTEND;TZID=Australia/Sydney:20251217T071500
DTSTAMP:20260426T014702
CREATED:20251205T051919Z
LAST-MODIFIED:20260407T015933Z
UID:10011976-1765953000-1765955700@littlebigfoundation.org
SUMMARY:Outdoor Fitness Class
DESCRIPTION:
URL:https://littlebigfoundation.org/event/outdoor-fitness-class-2/2025-12-17/
LOCATION:Harvest Park\, Summer Hill\, 16 Flour Mill Way\, Summer Hill\, Sydney\, NSW\, 2130\, Australia
CATEGORIES:Fitness & Wellness,Free
ATTACH;FMTTYPE=image/png:https://littlebigfoundation.org/wp-content/uploads/Screenshot-2024-01-17-at-01.06.50.png
END:VEVENT
BEGIN:VEVENT
DTSTART;TZID=Australia/Sydney:20251215T063000
DTEND;TZID=Australia/Sydney:20251215T071500
DTSTAMP:20260426T014702
CREATED:20251205T051919Z
LAST-MODIFIED:20260407T015933Z
UID:10011975-1765780200-1765782900@littlebigfoundation.org
SUMMARY:Outdoor Fitness Class
DESCRIPTION:
URL:https://littlebigfoundation.org/event/outdoor-fitness-class-2/2025-12-15/
LOCATION:Harvest Park\, Summer Hill\, 16 Flour Mill Way\, Summer Hill\, Sydney\, NSW\, 2130\, Australia
CATEGORIES:Fitness & Wellness,Free
ATTACH;FMTTYPE=image/png:https://littlebigfoundation.org/wp-content/uploads/Screenshot-2024-01-17-at-01.06.50.png
END:VEVENT
BEGIN:VEVENT
DTSTART;TZID=Australia/Sydney:20251212T070000
DTEND;TZID=Australia/Sydney:20251212T120000
DTSTAMP:20260426T014702
CREATED:20251126T012328Z
LAST-MODIFIED:20251126T012751Z
UID:10008256-1765522800-1765540800@littlebigfoundation.org
SUMMARY:Christmas Tree Sale
DESCRIPTION:Save the Date! Pick a Tree: Christmas Tree Market at the Flour Mill ⁠⁠Christmas is just around the corner and it’s never too early to plan for the perfect tree! ⁠⁠Save the dates:⁠Friday 5 & 12 December 2025⁠7am – 12pm – no pre-orders so first in best dressed. ⁠Harvest Park\, Flour Mill Way\, Summer Hill⁠⁠Join us at Pick a Tree: Christmas Tree Market\, your go-to destination for a stunning\, fresh Christmas tree.  \n\n\n\nChoose from:⁠🎄 Freshly cut Radiata Pine and Douglas Fir⁠🌿 Potted Blue Spruce\, Douglas Fir\, and White Spruce⁠⁠⁠Walk-ins only — so come early to pick your perfect tree
URL:https://littlebigfoundation.org/event/christmas-tree-sale/2025-12-12/
LOCATION:Harvest Park\, Summer Hill\, 16 Flour Mill Way\, Summer Hill\, Sydney\, NSW\, 2130\, Australia
CATEGORIES:Paid
ATTACH;FMTTYPE=image/jpeg:https://littlebigfoundation.org/wp-content/uploads/Photo-7-12-2023-10-13-12-am.jpg
END:VEVENT
BEGIN:VEVENT
DTSTART;TZID=Australia/Sydney:20251212T063000
DTEND;TZID=Australia/Sydney:20251212T071500
DTSTAMP:20260426T014702
CREATED:20251205T051919Z
LAST-MODIFIED:20260407T015933Z
UID:10011974-1765521000-1765523700@littlebigfoundation.org
SUMMARY:Outdoor Fitness Class
DESCRIPTION:
URL:https://littlebigfoundation.org/event/outdoor-fitness-class-2/2025-12-12/
LOCATION:Harvest Park\, Summer Hill\, 16 Flour Mill Way\, Summer Hill\, Sydney\, NSW\, 2130\, Australia
CATEGORIES:Fitness & Wellness,Free
ATTACH;FMTTYPE=image/png:https://littlebigfoundation.org/wp-content/uploads/Screenshot-2024-01-17-at-01.06.50.png
END:VEVENT
END:VCALENDAR