BEGIN:VCALENDAR
VERSION:2.0
PRODID:-//Little BIG - ECPv6.15.20//NONSGML v1.0//EN
CALSCALE:GREGORIAN
METHOD:PUBLISH
X-WR-CALNAME:Little BIG
X-ORIGINAL-URL:https://littlebigfoundation.org
X-WR-CALDESC:Events for Little BIG
REFRESH-INTERVAL;VALUE=DURATION:PT1H
X-Robots-Tag:noindex
X-PUBLISHED-TTL:PT1H
BEGIN:VTIMEZONE
TZID:Australia/Sydney
BEGIN:STANDARD
TZOFFSETFROM:+1100
TZOFFSETTO:+1000
TZNAME:AEST
DTSTART:20250405T160000
END:STANDARD
BEGIN:DAYLIGHT
TZOFFSETFROM:+1000
TZOFFSETTO:+1100
TZNAME:AEDT
DTSTART:20251004T160000
END:DAYLIGHT
BEGIN:STANDARD
TZOFFSETFROM:+1100
TZOFFSETTO:+1000
TZNAME:AEST
DTSTART:20260404T160000
END:STANDARD
BEGIN:DAYLIGHT
TZOFFSETFROM:+1000
TZOFFSETTO:+1100
TZNAME:AEDT
DTSTART:20261003T160000
END:DAYLIGHT
BEGIN:STANDARD
TZOFFSETFROM:+1100
TZOFFSETTO:+1000
TZNAME:AEST
DTSTART:20270403T160000
END:STANDARD
BEGIN:DAYLIGHT
TZOFFSETFROM:+1000
TZOFFSETTO:+1100
TZNAME:AEDT
DTSTART:20271002T160000
END:DAYLIGHT
END:VTIMEZONE
BEGIN:VEVENT
DTSTART;TZID=Australia/Sydney:20260316T063000
DTEND;TZID=Australia/Sydney:20260316T071500
DTSTAMP:20260425T224141
CREATED:20251205T051919Z
LAST-MODIFIED:20260407T015933Z
UID:10012321-1773642600-1773645300@littlebigfoundation.org
SUMMARY:Outdoor Fitness Class
DESCRIPTION:
URL:https://littlebigfoundation.org/event/outdoor-fitness-class-2/2026-03-16/
LOCATION:Harvest Park\, Summer Hill\, 16 Flour Mill Way\, Summer Hill\, Sydney\, NSW\, 2130\, Australia
CATEGORIES:Fitness & Wellness,Free
ATTACH;FMTTYPE=image/png:https://littlebigfoundation.org/wp-content/uploads/Screenshot-2024-01-17-at-01.06.50.png
END:VEVENT
BEGIN:VEVENT
DTSTART;TZID=Australia/Sydney:20260313T063000
DTEND;TZID=Australia/Sydney:20260313T071500
DTSTAMP:20260425T224141
CREATED:20251205T051919Z
LAST-MODIFIED:20260407T015933Z
UID:10012320-1773383400-1773386100@littlebigfoundation.org
SUMMARY:Outdoor Fitness Class
DESCRIPTION:
URL:https://littlebigfoundation.org/event/outdoor-fitness-class-2/2026-03-13/
LOCATION:Harvest Park\, Summer Hill\, 16 Flour Mill Way\, Summer Hill\, Sydney\, NSW\, 2130\, Australia
CATEGORIES:Fitness & Wellness,Free
ATTACH;FMTTYPE=image/png:https://littlebigfoundation.org/wp-content/uploads/Screenshot-2024-01-17-at-01.06.50.png
END:VEVENT
BEGIN:VEVENT
DTSTART;TZID=Australia/Sydney:20260312T100000
DTEND;TZID=Australia/Sydney:20260312T104500
DTSTAMP:20260425T224141
CREATED:20251218T022224Z
LAST-MODIFIED:20260318T033538Z
UID:10015096-1773309600-1773312300@littlebigfoundation.org
SUMMARY:Outdoor Yoga
DESCRIPTION:
URL:https://littlebigfoundation.org/event/free-outdoor-yoga/2026-03-12/
LOCATION:Harvest Park\, Summer Hill\, 16 Flour Mill Way\, Summer Hill\, Sydney\, NSW\, 2130\, Australia
CATEGORIES:Fitness & Wellness,Free
ATTACH;FMTTYPE=image/jpeg:https://littlebigfoundation.org/wp-content/uploads/20231010_1113492-scaled-1.jpg
END:VEVENT
BEGIN:VEVENT
DTSTART;TZID=Australia/Sydney:20260311T063000
DTEND;TZID=Australia/Sydney:20260311T071500
DTSTAMP:20260425T224141
CREATED:20251205T051919Z
LAST-MODIFIED:20260407T015933Z
UID:10012319-1773210600-1773213300@littlebigfoundation.org
SUMMARY:Outdoor Fitness Class
DESCRIPTION:
URL:https://littlebigfoundation.org/event/outdoor-fitness-class-2/2026-03-11/
LOCATION:Harvest Park\, Summer Hill\, 16 Flour Mill Way\, Summer Hill\, Sydney\, NSW\, 2130\, Australia
CATEGORIES:Fitness & Wellness,Free
ATTACH;FMTTYPE=image/png:https://littlebigfoundation.org/wp-content/uploads/Screenshot-2024-01-17-at-01.06.50.png
END:VEVENT
BEGIN:VEVENT
DTSTART;TZID=Australia/Sydney:20260309T063000
DTEND;TZID=Australia/Sydney:20260309T071500
DTSTAMP:20260425T224141
CREATED:20251205T051919Z
LAST-MODIFIED:20260407T015933Z
UID:10012318-1773037800-1773040500@littlebigfoundation.org
SUMMARY:Outdoor Fitness Class
DESCRIPTION:
URL:https://littlebigfoundation.org/event/outdoor-fitness-class-2/2026-03-09/
LOCATION:Harvest Park\, Summer Hill\, 16 Flour Mill Way\, Summer Hill\, Sydney\, NSW\, 2130\, Australia
CATEGORIES:Fitness & Wellness,Free
ATTACH;FMTTYPE=image/png:https://littlebigfoundation.org/wp-content/uploads/Screenshot-2024-01-17-at-01.06.50.png
END:VEVENT
BEGIN:VEVENT
DTSTART;TZID=Australia/Sydney:20260306T063000
DTEND;TZID=Australia/Sydney:20260306T071500
DTSTAMP:20260425T224141
CREATED:20251205T051919Z
LAST-MODIFIED:20260407T015933Z
UID:10012317-1772778600-1772781300@littlebigfoundation.org
SUMMARY:Outdoor Fitness Class
DESCRIPTION:
URL:https://littlebigfoundation.org/event/outdoor-fitness-class-2/2026-03-06/
LOCATION:Harvest Park\, Summer Hill\, 16 Flour Mill Way\, Summer Hill\, Sydney\, NSW\, 2130\, Australia
CATEGORIES:Fitness & Wellness,Free
ATTACH;FMTTYPE=image/png:https://littlebigfoundation.org/wp-content/uploads/Screenshot-2024-01-17-at-01.06.50.png
END:VEVENT
BEGIN:VEVENT
DTSTART;TZID=Australia/Sydney:20260305T100000
DTEND;TZID=Australia/Sydney:20260305T104500
DTSTAMP:20260425T224141
CREATED:20251218T022224Z
LAST-MODIFIED:20260318T033538Z
UID:10015095-1772704800-1772707500@littlebigfoundation.org
SUMMARY:Outdoor Yoga
DESCRIPTION:
URL:https://littlebigfoundation.org/event/free-outdoor-yoga/2026-03-05/
LOCATION:Harvest Park\, Summer Hill\, 16 Flour Mill Way\, Summer Hill\, Sydney\, NSW\, 2130\, Australia
CATEGORIES:Fitness & Wellness,Free
ATTACH;FMTTYPE=image/jpeg:https://littlebigfoundation.org/wp-content/uploads/20231010_1113492-scaled-1.jpg
END:VEVENT
BEGIN:VEVENT
DTSTART;TZID=Australia/Sydney:20260304T063000
DTEND;TZID=Australia/Sydney:20260304T071500
DTSTAMP:20260425T224141
CREATED:20251205T051919Z
LAST-MODIFIED:20260407T015933Z
UID:10012316-1772605800-1772608500@littlebigfoundation.org
SUMMARY:Outdoor Fitness Class
DESCRIPTION:
URL:https://littlebigfoundation.org/event/outdoor-fitness-class-2/2026-03-04/
LOCATION:Harvest Park\, Summer Hill\, 16 Flour Mill Way\, Summer Hill\, Sydney\, NSW\, 2130\, Australia
CATEGORIES:Fitness & Wellness,Free
ATTACH;FMTTYPE=image/png:https://littlebigfoundation.org/wp-content/uploads/Screenshot-2024-01-17-at-01.06.50.png
END:VEVENT
BEGIN:VEVENT
DTSTART;TZID=Australia/Sydney:20260302T063000
DTEND;TZID=Australia/Sydney:20260302T071500
DTSTAMP:20260425T224141
CREATED:20251205T051919Z
LAST-MODIFIED:20260407T015933Z
UID:10012315-1772433000-1772435700@littlebigfoundation.org
SUMMARY:Outdoor Fitness Class
DESCRIPTION:
URL:https://littlebigfoundation.org/event/outdoor-fitness-class-2/2026-03-02/
LOCATION:Harvest Park\, Summer Hill\, 16 Flour Mill Way\, Summer Hill\, Sydney\, NSW\, 2130\, Australia
CATEGORIES:Fitness & Wellness,Free
ATTACH;FMTTYPE=image/png:https://littlebigfoundation.org/wp-content/uploads/Screenshot-2024-01-17-at-01.06.50.png
END:VEVENT
BEGIN:VEVENT
DTSTART;TZID=Australia/Sydney:20260227T063000
DTEND;TZID=Australia/Sydney:20260227T071500
DTSTAMP:20260425T224141
CREATED:20251205T051919Z
LAST-MODIFIED:20260407T015933Z
UID:10012314-1772173800-1772176500@littlebigfoundation.org
SUMMARY:Outdoor Fitness Class
DESCRIPTION:
URL:https://littlebigfoundation.org/event/outdoor-fitness-class-2/2026-02-27/
LOCATION:Harvest Park\, Summer Hill\, 16 Flour Mill Way\, Summer Hill\, Sydney\, NSW\, 2130\, Australia
CATEGORIES:Fitness & Wellness,Free
ATTACH;FMTTYPE=image/png:https://littlebigfoundation.org/wp-content/uploads/Screenshot-2024-01-17-at-01.06.50.png
END:VEVENT
BEGIN:VEVENT
DTSTART;TZID=Australia/Sydney:20260226T100000
DTEND;TZID=Australia/Sydney:20260226T104500
DTSTAMP:20260425T224141
CREATED:20251218T022224Z
LAST-MODIFIED:20260318T033538Z
UID:10015094-1772100000-1772102700@littlebigfoundation.org
SUMMARY:Outdoor Yoga
DESCRIPTION:
URL:https://littlebigfoundation.org/event/free-outdoor-yoga/2026-02-26/
LOCATION:Harvest Park\, Summer Hill\, 16 Flour Mill Way\, Summer Hill\, Sydney\, NSW\, 2130\, Australia
CATEGORIES:Fitness & Wellness,Free
ATTACH;FMTTYPE=image/jpeg:https://littlebigfoundation.org/wp-content/uploads/20231010_1113492-scaled-1.jpg
END:VEVENT
BEGIN:VEVENT
DTSTART;TZID=Australia/Sydney:20260225T063000
DTEND;TZID=Australia/Sydney:20260225T071500
DTSTAMP:20260425T224141
CREATED:20251205T051919Z
LAST-MODIFIED:20260407T015933Z
UID:10012313-1772001000-1772003700@littlebigfoundation.org
SUMMARY:Outdoor Fitness Class
DESCRIPTION:
URL:https://littlebigfoundation.org/event/outdoor-fitness-class-2/2026-02-25/
LOCATION:Harvest Park\, Summer Hill\, 16 Flour Mill Way\, Summer Hill\, Sydney\, NSW\, 2130\, Australia
CATEGORIES:Fitness & Wellness,Free
ATTACH;FMTTYPE=image/png:https://littlebigfoundation.org/wp-content/uploads/Screenshot-2024-01-17-at-01.06.50.png
END:VEVENT
BEGIN:VEVENT
DTSTART;TZID=Australia/Sydney:20260223T063000
DTEND;TZID=Australia/Sydney:20260223T071500
DTSTAMP:20260425T224141
CREATED:20251205T051919Z
LAST-MODIFIED:20260407T015933Z
UID:10012312-1771828200-1771830900@littlebigfoundation.org
SUMMARY:Outdoor Fitness Class
DESCRIPTION:
URL:https://littlebigfoundation.org/event/outdoor-fitness-class-2/2026-02-23/
LOCATION:Harvest Park\, Summer Hill\, 16 Flour Mill Way\, Summer Hill\, Sydney\, NSW\, 2130\, Australia
CATEGORIES:Fitness & Wellness,Free
ATTACH;FMTTYPE=image/png:https://littlebigfoundation.org/wp-content/uploads/Screenshot-2024-01-17-at-01.06.50.png
END:VEVENT
BEGIN:VEVENT
DTSTART;TZID=Australia/Sydney:20260220T063000
DTEND;TZID=Australia/Sydney:20260220T071500
DTSTAMP:20260425T224141
CREATED:20251205T051919Z
LAST-MODIFIED:20260407T015933Z
UID:10012311-1771569000-1771571700@littlebigfoundation.org
SUMMARY:Outdoor Fitness Class
DESCRIPTION:
URL:https://littlebigfoundation.org/event/outdoor-fitness-class-2/2026-02-20/
LOCATION:Harvest Park\, Summer Hill\, 16 Flour Mill Way\, Summer Hill\, Sydney\, NSW\, 2130\, Australia
CATEGORIES:Fitness & Wellness,Free
ATTACH;FMTTYPE=image/png:https://littlebigfoundation.org/wp-content/uploads/Screenshot-2024-01-17-at-01.06.50.png
END:VEVENT
BEGIN:VEVENT
DTSTART;TZID=Australia/Sydney:20260219T100000
DTEND;TZID=Australia/Sydney:20260219T104500
DTSTAMP:20260425T224141
CREATED:20251218T022224Z
LAST-MODIFIED:20260318T033538Z
UID:10015093-1771495200-1771497900@littlebigfoundation.org
SUMMARY:Outdoor Yoga
DESCRIPTION:
URL:https://littlebigfoundation.org/event/free-outdoor-yoga/2026-02-19/
LOCATION:Harvest Park\, Summer Hill\, 16 Flour Mill Way\, Summer Hill\, Sydney\, NSW\, 2130\, Australia
CATEGORIES:Fitness & Wellness,Free
ATTACH;FMTTYPE=image/jpeg:https://littlebigfoundation.org/wp-content/uploads/20231010_1113492-scaled-1.jpg
END:VEVENT
BEGIN:VEVENT
DTSTART;TZID=Australia/Sydney:20260218T063000
DTEND;TZID=Australia/Sydney:20260218T071500
DTSTAMP:20260425T224141
CREATED:20251205T051919Z
LAST-MODIFIED:20260407T015933Z
UID:10012310-1771396200-1771398900@littlebigfoundation.org
SUMMARY:Outdoor Fitness Class
DESCRIPTION:
URL:https://littlebigfoundation.org/event/outdoor-fitness-class-2/2026-02-18/
LOCATION:Harvest Park\, Summer Hill\, 16 Flour Mill Way\, Summer Hill\, Sydney\, NSW\, 2130\, Australia
CATEGORIES:Fitness & Wellness,Free
ATTACH;FMTTYPE=image/png:https://littlebigfoundation.org/wp-content/uploads/Screenshot-2024-01-17-at-01.06.50.png
END:VEVENT
BEGIN:VEVENT
DTSTART;TZID=Australia/Sydney:20260216T063000
DTEND;TZID=Australia/Sydney:20260216T071500
DTSTAMP:20260425T224141
CREATED:20251205T051919Z
LAST-MODIFIED:20260407T015933Z
UID:10012309-1771223400-1771226100@littlebigfoundation.org
SUMMARY:Outdoor Fitness Class
DESCRIPTION:
URL:https://littlebigfoundation.org/event/outdoor-fitness-class-2/2026-02-16/
LOCATION:Harvest Park\, Summer Hill\, 16 Flour Mill Way\, Summer Hill\, Sydney\, NSW\, 2130\, Australia
CATEGORIES:Fitness & Wellness,Free
ATTACH;FMTTYPE=image/png:https://littlebigfoundation.org/wp-content/uploads/Screenshot-2024-01-17-at-01.06.50.png
END:VEVENT
BEGIN:VEVENT
DTSTART;TZID=Australia/Sydney:20260213T063000
DTEND;TZID=Australia/Sydney:20260213T071500
DTSTAMP:20260425T224141
CREATED:20251205T051919Z
LAST-MODIFIED:20260407T015933Z
UID:10012308-1770964200-1770966900@littlebigfoundation.org
SUMMARY:Outdoor Fitness Class
DESCRIPTION:
URL:https://littlebigfoundation.org/event/outdoor-fitness-class-2/2026-02-13/
LOCATION:Harvest Park\, Summer Hill\, 16 Flour Mill Way\, Summer Hill\, Sydney\, NSW\, 2130\, Australia
CATEGORIES:Fitness & Wellness,Free
ATTACH;FMTTYPE=image/png:https://littlebigfoundation.org/wp-content/uploads/Screenshot-2024-01-17-at-01.06.50.png
END:VEVENT
BEGIN:VEVENT
DTSTART;TZID=Australia/Sydney:20260212T100000
DTEND;TZID=Australia/Sydney:20260212T104500
DTSTAMP:20260425T224141
CREATED:20251218T022224Z
LAST-MODIFIED:20260318T033538Z
UID:10015092-1770890400-1770893100@littlebigfoundation.org
SUMMARY:Outdoor Yoga
DESCRIPTION:
URL:https://littlebigfoundation.org/event/free-outdoor-yoga/2026-02-12/
LOCATION:Harvest Park\, Summer Hill\, 16 Flour Mill Way\, Summer Hill\, Sydney\, NSW\, 2130\, Australia
CATEGORIES:Fitness & Wellness,Free
ATTACH;FMTTYPE=image/jpeg:https://littlebigfoundation.org/wp-content/uploads/20231010_1113492-scaled-1.jpg
END:VEVENT
BEGIN:VEVENT
DTSTART;TZID=Australia/Sydney:20260211T063000
DTEND;TZID=Australia/Sydney:20260211T071500
DTSTAMP:20260425T224141
CREATED:20251205T051919Z
LAST-MODIFIED:20260407T015933Z
UID:10012307-1770791400-1770794100@littlebigfoundation.org
SUMMARY:Outdoor Fitness Class
DESCRIPTION:
URL:https://littlebigfoundation.org/event/outdoor-fitness-class-2/2026-02-11/
LOCATION:Harvest Park\, Summer Hill\, 16 Flour Mill Way\, Summer Hill\, Sydney\, NSW\, 2130\, Australia
CATEGORIES:Fitness & Wellness,Free
ATTACH;FMTTYPE=image/png:https://littlebigfoundation.org/wp-content/uploads/Screenshot-2024-01-17-at-01.06.50.png
END:VEVENT
BEGIN:VEVENT
DTSTART;TZID=Australia/Sydney:20260209T063000
DTEND;TZID=Australia/Sydney:20260209T071500
DTSTAMP:20260425T224141
CREATED:20251205T051919Z
LAST-MODIFIED:20260407T015933Z
UID:10012306-1770618600-1770621300@littlebigfoundation.org
SUMMARY:Outdoor Fitness Class
DESCRIPTION:
URL:https://littlebigfoundation.org/event/outdoor-fitness-class-2/2026-02-09/
LOCATION:Harvest Park\, Summer Hill\, 16 Flour Mill Way\, Summer Hill\, Sydney\, NSW\, 2130\, Australia
CATEGORIES:Fitness & Wellness,Free
ATTACH;FMTTYPE=image/png:https://littlebigfoundation.org/wp-content/uploads/Screenshot-2024-01-17-at-01.06.50.png
END:VEVENT
BEGIN:VEVENT
DTSTART;TZID=Australia/Sydney:20260206T063000
DTEND;TZID=Australia/Sydney:20260206T071500
DTSTAMP:20260425T224141
CREATED:20251205T051919Z
LAST-MODIFIED:20260407T015933Z
UID:10012305-1770359400-1770362100@littlebigfoundation.org
SUMMARY:Outdoor Fitness Class
DESCRIPTION:
URL:https://littlebigfoundation.org/event/outdoor-fitness-class-2/2026-02-06/
LOCATION:Harvest Park\, Summer Hill\, 16 Flour Mill Way\, Summer Hill\, Sydney\, NSW\, 2130\, Australia
CATEGORIES:Fitness & Wellness,Free
ATTACH;FMTTYPE=image/png:https://littlebigfoundation.org/wp-content/uploads/Screenshot-2024-01-17-at-01.06.50.png
END:VEVENT
BEGIN:VEVENT
DTSTART;TZID=Australia/Sydney:20260205T100000
DTEND;TZID=Australia/Sydney:20260205T104500
DTSTAMP:20260425T224141
CREATED:20251218T022224Z
LAST-MODIFIED:20260318T033538Z
UID:10015091-1770285600-1770288300@littlebigfoundation.org
SUMMARY:Outdoor Yoga
DESCRIPTION:
URL:https://littlebigfoundation.org/event/free-outdoor-yoga/2026-02-05/
LOCATION:Harvest Park\, Summer Hill\, 16 Flour Mill Way\, Summer Hill\, Sydney\, NSW\, 2130\, Australia
CATEGORIES:Fitness & Wellness,Free
ATTACH;FMTTYPE=image/jpeg:https://littlebigfoundation.org/wp-content/uploads/20231010_1113492-scaled-1.jpg
END:VEVENT
BEGIN:VEVENT
DTSTART;TZID=Australia/Sydney:20260204T063000
DTEND;TZID=Australia/Sydney:20260204T071500
DTSTAMP:20260425T224141
CREATED:20251205T051919Z
LAST-MODIFIED:20260407T015933Z
UID:10012304-1770186600-1770189300@littlebigfoundation.org
SUMMARY:Outdoor Fitness Class
DESCRIPTION:
URL:https://littlebigfoundation.org/event/outdoor-fitness-class-2/2026-02-04/
LOCATION:Harvest Park\, Summer Hill\, 16 Flour Mill Way\, Summer Hill\, Sydney\, NSW\, 2130\, Australia
CATEGORIES:Fitness & Wellness,Free
ATTACH;FMTTYPE=image/png:https://littlebigfoundation.org/wp-content/uploads/Screenshot-2024-01-17-at-01.06.50.png
END:VEVENT
BEGIN:VEVENT
DTSTART;TZID=Australia/Sydney:20260202T063000
DTEND;TZID=Australia/Sydney:20260202T071500
DTSTAMP:20260425T224141
CREATED:20251205T051919Z
LAST-MODIFIED:20260407T015933Z
UID:10012303-1770013800-1770016500@littlebigfoundation.org
SUMMARY:Outdoor Fitness Class
DESCRIPTION:
URL:https://littlebigfoundation.org/event/outdoor-fitness-class-2/2026-02-02/
LOCATION:Harvest Park\, Summer Hill\, 16 Flour Mill Way\, Summer Hill\, Sydney\, NSW\, 2130\, Australia
CATEGORIES:Fitness & Wellness,Free
ATTACH;FMTTYPE=image/png:https://littlebigfoundation.org/wp-content/uploads/Screenshot-2024-01-17-at-01.06.50.png
END:VEVENT
BEGIN:VEVENT
DTSTART;TZID=Australia/Sydney:20260130T063000
DTEND;TZID=Australia/Sydney:20260130T071500
DTSTAMP:20260425T224141
CREATED:20251205T051919Z
LAST-MODIFIED:20260407T015933Z
UID:10012302-1769754600-1769757300@littlebigfoundation.org
SUMMARY:Outdoor Fitness Class
DESCRIPTION:
URL:https://littlebigfoundation.org/event/outdoor-fitness-class-2/2026-01-30/
LOCATION:Harvest Park\, Summer Hill\, 16 Flour Mill Way\, Summer Hill\, Sydney\, NSW\, 2130\, Australia
CATEGORIES:Fitness & Wellness,Free
ATTACH;FMTTYPE=image/png:https://littlebigfoundation.org/wp-content/uploads/Screenshot-2024-01-17-at-01.06.50.png
END:VEVENT
BEGIN:VEVENT
DTSTART;TZID=Australia/Sydney:20260129T100000
DTEND;TZID=Australia/Sydney:20260129T104500
DTSTAMP:20260425T224141
CREATED:20251218T022224Z
LAST-MODIFIED:20260318T033538Z
UID:10015090-1769680800-1769683500@littlebigfoundation.org
SUMMARY:Outdoor Yoga
DESCRIPTION:
URL:https://littlebigfoundation.org/event/free-outdoor-yoga/2026-01-29/
LOCATION:Harvest Park\, Summer Hill\, 16 Flour Mill Way\, Summer Hill\, Sydney\, NSW\, 2130\, Australia
CATEGORIES:Fitness & Wellness,Free
ATTACH;FMTTYPE=image/jpeg:https://littlebigfoundation.org/wp-content/uploads/20231010_1113492-scaled-1.jpg
END:VEVENT
BEGIN:VEVENT
DTSTART;TZID=Australia/Sydney:20260128T063000
DTEND;TZID=Australia/Sydney:20260128T071500
DTSTAMP:20260425T224141
CREATED:20251205T051919Z
LAST-MODIFIED:20260407T015933Z
UID:10012301-1769581800-1769584500@littlebigfoundation.org
SUMMARY:Outdoor Fitness Class
DESCRIPTION:
URL:https://littlebigfoundation.org/event/outdoor-fitness-class-2/2026-01-28/
LOCATION:Harvest Park\, Summer Hill\, 16 Flour Mill Way\, Summer Hill\, Sydney\, NSW\, 2130\, Australia
CATEGORIES:Fitness & Wellness,Free
ATTACH;FMTTYPE=image/png:https://littlebigfoundation.org/wp-content/uploads/Screenshot-2024-01-17-at-01.06.50.png
END:VEVENT
BEGIN:VEVENT
DTSTART;TZID=Australia/Sydney:20260126T063000
DTEND;TZID=Australia/Sydney:20260126T071500
DTSTAMP:20260425T224141
CREATED:20251205T051919Z
LAST-MODIFIED:20260407T015933Z
UID:10012300-1769409000-1769411700@littlebigfoundation.org
SUMMARY:Outdoor Fitness Class
DESCRIPTION:
URL:https://littlebigfoundation.org/event/outdoor-fitness-class-2/2026-01-26/
LOCATION:Harvest Park\, Summer Hill\, 16 Flour Mill Way\, Summer Hill\, Sydney\, NSW\, 2130\, Australia
CATEGORIES:Fitness & Wellness,Free
ATTACH;FMTTYPE=image/png:https://littlebigfoundation.org/wp-content/uploads/Screenshot-2024-01-17-at-01.06.50.png
END:VEVENT
BEGIN:VEVENT
DTSTART;TZID=Australia/Sydney:20260123T063000
DTEND;TZID=Australia/Sydney:20260123T071500
DTSTAMP:20260425T224141
CREATED:20251205T051919Z
LAST-MODIFIED:20260407T015933Z
UID:10011210-1769149800-1769152500@littlebigfoundation.org
SUMMARY:Outdoor Fitness Class
DESCRIPTION:
URL:https://littlebigfoundation.org/event/outdoor-fitness-class-2/2026-01-23/
LOCATION:Harvest Park\, Summer Hill\, 16 Flour Mill Way\, Summer Hill\, Sydney\, NSW\, 2130\, Australia
CATEGORIES:Fitness & Wellness,Free
ATTACH;FMTTYPE=image/png:https://littlebigfoundation.org/wp-content/uploads/Screenshot-2024-01-17-at-01.06.50.png
END:VEVENT
END:VCALENDAR