BEGIN:VCALENDAR
VERSION:2.0
PRODID:-//Little BIG - ECPv6.15.20//NONSGML v1.0//EN
CALSCALE:GREGORIAN
METHOD:PUBLISH
X-ORIGINAL-URL:https://littlebigfoundation.org
X-WR-CALDESC:Events for Little BIG
REFRESH-INTERVAL;VALUE=DURATION:PT1H
X-Robots-Tag:noindex
X-PUBLISHED-TTL:PT1H
BEGIN:VTIMEZONE
TZID:Australia/Sydney
BEGIN:STANDARD
TZOFFSETFROM:+1100
TZOFFSETTO:+1000
TZNAME:AEST
DTSTART:20240406T160000
END:STANDARD
BEGIN:DAYLIGHT
TZOFFSETFROM:+1000
TZOFFSETTO:+1100
TZNAME:AEDT
DTSTART:20241005T160000
END:DAYLIGHT
BEGIN:STANDARD
TZOFFSETFROM:+1100
TZOFFSETTO:+1000
TZNAME:AEST
DTSTART:20250405T160000
END:STANDARD
BEGIN:DAYLIGHT
TZOFFSETFROM:+1000
TZOFFSETTO:+1100
TZNAME:AEDT
DTSTART:20251004T160000
END:DAYLIGHT
BEGIN:STANDARD
TZOFFSETFROM:+1100
TZOFFSETTO:+1000
TZNAME:AEST
DTSTART:20260404T160000
END:STANDARD
BEGIN:DAYLIGHT
TZOFFSETFROM:+1000
TZOFFSETTO:+1100
TZNAME:AEDT
DTSTART:20261003T160000
END:DAYLIGHT
END:VTIMEZONE
BEGIN:VEVENT
DTSTART;TZID=Australia/Sydney:20250905T063000
DTEND;TZID=Australia/Sydney:20250905T071500
DTSTAMP:20260426T112027
CREATED:20250523T010951Z
LAST-MODIFIED:20250904T071148Z
UID:10006377-1757053800-1757056500@littlebigfoundation.org
SUMMARY:Outdoor Fitness Class
DESCRIPTION:
URL:https://littlebigfoundation.org/event/outdoor-fitness-class/2025-09-05/
LOCATION:Harvest Park\, Summer Hill\, 16 Flour Mill Way\, Summer Hill\, Sydney\, NSW\, 2130\, Australia
CATEGORIES:Fitness & Wellness,Free
ATTACH;FMTTYPE=image/png:https://littlebigfoundation.org/wp-content/uploads/Screenshot-2024-01-17-at-01.06.50.png
END:VEVENT
BEGIN:VEVENT
DTSTART;TZID=Australia/Sydney:20250903T063000
DTEND;TZID=Australia/Sydney:20250903T071500
DTSTAMP:20260426T112027
CREATED:20250523T010951Z
LAST-MODIFIED:20250904T071148Z
UID:10006376-1756881000-1756883700@littlebigfoundation.org
SUMMARY:Outdoor Fitness Class
DESCRIPTION:
URL:https://littlebigfoundation.org/event/outdoor-fitness-class/2025-09-03/
LOCATION:Harvest Park\, Summer Hill\, 16 Flour Mill Way\, Summer Hill\, Sydney\, NSW\, 2130\, Australia
CATEGORIES:Fitness & Wellness,Free
ATTACH;FMTTYPE=image/png:https://littlebigfoundation.org/wp-content/uploads/Screenshot-2024-01-17-at-01.06.50.png
END:VEVENT
BEGIN:VEVENT
DTSTART;TZID=Australia/Sydney:20250901T063000
DTEND;TZID=Australia/Sydney:20250901T071500
DTSTAMP:20260426T112027
CREATED:20250523T010951Z
LAST-MODIFIED:20250904T071148Z
UID:10006375-1756708200-1756710900@littlebigfoundation.org
SUMMARY:Outdoor Fitness Class
DESCRIPTION:
URL:https://littlebigfoundation.org/event/outdoor-fitness-class/2025-09-01/
LOCATION:Harvest Park\, Summer Hill\, 16 Flour Mill Way\, Summer Hill\, Sydney\, NSW\, 2130\, Australia
CATEGORIES:Fitness & Wellness,Free
ATTACH;FMTTYPE=image/png:https://littlebigfoundation.org/wp-content/uploads/Screenshot-2024-01-17-at-01.06.50.png
END:VEVENT
BEGIN:VEVENT
DTSTART;TZID=Australia/Sydney:20250829T063000
DTEND;TZID=Australia/Sydney:20250829T071500
DTSTAMP:20260426T112027
CREATED:20250523T010951Z
LAST-MODIFIED:20250904T071148Z
UID:10006374-1756449000-1756451700@littlebigfoundation.org
SUMMARY:Outdoor Fitness Class
DESCRIPTION:
URL:https://littlebigfoundation.org/event/outdoor-fitness-class/2025-08-29/
LOCATION:Harvest Park\, Summer Hill\, 16 Flour Mill Way\, Summer Hill\, Sydney\, NSW\, 2130\, Australia
CATEGORIES:Fitness & Wellness,Free
ATTACH;FMTTYPE=image/png:https://littlebigfoundation.org/wp-content/uploads/Screenshot-2024-01-17-at-01.06.50.png
END:VEVENT
BEGIN:VEVENT
DTSTART;TZID=Australia/Sydney:20250827T063000
DTEND;TZID=Australia/Sydney:20250827T071500
DTSTAMP:20260426T112027
CREATED:20250523T010951Z
LAST-MODIFIED:20250904T071148Z
UID:10006373-1756276200-1756278900@littlebigfoundation.org
SUMMARY:Outdoor Fitness Class
DESCRIPTION:
URL:https://littlebigfoundation.org/event/outdoor-fitness-class/2025-08-27/
LOCATION:Harvest Park\, Summer Hill\, 16 Flour Mill Way\, Summer Hill\, Sydney\, NSW\, 2130\, Australia
CATEGORIES:Fitness & Wellness,Free
ATTACH;FMTTYPE=image/png:https://littlebigfoundation.org/wp-content/uploads/Screenshot-2024-01-17-at-01.06.50.png
END:VEVENT
BEGIN:VEVENT
DTSTART;TZID=Australia/Sydney:20250825T063000
DTEND;TZID=Australia/Sydney:20250825T071500
DTSTAMP:20260426T112027
CREATED:20250523T010951Z
LAST-MODIFIED:20250904T071148Z
UID:10006372-1756103400-1756106100@littlebigfoundation.org
SUMMARY:Outdoor Fitness Class
DESCRIPTION:
URL:https://littlebigfoundation.org/event/outdoor-fitness-class/2025-08-25/
LOCATION:Harvest Park\, Summer Hill\, 16 Flour Mill Way\, Summer Hill\, Sydney\, NSW\, 2130\, Australia
CATEGORIES:Fitness & Wellness,Free
ATTACH;FMTTYPE=image/png:https://littlebigfoundation.org/wp-content/uploads/Screenshot-2024-01-17-at-01.06.50.png
END:VEVENT
BEGIN:VEVENT
DTSTART;TZID=Australia/Sydney:20250822T063000
DTEND;TZID=Australia/Sydney:20250822T071500
DTSTAMP:20260426T112027
CREATED:20250523T010951Z
LAST-MODIFIED:20250904T071148Z
UID:10006371-1755844200-1755846900@littlebigfoundation.org
SUMMARY:Outdoor Fitness Class
DESCRIPTION:
URL:https://littlebigfoundation.org/event/outdoor-fitness-class/2025-08-22/
LOCATION:Harvest Park\, Summer Hill\, 16 Flour Mill Way\, Summer Hill\, Sydney\, NSW\, 2130\, Australia
CATEGORIES:Fitness & Wellness,Free
ATTACH;FMTTYPE=image/png:https://littlebigfoundation.org/wp-content/uploads/Screenshot-2024-01-17-at-01.06.50.png
END:VEVENT
BEGIN:VEVENT
DTSTART;TZID=Australia/Sydney:20250820T063000
DTEND;TZID=Australia/Sydney:20250820T071500
DTSTAMP:20260426T112027
CREATED:20250523T010951Z
LAST-MODIFIED:20250904T071148Z
UID:10006370-1755671400-1755674100@littlebigfoundation.org
SUMMARY:Outdoor Fitness Class
DESCRIPTION:
URL:https://littlebigfoundation.org/event/outdoor-fitness-class/2025-08-20/
LOCATION:Harvest Park\, Summer Hill\, 16 Flour Mill Way\, Summer Hill\, Sydney\, NSW\, 2130\, Australia
CATEGORIES:Fitness & Wellness,Free
ATTACH;FMTTYPE=image/png:https://littlebigfoundation.org/wp-content/uploads/Screenshot-2024-01-17-at-01.06.50.png
END:VEVENT
BEGIN:VEVENT
DTSTART;TZID=Australia/Sydney:20250818T063000
DTEND;TZID=Australia/Sydney:20250818T071500
DTSTAMP:20260426T112027
CREATED:20250523T010951Z
LAST-MODIFIED:20250904T071148Z
UID:10006369-1755498600-1755501300@littlebigfoundation.org
SUMMARY:Outdoor Fitness Class
DESCRIPTION:
URL:https://littlebigfoundation.org/event/outdoor-fitness-class/2025-08-18/
LOCATION:Harvest Park\, Summer Hill\, 16 Flour Mill Way\, Summer Hill\, Sydney\, NSW\, 2130\, Australia
CATEGORIES:Fitness & Wellness,Free
ATTACH;FMTTYPE=image/png:https://littlebigfoundation.org/wp-content/uploads/Screenshot-2024-01-17-at-01.06.50.png
END:VEVENT
BEGIN:VEVENT
DTSTART;TZID=Australia/Sydney:20250815T063000
DTEND;TZID=Australia/Sydney:20250815T071500
DTSTAMP:20260426T112027
CREATED:20250523T010951Z
LAST-MODIFIED:20250904T071148Z
UID:10006368-1755239400-1755242100@littlebigfoundation.org
SUMMARY:Outdoor Fitness Class
DESCRIPTION:
URL:https://littlebigfoundation.org/event/outdoor-fitness-class/2025-08-15/
LOCATION:Harvest Park\, Summer Hill\, 16 Flour Mill Way\, Summer Hill\, Sydney\, NSW\, 2130\, Australia
CATEGORIES:Fitness & Wellness,Free
ATTACH;FMTTYPE=image/png:https://littlebigfoundation.org/wp-content/uploads/Screenshot-2024-01-17-at-01.06.50.png
END:VEVENT
BEGIN:VEVENT
DTSTART;TZID=Australia/Sydney:20250813T063000
DTEND;TZID=Australia/Sydney:20250813T071500
DTSTAMP:20260426T112027
CREATED:20250523T010951Z
LAST-MODIFIED:20250904T071148Z
UID:10006367-1755066600-1755069300@littlebigfoundation.org
SUMMARY:Outdoor Fitness Class
DESCRIPTION:
URL:https://littlebigfoundation.org/event/outdoor-fitness-class/2025-08-13/
LOCATION:Harvest Park\, Summer Hill\, 16 Flour Mill Way\, Summer Hill\, Sydney\, NSW\, 2130\, Australia
CATEGORIES:Fitness & Wellness,Free
ATTACH;FMTTYPE=image/png:https://littlebigfoundation.org/wp-content/uploads/Screenshot-2024-01-17-at-01.06.50.png
END:VEVENT
BEGIN:VEVENT
DTSTART;TZID=Australia/Sydney:20250811T063000
DTEND;TZID=Australia/Sydney:20250811T071500
DTSTAMP:20260426T112027
CREATED:20250523T010951Z
LAST-MODIFIED:20250904T071148Z
UID:10006366-1754893800-1754896500@littlebigfoundation.org
SUMMARY:Outdoor Fitness Class
DESCRIPTION:
URL:https://littlebigfoundation.org/event/outdoor-fitness-class/2025-08-11/
LOCATION:Harvest Park\, Summer Hill\, 16 Flour Mill Way\, Summer Hill\, Sydney\, NSW\, 2130\, Australia
CATEGORIES:Fitness & Wellness,Free
ATTACH;FMTTYPE=image/png:https://littlebigfoundation.org/wp-content/uploads/Screenshot-2024-01-17-at-01.06.50.png
END:VEVENT
BEGIN:VEVENT
DTSTART;TZID=Australia/Sydney:20250808T063000
DTEND;TZID=Australia/Sydney:20250808T071500
DTSTAMP:20260426T112027
CREATED:20250523T010951Z
LAST-MODIFIED:20250904T071148Z
UID:10006365-1754634600-1754637300@littlebigfoundation.org
SUMMARY:Outdoor Fitness Class
DESCRIPTION:
URL:https://littlebigfoundation.org/event/outdoor-fitness-class/2025-08-08/
LOCATION:Harvest Park\, Summer Hill\, 16 Flour Mill Way\, Summer Hill\, Sydney\, NSW\, 2130\, Australia
CATEGORIES:Fitness & Wellness,Free
ATTACH;FMTTYPE=image/png:https://littlebigfoundation.org/wp-content/uploads/Screenshot-2024-01-17-at-01.06.50.png
END:VEVENT
BEGIN:VEVENT
DTSTART;TZID=Australia/Sydney:20250806T063000
DTEND;TZID=Australia/Sydney:20250806T071500
DTSTAMP:20260426T112027
CREATED:20250523T010951Z
LAST-MODIFIED:20250904T071148Z
UID:10006364-1754461800-1754464500@littlebigfoundation.org
SUMMARY:Outdoor Fitness Class
DESCRIPTION:
URL:https://littlebigfoundation.org/event/outdoor-fitness-class/2025-08-06/
LOCATION:Harvest Park\, Summer Hill\, 16 Flour Mill Way\, Summer Hill\, Sydney\, NSW\, 2130\, Australia
CATEGORIES:Fitness & Wellness,Free
ATTACH;FMTTYPE=image/png:https://littlebigfoundation.org/wp-content/uploads/Screenshot-2024-01-17-at-01.06.50.png
END:VEVENT
BEGIN:VEVENT
DTSTART;TZID=Australia/Sydney:20250804T063000
DTEND;TZID=Australia/Sydney:20250804T071500
DTSTAMP:20260426T112027
CREATED:20250523T010951Z
LAST-MODIFIED:20250904T071148Z
UID:10006363-1754289000-1754291700@littlebigfoundation.org
SUMMARY:Outdoor Fitness Class
DESCRIPTION:
URL:https://littlebigfoundation.org/event/outdoor-fitness-class/2025-08-04/
LOCATION:Harvest Park\, Summer Hill\, 16 Flour Mill Way\, Summer Hill\, Sydney\, NSW\, 2130\, Australia
CATEGORIES:Fitness & Wellness,Free
ATTACH;FMTTYPE=image/png:https://littlebigfoundation.org/wp-content/uploads/Screenshot-2024-01-17-at-01.06.50.png
END:VEVENT
BEGIN:VEVENT
DTSTART;TZID=Australia/Sydney:20250801T063000
DTEND;TZID=Australia/Sydney:20250801T071500
DTSTAMP:20260426T112027
CREATED:20250523T010951Z
LAST-MODIFIED:20250904T071148Z
UID:10006362-1754029800-1754032500@littlebigfoundation.org
SUMMARY:Outdoor Fitness Class
DESCRIPTION:
URL:https://littlebigfoundation.org/event/outdoor-fitness-class/2025-08-01/
LOCATION:Harvest Park\, Summer Hill\, 16 Flour Mill Way\, Summer Hill\, Sydney\, NSW\, 2130\, Australia
CATEGORIES:Fitness & Wellness,Free
ATTACH;FMTTYPE=image/png:https://littlebigfoundation.org/wp-content/uploads/Screenshot-2024-01-17-at-01.06.50.png
END:VEVENT
BEGIN:VEVENT
DTSTART;TZID=Australia/Sydney:20250730T063000
DTEND;TZID=Australia/Sydney:20250730T071500
DTSTAMP:20260426T112027
CREATED:20250523T010951Z
LAST-MODIFIED:20250904T071148Z
UID:10006361-1753857000-1753859700@littlebigfoundation.org
SUMMARY:Outdoor Fitness Class
DESCRIPTION:
URL:https://littlebigfoundation.org/event/outdoor-fitness-class/2025-07-30/
LOCATION:Harvest Park\, Summer Hill\, 16 Flour Mill Way\, Summer Hill\, Sydney\, NSW\, 2130\, Australia
CATEGORIES:Fitness & Wellness,Free
ATTACH;FMTTYPE=image/png:https://littlebigfoundation.org/wp-content/uploads/Screenshot-2024-01-17-at-01.06.50.png
END:VEVENT
BEGIN:VEVENT
DTSTART;TZID=Australia/Sydney:20250728T063000
DTEND;TZID=Australia/Sydney:20250728T071500
DTSTAMP:20260426T112027
CREATED:20250523T010951Z
LAST-MODIFIED:20250904T071148Z
UID:10006360-1753684200-1753686900@littlebigfoundation.org
SUMMARY:Outdoor Fitness Class
DESCRIPTION:
URL:https://littlebigfoundation.org/event/outdoor-fitness-class/2025-07-28/
LOCATION:Harvest Park\, Summer Hill\, 16 Flour Mill Way\, Summer Hill\, Sydney\, NSW\, 2130\, Australia
CATEGORIES:Fitness & Wellness,Free
ATTACH;FMTTYPE=image/png:https://littlebigfoundation.org/wp-content/uploads/Screenshot-2024-01-17-at-01.06.50.png
END:VEVENT
BEGIN:VEVENT
DTSTART;TZID=Australia/Sydney:20250725T063000
DTEND;TZID=Australia/Sydney:20250725T071500
DTSTAMP:20260426T112027
CREATED:20250523T010951Z
LAST-MODIFIED:20250904T071148Z
UID:10006359-1753425000-1753427700@littlebigfoundation.org
SUMMARY:Outdoor Fitness Class
DESCRIPTION:
URL:https://littlebigfoundation.org/event/outdoor-fitness-class/2025-07-25/
LOCATION:Harvest Park\, Summer Hill\, 16 Flour Mill Way\, Summer Hill\, Sydney\, NSW\, 2130\, Australia
CATEGORIES:Fitness & Wellness,Free
ATTACH;FMTTYPE=image/png:https://littlebigfoundation.org/wp-content/uploads/Screenshot-2024-01-17-at-01.06.50.png
END:VEVENT
BEGIN:VEVENT
DTSTART;TZID=Australia/Sydney:20250723T063000
DTEND;TZID=Australia/Sydney:20250723T071500
DTSTAMP:20260426T112027
CREATED:20250523T010951Z
LAST-MODIFIED:20250904T071148Z
UID:10006358-1753252200-1753254900@littlebigfoundation.org
SUMMARY:Outdoor Fitness Class
DESCRIPTION:
URL:https://littlebigfoundation.org/event/outdoor-fitness-class/2025-07-23/
LOCATION:Harvest Park\, Summer Hill\, 16 Flour Mill Way\, Summer Hill\, Sydney\, NSW\, 2130\, Australia
CATEGORIES:Fitness & Wellness,Free
ATTACH;FMTTYPE=image/png:https://littlebigfoundation.org/wp-content/uploads/Screenshot-2024-01-17-at-01.06.50.png
END:VEVENT
BEGIN:VEVENT
DTSTART;TZID=Australia/Sydney:20250721T063000
DTEND;TZID=Australia/Sydney:20250721T071500
DTSTAMP:20260426T112027
CREATED:20250523T010951Z
LAST-MODIFIED:20250904T071148Z
UID:10006357-1753079400-1753082100@littlebigfoundation.org
SUMMARY:Outdoor Fitness Class
DESCRIPTION:
URL:https://littlebigfoundation.org/event/outdoor-fitness-class/2025-07-21/
LOCATION:Harvest Park\, Summer Hill\, 16 Flour Mill Way\, Summer Hill\, Sydney\, NSW\, 2130\, Australia
CATEGORIES:Fitness & Wellness,Free
ATTACH;FMTTYPE=image/png:https://littlebigfoundation.org/wp-content/uploads/Screenshot-2024-01-17-at-01.06.50.png
END:VEVENT
BEGIN:VEVENT
DTSTART;TZID=Australia/Sydney:20250718T063000
DTEND;TZID=Australia/Sydney:20250718T071500
DTSTAMP:20260426T112027
CREATED:20250523T010951Z
LAST-MODIFIED:20250904T071148Z
UID:10006356-1752820200-1752822900@littlebigfoundation.org
SUMMARY:Outdoor Fitness Class
DESCRIPTION:
URL:https://littlebigfoundation.org/event/outdoor-fitness-class/2025-07-18/
LOCATION:Harvest Park\, Summer Hill\, 16 Flour Mill Way\, Summer Hill\, Sydney\, NSW\, 2130\, Australia
CATEGORIES:Fitness & Wellness,Free
ATTACH;FMTTYPE=image/png:https://littlebigfoundation.org/wp-content/uploads/Screenshot-2024-01-17-at-01.06.50.png
END:VEVENT
BEGIN:VEVENT
DTSTART;TZID=Australia/Sydney:20250716T063000
DTEND;TZID=Australia/Sydney:20250716T071500
DTSTAMP:20260426T112027
CREATED:20250523T010951Z
LAST-MODIFIED:20250904T071148Z
UID:10006355-1752647400-1752650100@littlebigfoundation.org
SUMMARY:Outdoor Fitness Class
DESCRIPTION:
URL:https://littlebigfoundation.org/event/outdoor-fitness-class/2025-07-16/
LOCATION:Harvest Park\, Summer Hill\, 16 Flour Mill Way\, Summer Hill\, Sydney\, NSW\, 2130\, Australia
CATEGORIES:Fitness & Wellness,Free
ATTACH;FMTTYPE=image/png:https://littlebigfoundation.org/wp-content/uploads/Screenshot-2024-01-17-at-01.06.50.png
END:VEVENT
BEGIN:VEVENT
DTSTART;TZID=Australia/Sydney:20250714T063000
DTEND;TZID=Australia/Sydney:20250714T071500
DTSTAMP:20260426T112027
CREATED:20250523T010951Z
LAST-MODIFIED:20250904T071148Z
UID:10006354-1752474600-1752477300@littlebigfoundation.org
SUMMARY:Outdoor Fitness Class
DESCRIPTION:
URL:https://littlebigfoundation.org/event/outdoor-fitness-class/2025-07-14/
LOCATION:Harvest Park\, Summer Hill\, 16 Flour Mill Way\, Summer Hill\, Sydney\, NSW\, 2130\, Australia
CATEGORIES:Fitness & Wellness,Free
ATTACH;FMTTYPE=image/png:https://littlebigfoundation.org/wp-content/uploads/Screenshot-2024-01-17-at-01.06.50.png
END:VEVENT
BEGIN:VEVENT
DTSTART;TZID=Australia/Sydney:20250711T063000
DTEND;TZID=Australia/Sydney:20250711T071500
DTSTAMP:20260426T112027
CREATED:20250523T010951Z
LAST-MODIFIED:20250904T071148Z
UID:10006353-1752215400-1752218100@littlebigfoundation.org
SUMMARY:Outdoor Fitness Class
DESCRIPTION:
URL:https://littlebigfoundation.org/event/outdoor-fitness-class/2025-07-11/
LOCATION:Harvest Park\, Summer Hill\, 16 Flour Mill Way\, Summer Hill\, Sydney\, NSW\, 2130\, Australia
CATEGORIES:Fitness & Wellness,Free
ATTACH;FMTTYPE=image/png:https://littlebigfoundation.org/wp-content/uploads/Screenshot-2024-01-17-at-01.06.50.png
END:VEVENT
BEGIN:VEVENT
DTSTART;TZID=Australia/Sydney:20250709T063000
DTEND;TZID=Australia/Sydney:20250709T071500
DTSTAMP:20260426T112027
CREATED:20250523T010951Z
LAST-MODIFIED:20250904T071148Z
UID:10006352-1752042600-1752045300@littlebigfoundation.org
SUMMARY:Outdoor Fitness Class
DESCRIPTION:
URL:https://littlebigfoundation.org/event/outdoor-fitness-class/2025-07-09/
LOCATION:Harvest Park\, Summer Hill\, 16 Flour Mill Way\, Summer Hill\, Sydney\, NSW\, 2130\, Australia
CATEGORIES:Fitness & Wellness,Free
ATTACH;FMTTYPE=image/png:https://littlebigfoundation.org/wp-content/uploads/Screenshot-2024-01-17-at-01.06.50.png
END:VEVENT
BEGIN:VEVENT
DTSTART;TZID=Australia/Sydney:20250707T063000
DTEND;TZID=Australia/Sydney:20250707T071500
DTSTAMP:20260426T112027
CREATED:20250523T010951Z
LAST-MODIFIED:20250904T071148Z
UID:10006351-1751869800-1751872500@littlebigfoundation.org
SUMMARY:Outdoor Fitness Class
DESCRIPTION:
URL:https://littlebigfoundation.org/event/outdoor-fitness-class/2025-07-07/
LOCATION:Harvest Park\, Summer Hill\, 16 Flour Mill Way\, Summer Hill\, Sydney\, NSW\, 2130\, Australia
CATEGORIES:Fitness & Wellness,Free
ATTACH;FMTTYPE=image/png:https://littlebigfoundation.org/wp-content/uploads/Screenshot-2024-01-17-at-01.06.50.png
END:VEVENT
BEGIN:VEVENT
DTSTART;TZID=Australia/Sydney:20250704T063000
DTEND;TZID=Australia/Sydney:20250704T071500
DTSTAMP:20260426T112027
CREATED:20250523T010951Z
LAST-MODIFIED:20250904T071148Z
UID:10006350-1751610600-1751613300@littlebigfoundation.org
SUMMARY:Outdoor Fitness Class
DESCRIPTION:
URL:https://littlebigfoundation.org/event/outdoor-fitness-class/2025-07-04/
LOCATION:Harvest Park\, Summer Hill\, 16 Flour Mill Way\, Summer Hill\, Sydney\, NSW\, 2130\, Australia
CATEGORIES:Fitness & Wellness,Free
ATTACH;FMTTYPE=image/png:https://littlebigfoundation.org/wp-content/uploads/Screenshot-2024-01-17-at-01.06.50.png
END:VEVENT
BEGIN:VEVENT
DTSTART;TZID=Australia/Sydney:20250702T063000
DTEND;TZID=Australia/Sydney:20250702T071500
DTSTAMP:20260426T112027
CREATED:20250523T010951Z
LAST-MODIFIED:20250904T071148Z
UID:10006349-1751437800-1751440500@littlebigfoundation.org
SUMMARY:Outdoor Fitness Class
DESCRIPTION:
URL:https://littlebigfoundation.org/event/outdoor-fitness-class/2025-07-02/
LOCATION:Harvest Park\, Summer Hill\, 16 Flour Mill Way\, Summer Hill\, Sydney\, NSW\, 2130\, Australia
CATEGORIES:Fitness & Wellness,Free
ATTACH;FMTTYPE=image/png:https://littlebigfoundation.org/wp-content/uploads/Screenshot-2024-01-17-at-01.06.50.png
END:VEVENT
BEGIN:VEVENT
DTSTART;TZID=Australia/Sydney:20250630T063000
DTEND;TZID=Australia/Sydney:20250630T071500
DTSTAMP:20260426T112027
CREATED:20250523T010951Z
LAST-MODIFIED:20250904T071148Z
UID:10006348-1751265000-1751267700@littlebigfoundation.org
SUMMARY:Outdoor Fitness Class
DESCRIPTION:
URL:https://littlebigfoundation.org/event/outdoor-fitness-class/2025-06-30/
LOCATION:Harvest Park\, Summer Hill\, 16 Flour Mill Way\, Summer Hill\, Sydney\, NSW\, 2130\, Australia
CATEGORIES:Fitness & Wellness,Free
ATTACH;FMTTYPE=image/png:https://littlebigfoundation.org/wp-content/uploads/Screenshot-2024-01-17-at-01.06.50.png
END:VEVENT
END:VCALENDAR