BEGIN:VCALENDAR
VERSION:2.0
PRODID:-//Little BIG - ECPv6.15.20//NONSGML v1.0//EN
CALSCALE:GREGORIAN
METHOD:PUBLISH
X-WR-CALNAME:Little BIG
X-ORIGINAL-URL:https://littlebigfoundation.org
X-WR-CALDESC:Events for Little BIG
REFRESH-INTERVAL;VALUE=DURATION:PT1H
X-Robots-Tag:noindex
X-PUBLISHED-TTL:PT1H
BEGIN:VTIMEZONE
TZID:Australia/Sydney
BEGIN:STANDARD
TZOFFSETFROM:+1100
TZOFFSETTO:+1000
TZNAME:AEST
DTSTART:20260404T160000
END:STANDARD
BEGIN:DAYLIGHT
TZOFFSETFROM:+1000
TZOFFSETTO:+1100
TZNAME:AEDT
DTSTART:20261003T160000
END:DAYLIGHT
BEGIN:STANDARD
TZOFFSETFROM:+1100
TZOFFSETTO:+1000
TZNAME:AEST
DTSTART:20270403T160000
END:STANDARD
BEGIN:DAYLIGHT
TZOFFSETFROM:+1000
TZOFFSETTO:+1100
TZNAME:AEDT
DTSTART:20271002T160000
END:DAYLIGHT
BEGIN:STANDARD
TZOFFSETFROM:+1100
TZOFFSETTO:+1000
TZNAME:AEST
DTSTART:20280401T160000
END:STANDARD
BEGIN:DAYLIGHT
TZOFFSETFROM:+1000
TZOFFSETTO:+1100
TZNAME:AEDT
DTSTART:20280930T160000
END:DAYLIGHT
END:VTIMEZONE
BEGIN:VEVENT
DTSTART;TZID=Australia/Sydney:20270524T090000
DTEND;TZID=Australia/Sydney:20270524T170000
DTSTAMP:20260425T124952
CREATED:20250521T065905Z
LAST-MODIFIED:20251126T015033Z
UID:10007964-1811149200-1811178000@littlebigfoundation.org
SUMMARY:Co-Working Mondays
DESCRIPTION:
URL:https://littlebigfoundation.org/event/co-working-mondays/2027-05-24/
LOCATION:Flour Mill of Summer Hill\, 16 Flour Mill Way\, Summer Hill\, Sydney\, NSW\, 2130\, Australia
CATEGORIES:Free,Professional & Learning
ATTACH;FMTTYPE=image/jpeg:https://littlebigfoundation.org/wp-content/uploads/6079987.jpg
GEO:-33.8937768;151.143025
X-APPLE-STRUCTURED-LOCATION;VALUE=URI;X-ADDRESS=Flour Mill of Summer Hill 16 Flour Mill Way Summer Hill Sydney NSW 2130 Australia;X-APPLE-RADIUS=500;X-TITLE=16 Flour Mill Way\, Summer Hill:geo:151.143025,-33.8937768
END:VEVENT
BEGIN:VEVENT
DTSTART;TZID=Australia/Sydney:20270531T090000
DTEND;TZID=Australia/Sydney:20270531T170000
DTSTAMP:20260425T124952
CREATED:20250521T065905Z
LAST-MODIFIED:20251126T015033Z
UID:10007965-1811754000-1811782800@littlebigfoundation.org
SUMMARY:Co-Working Mondays
DESCRIPTION:
URL:https://littlebigfoundation.org/event/co-working-mondays/2027-05-31/
LOCATION:Flour Mill of Summer Hill\, 16 Flour Mill Way\, Summer Hill\, Sydney\, NSW\, 2130\, Australia
CATEGORIES:Free,Professional & Learning
ATTACH;FMTTYPE=image/jpeg:https://littlebigfoundation.org/wp-content/uploads/6079987.jpg
GEO:-33.8937768;151.143025
X-APPLE-STRUCTURED-LOCATION;VALUE=URI;X-ADDRESS=Flour Mill of Summer Hill 16 Flour Mill Way Summer Hill Sydney NSW 2130 Australia;X-APPLE-RADIUS=500;X-TITLE=16 Flour Mill Way\, Summer Hill:geo:151.143025,-33.8937768
END:VEVENT
BEGIN:VEVENT
DTSTART;TZID=Australia/Sydney:20270607T090000
DTEND;TZID=Australia/Sydney:20270607T170000
DTSTAMP:20260425T124952
CREATED:20250521T065905Z
LAST-MODIFIED:20251126T015033Z
UID:10007966-1812358800-1812387600@littlebigfoundation.org
SUMMARY:Co-Working Mondays
DESCRIPTION:
URL:https://littlebigfoundation.org/event/co-working-mondays/2027-06-07/
LOCATION:Flour Mill of Summer Hill\, 16 Flour Mill Way\, Summer Hill\, Sydney\, NSW\, 2130\, Australia
CATEGORIES:Free,Professional & Learning
ATTACH;FMTTYPE=image/jpeg:https://littlebigfoundation.org/wp-content/uploads/6079987.jpg
GEO:-33.8937768;151.143025
X-APPLE-STRUCTURED-LOCATION;VALUE=URI;X-ADDRESS=Flour Mill of Summer Hill 16 Flour Mill Way Summer Hill Sydney NSW 2130 Australia;X-APPLE-RADIUS=500;X-TITLE=16 Flour Mill Way\, Summer Hill:geo:151.143025,-33.8937768
END:VEVENT
BEGIN:VEVENT
DTSTART;TZID=Australia/Sydney:20270614T090000
DTEND;TZID=Australia/Sydney:20270614T170000
DTSTAMP:20260425T124952
CREATED:20250521T065905Z
LAST-MODIFIED:20251126T015033Z
UID:10007967-1812963600-1812992400@littlebigfoundation.org
SUMMARY:Co-Working Mondays
DESCRIPTION:
URL:https://littlebigfoundation.org/event/co-working-mondays/2027-06-14/
LOCATION:Flour Mill of Summer Hill\, 16 Flour Mill Way\, Summer Hill\, Sydney\, NSW\, 2130\, Australia
CATEGORIES:Free,Professional & Learning
ATTACH;FMTTYPE=image/jpeg:https://littlebigfoundation.org/wp-content/uploads/6079987.jpg
GEO:-33.8937768;151.143025
X-APPLE-STRUCTURED-LOCATION;VALUE=URI;X-ADDRESS=Flour Mill of Summer Hill 16 Flour Mill Way Summer Hill Sydney NSW 2130 Australia;X-APPLE-RADIUS=500;X-TITLE=16 Flour Mill Way\, Summer Hill:geo:151.143025,-33.8937768
END:VEVENT
BEGIN:VEVENT
DTSTART;TZID=Australia/Sydney:20270621T090000
DTEND;TZID=Australia/Sydney:20270621T170000
DTSTAMP:20260425T124952
CREATED:20250521T065905Z
LAST-MODIFIED:20251126T015033Z
UID:10007968-1813568400-1813597200@littlebigfoundation.org
SUMMARY:Co-Working Mondays
DESCRIPTION:
URL:https://littlebigfoundation.org/event/co-working-mondays/2027-06-21/
LOCATION:Flour Mill of Summer Hill\, 16 Flour Mill Way\, Summer Hill\, Sydney\, NSW\, 2130\, Australia
CATEGORIES:Free,Professional & Learning
ATTACH;FMTTYPE=image/jpeg:https://littlebigfoundation.org/wp-content/uploads/6079987.jpg
GEO:-33.8937768;151.143025
X-APPLE-STRUCTURED-LOCATION;VALUE=URI;X-ADDRESS=Flour Mill of Summer Hill 16 Flour Mill Way Summer Hill Sydney NSW 2130 Australia;X-APPLE-RADIUS=500;X-TITLE=16 Flour Mill Way\, Summer Hill:geo:151.143025,-33.8937768
END:VEVENT
BEGIN:VEVENT
DTSTART;TZID=Australia/Sydney:20270628T090000
DTEND;TZID=Australia/Sydney:20270628T170000
DTSTAMP:20260425T124952
CREATED:20250521T065905Z
LAST-MODIFIED:20251126T015033Z
UID:10007969-1814173200-1814202000@littlebigfoundation.org
SUMMARY:Co-Working Mondays
DESCRIPTION:
URL:https://littlebigfoundation.org/event/co-working-mondays/2027-06-28/
LOCATION:Flour Mill of Summer Hill\, 16 Flour Mill Way\, Summer Hill\, Sydney\, NSW\, 2130\, Australia
CATEGORIES:Free,Professional & Learning
ATTACH;FMTTYPE=image/jpeg:https://littlebigfoundation.org/wp-content/uploads/6079987.jpg
GEO:-33.8937768;151.143025
X-APPLE-STRUCTURED-LOCATION;VALUE=URI;X-ADDRESS=Flour Mill of Summer Hill 16 Flour Mill Way Summer Hill Sydney NSW 2130 Australia;X-APPLE-RADIUS=500;X-TITLE=16 Flour Mill Way\, Summer Hill:geo:151.143025,-33.8937768
END:VEVENT
BEGIN:VEVENT
DTSTART;TZID=Australia/Sydney:20270705T090000
DTEND;TZID=Australia/Sydney:20270705T170000
DTSTAMP:20260425T124952
CREATED:20250521T065905Z
LAST-MODIFIED:20251126T015033Z
UID:10007970-1814778000-1814806800@littlebigfoundation.org
SUMMARY:Co-Working Mondays
DESCRIPTION:
URL:https://littlebigfoundation.org/event/co-working-mondays/2027-07-05/
LOCATION:Flour Mill of Summer Hill\, 16 Flour Mill Way\, Summer Hill\, Sydney\, NSW\, 2130\, Australia
CATEGORIES:Free,Professional & Learning
ATTACH;FMTTYPE=image/jpeg:https://littlebigfoundation.org/wp-content/uploads/6079987.jpg
GEO:-33.8937768;151.143025
X-APPLE-STRUCTURED-LOCATION;VALUE=URI;X-ADDRESS=Flour Mill of Summer Hill 16 Flour Mill Way Summer Hill Sydney NSW 2130 Australia;X-APPLE-RADIUS=500;X-TITLE=16 Flour Mill Way\, Summer Hill:geo:151.143025,-33.8937768
END:VEVENT
BEGIN:VEVENT
DTSTART;TZID=Australia/Sydney:20270712T090000
DTEND;TZID=Australia/Sydney:20270712T170000
DTSTAMP:20260425T124952
CREATED:20250521T065905Z
LAST-MODIFIED:20251126T015033Z
UID:10007971-1815382800-1815411600@littlebigfoundation.org
SUMMARY:Co-Working Mondays
DESCRIPTION:
URL:https://littlebigfoundation.org/event/co-working-mondays/2027-07-12/
LOCATION:Flour Mill of Summer Hill\, 16 Flour Mill Way\, Summer Hill\, Sydney\, NSW\, 2130\, Australia
CATEGORIES:Free,Professional & Learning
ATTACH;FMTTYPE=image/jpeg:https://littlebigfoundation.org/wp-content/uploads/6079987.jpg
GEO:-33.8937768;151.143025
X-APPLE-STRUCTURED-LOCATION;VALUE=URI;X-ADDRESS=Flour Mill of Summer Hill 16 Flour Mill Way Summer Hill Sydney NSW 2130 Australia;X-APPLE-RADIUS=500;X-TITLE=16 Flour Mill Way\, Summer Hill:geo:151.143025,-33.8937768
END:VEVENT
BEGIN:VEVENT
DTSTART;TZID=Australia/Sydney:20270719T090000
DTEND;TZID=Australia/Sydney:20270719T170000
DTSTAMP:20260425T124952
CREATED:20250521T065905Z
LAST-MODIFIED:20251126T015033Z
UID:10007972-1815987600-1816016400@littlebigfoundation.org
SUMMARY:Co-Working Mondays
DESCRIPTION:
URL:https://littlebigfoundation.org/event/co-working-mondays/2027-07-19/
LOCATION:Flour Mill of Summer Hill\, 16 Flour Mill Way\, Summer Hill\, Sydney\, NSW\, 2130\, Australia
CATEGORIES:Free,Professional & Learning
ATTACH;FMTTYPE=image/jpeg:https://littlebigfoundation.org/wp-content/uploads/6079987.jpg
GEO:-33.8937768;151.143025
X-APPLE-STRUCTURED-LOCATION;VALUE=URI;X-ADDRESS=Flour Mill of Summer Hill 16 Flour Mill Way Summer Hill Sydney NSW 2130 Australia;X-APPLE-RADIUS=500;X-TITLE=16 Flour Mill Way\, Summer Hill:geo:151.143025,-33.8937768
END:VEVENT
BEGIN:VEVENT
DTSTART;TZID=Australia/Sydney:20270726T090000
DTEND;TZID=Australia/Sydney:20270726T170000
DTSTAMP:20260425T124952
CREATED:20250521T065905Z
LAST-MODIFIED:20251126T015033Z
UID:10007973-1816592400-1816621200@littlebigfoundation.org
SUMMARY:Co-Working Mondays
DESCRIPTION:
URL:https://littlebigfoundation.org/event/co-working-mondays/2027-07-26/
LOCATION:Flour Mill of Summer Hill\, 16 Flour Mill Way\, Summer Hill\, Sydney\, NSW\, 2130\, Australia
CATEGORIES:Free,Professional & Learning
ATTACH;FMTTYPE=image/jpeg:https://littlebigfoundation.org/wp-content/uploads/6079987.jpg
GEO:-33.8937768;151.143025
X-APPLE-STRUCTURED-LOCATION;VALUE=URI;X-ADDRESS=Flour Mill of Summer Hill 16 Flour Mill Way Summer Hill Sydney NSW 2130 Australia;X-APPLE-RADIUS=500;X-TITLE=16 Flour Mill Way\, Summer Hill:geo:151.143025,-33.8937768
END:VEVENT
BEGIN:VEVENT
DTSTART;TZID=Australia/Sydney:20270802T090000
DTEND;TZID=Australia/Sydney:20270802T170000
DTSTAMP:20260425T124952
CREATED:20250521T065905Z
LAST-MODIFIED:20251126T015033Z
UID:10007974-1817197200-1817226000@littlebigfoundation.org
SUMMARY:Co-Working Mondays
DESCRIPTION:
URL:https://littlebigfoundation.org/event/co-working-mondays/2027-08-02/
LOCATION:Flour Mill of Summer Hill\, 16 Flour Mill Way\, Summer Hill\, Sydney\, NSW\, 2130\, Australia
CATEGORIES:Free,Professional & Learning
ATTACH;FMTTYPE=image/jpeg:https://littlebigfoundation.org/wp-content/uploads/6079987.jpg
GEO:-33.8937768;151.143025
X-APPLE-STRUCTURED-LOCATION;VALUE=URI;X-ADDRESS=Flour Mill of Summer Hill 16 Flour Mill Way Summer Hill Sydney NSW 2130 Australia;X-APPLE-RADIUS=500;X-TITLE=16 Flour Mill Way\, Summer Hill:geo:151.143025,-33.8937768
END:VEVENT
BEGIN:VEVENT
DTSTART;TZID=Australia/Sydney:20270809T090000
DTEND;TZID=Australia/Sydney:20270809T170000
DTSTAMP:20260425T124952
CREATED:20250521T065905Z
LAST-MODIFIED:20251126T015033Z
UID:10007975-1817802000-1817830800@littlebigfoundation.org
SUMMARY:Co-Working Mondays
DESCRIPTION:
URL:https://littlebigfoundation.org/event/co-working-mondays/2027-08-09/
LOCATION:Flour Mill of Summer Hill\, 16 Flour Mill Way\, Summer Hill\, Sydney\, NSW\, 2130\, Australia
CATEGORIES:Free,Professional & Learning
ATTACH;FMTTYPE=image/jpeg:https://littlebigfoundation.org/wp-content/uploads/6079987.jpg
GEO:-33.8937768;151.143025
X-APPLE-STRUCTURED-LOCATION;VALUE=URI;X-ADDRESS=Flour Mill of Summer Hill 16 Flour Mill Way Summer Hill Sydney NSW 2130 Australia;X-APPLE-RADIUS=500;X-TITLE=16 Flour Mill Way\, Summer Hill:geo:151.143025,-33.8937768
END:VEVENT
BEGIN:VEVENT
DTSTART;TZID=Australia/Sydney:20270816T090000
DTEND;TZID=Australia/Sydney:20270816T170000
DTSTAMP:20260425T124952
CREATED:20250521T065905Z
LAST-MODIFIED:20251126T015033Z
UID:10007976-1818406800-1818435600@littlebigfoundation.org
SUMMARY:Co-Working Mondays
DESCRIPTION:
URL:https://littlebigfoundation.org/event/co-working-mondays/2027-08-16/
LOCATION:Flour Mill of Summer Hill\, 16 Flour Mill Way\, Summer Hill\, Sydney\, NSW\, 2130\, Australia
CATEGORIES:Free,Professional & Learning
ATTACH;FMTTYPE=image/jpeg:https://littlebigfoundation.org/wp-content/uploads/6079987.jpg
GEO:-33.8937768;151.143025
X-APPLE-STRUCTURED-LOCATION;VALUE=URI;X-ADDRESS=Flour Mill of Summer Hill 16 Flour Mill Way Summer Hill Sydney NSW 2130 Australia;X-APPLE-RADIUS=500;X-TITLE=16 Flour Mill Way\, Summer Hill:geo:151.143025,-33.8937768
END:VEVENT
BEGIN:VEVENT
DTSTART;TZID=Australia/Sydney:20270823T090000
DTEND;TZID=Australia/Sydney:20270823T170000
DTSTAMP:20260425T124952
CREATED:20250521T065905Z
LAST-MODIFIED:20251126T015033Z
UID:10007977-1819011600-1819040400@littlebigfoundation.org
SUMMARY:Co-Working Mondays
DESCRIPTION:
URL:https://littlebigfoundation.org/event/co-working-mondays/2027-08-23/
LOCATION:Flour Mill of Summer Hill\, 16 Flour Mill Way\, Summer Hill\, Sydney\, NSW\, 2130\, Australia
CATEGORIES:Free,Professional & Learning
ATTACH;FMTTYPE=image/jpeg:https://littlebigfoundation.org/wp-content/uploads/6079987.jpg
GEO:-33.8937768;151.143025
X-APPLE-STRUCTURED-LOCATION;VALUE=URI;X-ADDRESS=Flour Mill of Summer Hill 16 Flour Mill Way Summer Hill Sydney NSW 2130 Australia;X-APPLE-RADIUS=500;X-TITLE=16 Flour Mill Way\, Summer Hill:geo:151.143025,-33.8937768
END:VEVENT
BEGIN:VEVENT
DTSTART;TZID=Australia/Sydney:20270830T090000
DTEND;TZID=Australia/Sydney:20270830T170000
DTSTAMP:20260425T124952
CREATED:20250521T065905Z
LAST-MODIFIED:20251126T015033Z
UID:10007978-1819616400-1819645200@littlebigfoundation.org
SUMMARY:Co-Working Mondays
DESCRIPTION:
URL:https://littlebigfoundation.org/event/co-working-mondays/2027-08-30/
LOCATION:Flour Mill of Summer Hill\, 16 Flour Mill Way\, Summer Hill\, Sydney\, NSW\, 2130\, Australia
CATEGORIES:Free,Professional & Learning
ATTACH;FMTTYPE=image/jpeg:https://littlebigfoundation.org/wp-content/uploads/6079987.jpg
GEO:-33.8937768;151.143025
X-APPLE-STRUCTURED-LOCATION;VALUE=URI;X-ADDRESS=Flour Mill of Summer Hill 16 Flour Mill Way Summer Hill Sydney NSW 2130 Australia;X-APPLE-RADIUS=500;X-TITLE=16 Flour Mill Way\, Summer Hill:geo:151.143025,-33.8937768
END:VEVENT
BEGIN:VEVENT
DTSTART;TZID=Australia/Sydney:20270906T090000
DTEND;TZID=Australia/Sydney:20270906T170000
DTSTAMP:20260425T124952
CREATED:20250521T065905Z
LAST-MODIFIED:20251126T015033Z
UID:10007979-1820221200-1820250000@littlebigfoundation.org
SUMMARY:Co-Working Mondays
DESCRIPTION:
URL:https://littlebigfoundation.org/event/co-working-mondays/2027-09-06/
LOCATION:Flour Mill of Summer Hill\, 16 Flour Mill Way\, Summer Hill\, Sydney\, NSW\, 2130\, Australia
CATEGORIES:Free,Professional & Learning
ATTACH;FMTTYPE=image/jpeg:https://littlebigfoundation.org/wp-content/uploads/6079987.jpg
GEO:-33.8937768;151.143025
X-APPLE-STRUCTURED-LOCATION;VALUE=URI;X-ADDRESS=Flour Mill of Summer Hill 16 Flour Mill Way Summer Hill Sydney NSW 2130 Australia;X-APPLE-RADIUS=500;X-TITLE=16 Flour Mill Way\, Summer Hill:geo:151.143025,-33.8937768
END:VEVENT
BEGIN:VEVENT
DTSTART;TZID=Australia/Sydney:20270913T090000
DTEND;TZID=Australia/Sydney:20270913T170000
DTSTAMP:20260425T124952
CREATED:20250521T065905Z
LAST-MODIFIED:20251126T015033Z
UID:10007980-1820826000-1820854800@littlebigfoundation.org
SUMMARY:Co-Working Mondays
DESCRIPTION:
URL:https://littlebigfoundation.org/event/co-working-mondays/2027-09-13/
LOCATION:Flour Mill of Summer Hill\, 16 Flour Mill Way\, Summer Hill\, Sydney\, NSW\, 2130\, Australia
CATEGORIES:Free,Professional & Learning
ATTACH;FMTTYPE=image/jpeg:https://littlebigfoundation.org/wp-content/uploads/6079987.jpg
GEO:-33.8937768;151.143025
X-APPLE-STRUCTURED-LOCATION;VALUE=URI;X-ADDRESS=Flour Mill of Summer Hill 16 Flour Mill Way Summer Hill Sydney NSW 2130 Australia;X-APPLE-RADIUS=500;X-TITLE=16 Flour Mill Way\, Summer Hill:geo:151.143025,-33.8937768
END:VEVENT
BEGIN:VEVENT
DTSTART;TZID=Australia/Sydney:20270920T090000
DTEND;TZID=Australia/Sydney:20270920T170000
DTSTAMP:20260425T124952
CREATED:20250521T065905Z
LAST-MODIFIED:20251126T015033Z
UID:10007981-1821430800-1821459600@littlebigfoundation.org
SUMMARY:Co-Working Mondays
DESCRIPTION:
URL:https://littlebigfoundation.org/event/co-working-mondays/2027-09-20/
LOCATION:Flour Mill of Summer Hill\, 16 Flour Mill Way\, Summer Hill\, Sydney\, NSW\, 2130\, Australia
CATEGORIES:Free,Professional & Learning
ATTACH;FMTTYPE=image/jpeg:https://littlebigfoundation.org/wp-content/uploads/6079987.jpg
GEO:-33.8937768;151.143025
X-APPLE-STRUCTURED-LOCATION;VALUE=URI;X-ADDRESS=Flour Mill of Summer Hill 16 Flour Mill Way Summer Hill Sydney NSW 2130 Australia;X-APPLE-RADIUS=500;X-TITLE=16 Flour Mill Way\, Summer Hill:geo:151.143025,-33.8937768
END:VEVENT
BEGIN:VEVENT
DTSTART;TZID=Australia/Sydney:20270927T090000
DTEND;TZID=Australia/Sydney:20270927T170000
DTSTAMP:20260425T124952
CREATED:20250521T065905Z
LAST-MODIFIED:20251126T015033Z
UID:10007982-1822035600-1822064400@littlebigfoundation.org
SUMMARY:Co-Working Mondays
DESCRIPTION:
URL:https://littlebigfoundation.org/event/co-working-mondays/2027-09-27/
LOCATION:Flour Mill of Summer Hill\, 16 Flour Mill Way\, Summer Hill\, Sydney\, NSW\, 2130\, Australia
CATEGORIES:Free,Professional & Learning
ATTACH;FMTTYPE=image/jpeg:https://littlebigfoundation.org/wp-content/uploads/6079987.jpg
GEO:-33.8937768;151.143025
X-APPLE-STRUCTURED-LOCATION;VALUE=URI;X-ADDRESS=Flour Mill of Summer Hill 16 Flour Mill Way Summer Hill Sydney NSW 2130 Australia;X-APPLE-RADIUS=500;X-TITLE=16 Flour Mill Way\, Summer Hill:geo:151.143025,-33.8937768
END:VEVENT
BEGIN:VEVENT
DTSTART;TZID=Australia/Sydney:20271004T090000
DTEND;TZID=Australia/Sydney:20271004T170000
DTSTAMP:20260425T124952
CREATED:20250521T065905Z
LAST-MODIFIED:20251126T015033Z
UID:10007983-1822640400-1822669200@littlebigfoundation.org
SUMMARY:Co-Working Mondays
DESCRIPTION:
URL:https://littlebigfoundation.org/event/co-working-mondays/2027-10-04/
LOCATION:Flour Mill of Summer Hill\, 16 Flour Mill Way\, Summer Hill\, Sydney\, NSW\, 2130\, Australia
CATEGORIES:Free,Professional & Learning
ATTACH;FMTTYPE=image/jpeg:https://littlebigfoundation.org/wp-content/uploads/6079987.jpg
GEO:-33.8937768;151.143025
X-APPLE-STRUCTURED-LOCATION;VALUE=URI;X-ADDRESS=Flour Mill of Summer Hill 16 Flour Mill Way Summer Hill Sydney NSW 2130 Australia;X-APPLE-RADIUS=500;X-TITLE=16 Flour Mill Way\, Summer Hill:geo:151.143025,-33.8937768
END:VEVENT
BEGIN:VEVENT
DTSTART;TZID=Australia/Sydney:20271011T090000
DTEND;TZID=Australia/Sydney:20271011T170000
DTSTAMP:20260425T124952
CREATED:20250521T065905Z
LAST-MODIFIED:20251126T015033Z
UID:10007984-1823245200-1823274000@littlebigfoundation.org
SUMMARY:Co-Working Mondays
DESCRIPTION:
URL:https://littlebigfoundation.org/event/co-working-mondays/2027-10-11/
LOCATION:Flour Mill of Summer Hill\, 16 Flour Mill Way\, Summer Hill\, Sydney\, NSW\, 2130\, Australia
CATEGORIES:Free,Professional & Learning
ATTACH;FMTTYPE=image/jpeg:https://littlebigfoundation.org/wp-content/uploads/6079987.jpg
GEO:-33.8937768;151.143025
X-APPLE-STRUCTURED-LOCATION;VALUE=URI;X-ADDRESS=Flour Mill of Summer Hill 16 Flour Mill Way Summer Hill Sydney NSW 2130 Australia;X-APPLE-RADIUS=500;X-TITLE=16 Flour Mill Way\, Summer Hill:geo:151.143025,-33.8937768
END:VEVENT
BEGIN:VEVENT
DTSTART;TZID=Australia/Sydney:20271018T090000
DTEND;TZID=Australia/Sydney:20271018T170000
DTSTAMP:20260425T124952
CREATED:20250521T065905Z
LAST-MODIFIED:20251126T015033Z
UID:10007985-1823850000-1823878800@littlebigfoundation.org
SUMMARY:Co-Working Mondays
DESCRIPTION:
URL:https://littlebigfoundation.org/event/co-working-mondays/2027-10-18/
LOCATION:Flour Mill of Summer Hill\, 16 Flour Mill Way\, Summer Hill\, Sydney\, NSW\, 2130\, Australia
CATEGORIES:Free,Professional & Learning
ATTACH;FMTTYPE=image/jpeg:https://littlebigfoundation.org/wp-content/uploads/6079987.jpg
GEO:-33.8937768;151.143025
X-APPLE-STRUCTURED-LOCATION;VALUE=URI;X-ADDRESS=Flour Mill of Summer Hill 16 Flour Mill Way Summer Hill Sydney NSW 2130 Australia;X-APPLE-RADIUS=500;X-TITLE=16 Flour Mill Way\, Summer Hill:geo:151.143025,-33.8937768
END:VEVENT
BEGIN:VEVENT
DTSTART;TZID=Australia/Sydney:20271025T090000
DTEND;TZID=Australia/Sydney:20271025T170000
DTSTAMP:20260425T124952
CREATED:20250521T065905Z
LAST-MODIFIED:20251126T015033Z
UID:10007986-1824454800-1824483600@littlebigfoundation.org
SUMMARY:Co-Working Mondays
DESCRIPTION:
URL:https://littlebigfoundation.org/event/co-working-mondays/2027-10-25/
LOCATION:Flour Mill of Summer Hill\, 16 Flour Mill Way\, Summer Hill\, Sydney\, NSW\, 2130\, Australia
CATEGORIES:Free,Professional & Learning
ATTACH;FMTTYPE=image/jpeg:https://littlebigfoundation.org/wp-content/uploads/6079987.jpg
GEO:-33.8937768;151.143025
X-APPLE-STRUCTURED-LOCATION;VALUE=URI;X-ADDRESS=Flour Mill of Summer Hill 16 Flour Mill Way Summer Hill Sydney NSW 2130 Australia;X-APPLE-RADIUS=500;X-TITLE=16 Flour Mill Way\, Summer Hill:geo:151.143025,-33.8937768
END:VEVENT
BEGIN:VEVENT
DTSTART;TZID=Australia/Sydney:20271101T090000
DTEND;TZID=Australia/Sydney:20271101T170000
DTSTAMP:20260425T124952
CREATED:20250521T065905Z
LAST-MODIFIED:20251126T015033Z
UID:10007987-1825059600-1825088400@littlebigfoundation.org
SUMMARY:Co-Working Mondays
DESCRIPTION:
URL:https://littlebigfoundation.org/event/co-working-mondays/2027-11-01/
LOCATION:Flour Mill of Summer Hill\, 16 Flour Mill Way\, Summer Hill\, Sydney\, NSW\, 2130\, Australia
CATEGORIES:Free,Professional & Learning
ATTACH;FMTTYPE=image/jpeg:https://littlebigfoundation.org/wp-content/uploads/6079987.jpg
GEO:-33.8937768;151.143025
X-APPLE-STRUCTURED-LOCATION;VALUE=URI;X-ADDRESS=Flour Mill of Summer Hill 16 Flour Mill Way Summer Hill Sydney NSW 2130 Australia;X-APPLE-RADIUS=500;X-TITLE=16 Flour Mill Way\, Summer Hill:geo:151.143025,-33.8937768
END:VEVENT
BEGIN:VEVENT
DTSTART;TZID=Australia/Sydney:20271108T090000
DTEND;TZID=Australia/Sydney:20271108T170000
DTSTAMP:20260425T124952
CREATED:20250521T065905Z
LAST-MODIFIED:20251126T015033Z
UID:10007988-1825664400-1825693200@littlebigfoundation.org
SUMMARY:Co-Working Mondays
DESCRIPTION:
URL:https://littlebigfoundation.org/event/co-working-mondays/2027-11-08/
LOCATION:Flour Mill of Summer Hill\, 16 Flour Mill Way\, Summer Hill\, Sydney\, NSW\, 2130\, Australia
CATEGORIES:Free,Professional & Learning
ATTACH;FMTTYPE=image/jpeg:https://littlebigfoundation.org/wp-content/uploads/6079987.jpg
GEO:-33.8937768;151.143025
X-APPLE-STRUCTURED-LOCATION;VALUE=URI;X-ADDRESS=Flour Mill of Summer Hill 16 Flour Mill Way Summer Hill Sydney NSW 2130 Australia;X-APPLE-RADIUS=500;X-TITLE=16 Flour Mill Way\, Summer Hill:geo:151.143025,-33.8937768
END:VEVENT
BEGIN:VEVENT
DTSTART;TZID=Australia/Sydney:20271115T090000
DTEND;TZID=Australia/Sydney:20271115T170000
DTSTAMP:20260425T124952
CREATED:20250521T065905Z
LAST-MODIFIED:20251126T015033Z
UID:10007989-1826269200-1826298000@littlebigfoundation.org
SUMMARY:Co-Working Mondays
DESCRIPTION:
URL:https://littlebigfoundation.org/event/co-working-mondays/2027-11-15/
LOCATION:Flour Mill of Summer Hill\, 16 Flour Mill Way\, Summer Hill\, Sydney\, NSW\, 2130\, Australia
CATEGORIES:Free,Professional & Learning
ATTACH;FMTTYPE=image/jpeg:https://littlebigfoundation.org/wp-content/uploads/6079987.jpg
GEO:-33.8937768;151.143025
X-APPLE-STRUCTURED-LOCATION;VALUE=URI;X-ADDRESS=Flour Mill of Summer Hill 16 Flour Mill Way Summer Hill Sydney NSW 2130 Australia;X-APPLE-RADIUS=500;X-TITLE=16 Flour Mill Way\, Summer Hill:geo:151.143025,-33.8937768
END:VEVENT
BEGIN:VEVENT
DTSTART;TZID=Australia/Sydney:20271122T090000
DTEND;TZID=Australia/Sydney:20271122T170000
DTSTAMP:20260425T124952
CREATED:20250521T065905Z
LAST-MODIFIED:20251126T015033Z
UID:10007990-1826874000-1826902800@littlebigfoundation.org
SUMMARY:Co-Working Mondays
DESCRIPTION:
URL:https://littlebigfoundation.org/event/co-working-mondays/2027-11-22/
LOCATION:Flour Mill of Summer Hill\, 16 Flour Mill Way\, Summer Hill\, Sydney\, NSW\, 2130\, Australia
CATEGORIES:Free,Professional & Learning
ATTACH;FMTTYPE=image/jpeg:https://littlebigfoundation.org/wp-content/uploads/6079987.jpg
GEO:-33.8937768;151.143025
X-APPLE-STRUCTURED-LOCATION;VALUE=URI;X-ADDRESS=Flour Mill of Summer Hill 16 Flour Mill Way Summer Hill Sydney NSW 2130 Australia;X-APPLE-RADIUS=500;X-TITLE=16 Flour Mill Way\, Summer Hill:geo:151.143025,-33.8937768
END:VEVENT
BEGIN:VEVENT
DTSTART;TZID=Australia/Sydney:20271129T090000
DTEND;TZID=Australia/Sydney:20271129T170000
DTSTAMP:20260425T124952
CREATED:20250521T065905Z
LAST-MODIFIED:20251126T015033Z
UID:10007991-1827478800-1827507600@littlebigfoundation.org
SUMMARY:Co-Working Mondays
DESCRIPTION:
URL:https://littlebigfoundation.org/event/co-working-mondays/2027-11-29/
LOCATION:Flour Mill of Summer Hill\, 16 Flour Mill Way\, Summer Hill\, Sydney\, NSW\, 2130\, Australia
CATEGORIES:Free,Professional & Learning
ATTACH;FMTTYPE=image/jpeg:https://littlebigfoundation.org/wp-content/uploads/6079987.jpg
GEO:-33.8937768;151.143025
X-APPLE-STRUCTURED-LOCATION;VALUE=URI;X-ADDRESS=Flour Mill of Summer Hill 16 Flour Mill Way Summer Hill Sydney NSW 2130 Australia;X-APPLE-RADIUS=500;X-TITLE=16 Flour Mill Way\, Summer Hill:geo:151.143025,-33.8937768
END:VEVENT
BEGIN:VEVENT
DTSTART;TZID=Australia/Sydney:20271206T090000
DTEND;TZID=Australia/Sydney:20271206T170000
DTSTAMP:20260425T124952
CREATED:20250521T065905Z
LAST-MODIFIED:20251126T015033Z
UID:10007992-1828083600-1828112400@littlebigfoundation.org
SUMMARY:Co-Working Mondays
DESCRIPTION:
URL:https://littlebigfoundation.org/event/co-working-mondays/2027-12-06/
LOCATION:Flour Mill of Summer Hill\, 16 Flour Mill Way\, Summer Hill\, Sydney\, NSW\, 2130\, Australia
CATEGORIES:Free,Professional & Learning
ATTACH;FMTTYPE=image/jpeg:https://littlebigfoundation.org/wp-content/uploads/6079987.jpg
GEO:-33.8937768;151.143025
X-APPLE-STRUCTURED-LOCATION;VALUE=URI;X-ADDRESS=Flour Mill of Summer Hill 16 Flour Mill Way Summer Hill Sydney NSW 2130 Australia;X-APPLE-RADIUS=500;X-TITLE=16 Flour Mill Way\, Summer Hill:geo:151.143025,-33.8937768
END:VEVENT
BEGIN:VEVENT
DTSTART;TZID=Australia/Sydney:20271213T090000
DTEND;TZID=Australia/Sydney:20271213T170000
DTSTAMP:20260425T124952
CREATED:20250521T065905Z
LAST-MODIFIED:20251126T015033Z
UID:10007993-1828688400-1828717200@littlebigfoundation.org
SUMMARY:Co-Working Mondays
DESCRIPTION:
URL:https://littlebigfoundation.org/event/co-working-mondays/2027-12-13/
LOCATION:Flour Mill of Summer Hill\, 16 Flour Mill Way\, Summer Hill\, Sydney\, NSW\, 2130\, Australia
CATEGORIES:Free,Professional & Learning
ATTACH;FMTTYPE=image/jpeg:https://littlebigfoundation.org/wp-content/uploads/6079987.jpg
GEO:-33.8937768;151.143025
X-APPLE-STRUCTURED-LOCATION;VALUE=URI;X-ADDRESS=Flour Mill of Summer Hill 16 Flour Mill Way Summer Hill Sydney NSW 2130 Australia;X-APPLE-RADIUS=500;X-TITLE=16 Flour Mill Way\, Summer Hill:geo:151.143025,-33.8937768
END:VEVENT
END:VCALENDAR