BEGIN:VCALENDAR
VERSION:2.0
PRODID:-//Little BIG - ECPv6.15.20//NONSGML v1.0//EN
CALSCALE:GREGORIAN
METHOD:PUBLISH
X-ORIGINAL-URL:https://littlebigfoundation.org
X-WR-CALDESC:Events for Little BIG
REFRESH-INTERVAL;VALUE=DURATION:PT1H
X-Robots-Tag:noindex
X-PUBLISHED-TTL:PT1H
BEGIN:VTIMEZONE
TZID:Australia/Sydney
BEGIN:STANDARD
TZOFFSETFROM:+1100
TZOFFSETTO:+1000
TZNAME:AEST
DTSTART:20240406T160000
END:STANDARD
BEGIN:DAYLIGHT
TZOFFSETFROM:+1000
TZOFFSETTO:+1100
TZNAME:AEDT
DTSTART:20241005T160000
END:DAYLIGHT
BEGIN:STANDARD
TZOFFSETFROM:+1100
TZOFFSETTO:+1000
TZNAME:AEST
DTSTART:20250405T160000
END:STANDARD
BEGIN:DAYLIGHT
TZOFFSETFROM:+1000
TZOFFSETTO:+1100
TZNAME:AEDT
DTSTART:20251004T160000
END:DAYLIGHT
BEGIN:STANDARD
TZOFFSETFROM:+1100
TZOFFSETTO:+1000
TZNAME:AEST
DTSTART:20260404T160000
END:STANDARD
BEGIN:DAYLIGHT
TZOFFSETFROM:+1000
TZOFFSETTO:+1100
TZNAME:AEDT
DTSTART:20261003T160000
END:DAYLIGHT
END:VTIMEZONE
BEGIN:VEVENT
DTSTART;TZID=Australia/Sydney:20250811T090000
DTEND;TZID=Australia/Sydney:20250811T170000
DTSTAMP:20260425T114341
CREATED:20250521T065905Z
LAST-MODIFIED:20251126T015033Z
UID:10005835-1754902800-1754931600@littlebigfoundation.org
SUMMARY:Co-Working Mondays
DESCRIPTION:
URL:https://littlebigfoundation.org/event/co-working-mondays/2025-08-11/
LOCATION:Flour Mill of Summer Hill\, 16 Flour Mill Way\, Summer Hill\, Sydney\, NSW\, 2130\, Australia
CATEGORIES:Free,Professional & Learning
ATTACH;FMTTYPE=image/jpeg:https://littlebigfoundation.org/wp-content/uploads/6079987.jpg
GEO:-33.8937768;151.143025
X-APPLE-STRUCTURED-LOCATION;VALUE=URI;X-ADDRESS=Flour Mill of Summer Hill 16 Flour Mill Way Summer Hill Sydney NSW 2130 Australia;X-APPLE-RADIUS=500;X-TITLE=16 Flour Mill Way\, Summer Hill:geo:151.143025,-33.8937768
END:VEVENT
BEGIN:VEVENT
DTSTART;TZID=Australia/Sydney:20250804T090000
DTEND;TZID=Australia/Sydney:20250804T170000
DTSTAMP:20260425T114341
CREATED:20250521T065905Z
LAST-MODIFIED:20251126T015033Z
UID:10005834-1754298000-1754326800@littlebigfoundation.org
SUMMARY:Co-Working Mondays
DESCRIPTION:
URL:https://littlebigfoundation.org/event/co-working-mondays/2025-08-04/
LOCATION:Flour Mill of Summer Hill\, 16 Flour Mill Way\, Summer Hill\, Sydney\, NSW\, 2130\, Australia
CATEGORIES:Free,Professional & Learning
ATTACH;FMTTYPE=image/jpeg:https://littlebigfoundation.org/wp-content/uploads/6079987.jpg
GEO:-33.8937768;151.143025
X-APPLE-STRUCTURED-LOCATION;VALUE=URI;X-ADDRESS=Flour Mill of Summer Hill 16 Flour Mill Way Summer Hill Sydney NSW 2130 Australia;X-APPLE-RADIUS=500;X-TITLE=16 Flour Mill Way\, Summer Hill:geo:151.143025,-33.8937768
END:VEVENT
BEGIN:VEVENT
DTSTART;TZID=Australia/Sydney:20250728T090000
DTEND;TZID=Australia/Sydney:20250728T170000
DTSTAMP:20260425T114341
CREATED:20250521T065905Z
LAST-MODIFIED:20251126T015033Z
UID:10005833-1753693200-1753722000@littlebigfoundation.org
SUMMARY:Co-Working Mondays
DESCRIPTION:
URL:https://littlebigfoundation.org/event/co-working-mondays/2025-07-28/
LOCATION:Flour Mill of Summer Hill\, 16 Flour Mill Way\, Summer Hill\, Sydney\, NSW\, 2130\, Australia
CATEGORIES:Free,Professional & Learning
ATTACH;FMTTYPE=image/jpeg:https://littlebigfoundation.org/wp-content/uploads/6079987.jpg
GEO:-33.8937768;151.143025
X-APPLE-STRUCTURED-LOCATION;VALUE=URI;X-ADDRESS=Flour Mill of Summer Hill 16 Flour Mill Way Summer Hill Sydney NSW 2130 Australia;X-APPLE-RADIUS=500;X-TITLE=16 Flour Mill Way\, Summer Hill:geo:151.143025,-33.8937768
END:VEVENT
BEGIN:VEVENT
DTSTART;TZID=Australia/Sydney:20250721T090000
DTEND;TZID=Australia/Sydney:20250721T170000
DTSTAMP:20260425T114341
CREATED:20250521T065905Z
LAST-MODIFIED:20251126T015033Z
UID:10005832-1753088400-1753117200@littlebigfoundation.org
SUMMARY:Co-Working Mondays
DESCRIPTION:
URL:https://littlebigfoundation.org/event/co-working-mondays/2025-07-21/
LOCATION:Flour Mill of Summer Hill\, 16 Flour Mill Way\, Summer Hill\, Sydney\, NSW\, 2130\, Australia
CATEGORIES:Free,Professional & Learning
ATTACH;FMTTYPE=image/jpeg:https://littlebigfoundation.org/wp-content/uploads/6079987.jpg
GEO:-33.8937768;151.143025
X-APPLE-STRUCTURED-LOCATION;VALUE=URI;X-ADDRESS=Flour Mill of Summer Hill 16 Flour Mill Way Summer Hill Sydney NSW 2130 Australia;X-APPLE-RADIUS=500;X-TITLE=16 Flour Mill Way\, Summer Hill:geo:151.143025,-33.8937768
END:VEVENT
BEGIN:VEVENT
DTSTART;TZID=Australia/Sydney:20250714T090000
DTEND;TZID=Australia/Sydney:20250714T170000
DTSTAMP:20260425T114341
CREATED:20250521T065905Z
LAST-MODIFIED:20251126T015033Z
UID:10005831-1752483600-1752512400@littlebigfoundation.org
SUMMARY:Co-Working Mondays
DESCRIPTION:
URL:https://littlebigfoundation.org/event/co-working-mondays/2025-07-14/
LOCATION:Flour Mill of Summer Hill\, 16 Flour Mill Way\, Summer Hill\, Sydney\, NSW\, 2130\, Australia
CATEGORIES:Free,Professional & Learning
ATTACH;FMTTYPE=image/jpeg:https://littlebigfoundation.org/wp-content/uploads/6079987.jpg
GEO:-33.8937768;151.143025
X-APPLE-STRUCTURED-LOCATION;VALUE=URI;X-ADDRESS=Flour Mill of Summer Hill 16 Flour Mill Way Summer Hill Sydney NSW 2130 Australia;X-APPLE-RADIUS=500;X-TITLE=16 Flour Mill Way\, Summer Hill:geo:151.143025,-33.8937768
END:VEVENT
BEGIN:VEVENT
DTSTART;TZID=Australia/Sydney:20250707T090000
DTEND;TZID=Australia/Sydney:20250707T170000
DTSTAMP:20260425T114341
CREATED:20250521T065905Z
LAST-MODIFIED:20251126T015033Z
UID:10005830-1751878800-1751907600@littlebigfoundation.org
SUMMARY:Co-Working Mondays
DESCRIPTION:
URL:https://littlebigfoundation.org/event/co-working-mondays/2025-07-07/
LOCATION:Flour Mill of Summer Hill\, 16 Flour Mill Way\, Summer Hill\, Sydney\, NSW\, 2130\, Australia
CATEGORIES:Free,Professional & Learning
ATTACH;FMTTYPE=image/jpeg:https://littlebigfoundation.org/wp-content/uploads/6079987.jpg
GEO:-33.8937768;151.143025
X-APPLE-STRUCTURED-LOCATION;VALUE=URI;X-ADDRESS=Flour Mill of Summer Hill 16 Flour Mill Way Summer Hill Sydney NSW 2130 Australia;X-APPLE-RADIUS=500;X-TITLE=16 Flour Mill Way\, Summer Hill:geo:151.143025,-33.8937768
END:VEVENT
BEGIN:VEVENT
DTSTART;TZID=Australia/Sydney:20250630T090000
DTEND;TZID=Australia/Sydney:20250630T170000
DTSTAMP:20260425T114341
CREATED:20250521T065905Z
LAST-MODIFIED:20251126T015033Z
UID:10005829-1751274000-1751302800@littlebigfoundation.org
SUMMARY:Co-Working Mondays
DESCRIPTION:
URL:https://littlebigfoundation.org/event/co-working-mondays/2025-06-30/
LOCATION:Flour Mill of Summer Hill\, 16 Flour Mill Way\, Summer Hill\, Sydney\, NSW\, 2130\, Australia
CATEGORIES:Free,Professional & Learning
ATTACH;FMTTYPE=image/jpeg:https://littlebigfoundation.org/wp-content/uploads/6079987.jpg
GEO:-33.8937768;151.143025
X-APPLE-STRUCTURED-LOCATION;VALUE=URI;X-ADDRESS=Flour Mill of Summer Hill 16 Flour Mill Way Summer Hill Sydney NSW 2130 Australia;X-APPLE-RADIUS=500;X-TITLE=16 Flour Mill Way\, Summer Hill:geo:151.143025,-33.8937768
END:VEVENT
BEGIN:VEVENT
DTSTART;TZID=Australia/Sydney:20250623T090000
DTEND;TZID=Australia/Sydney:20250623T170000
DTSTAMP:20260425T114341
CREATED:20250521T065905Z
LAST-MODIFIED:20251126T015033Z
UID:10005828-1750669200-1750698000@littlebigfoundation.org
SUMMARY:Co-Working Mondays
DESCRIPTION:
URL:https://littlebigfoundation.org/event/co-working-mondays/2025-06-23/
LOCATION:Flour Mill of Summer Hill\, 16 Flour Mill Way\, Summer Hill\, Sydney\, NSW\, 2130\, Australia
CATEGORIES:Free,Professional & Learning
ATTACH;FMTTYPE=image/jpeg:https://littlebigfoundation.org/wp-content/uploads/6079987.jpg
GEO:-33.8937768;151.143025
X-APPLE-STRUCTURED-LOCATION;VALUE=URI;X-ADDRESS=Flour Mill of Summer Hill 16 Flour Mill Way Summer Hill Sydney NSW 2130 Australia;X-APPLE-RADIUS=500;X-TITLE=16 Flour Mill Way\, Summer Hill:geo:151.143025,-33.8937768
END:VEVENT
BEGIN:VEVENT
DTSTART;TZID=Australia/Sydney:20250620T160000
DTEND;TZID=Australia/Sydney:20250620T210000
DTSTAMP:20260425T114341
CREATED:20250527T084042Z
LAST-MODIFIED:20251028T072058Z
UID:10007663-1750435200-1750453200@littlebigfoundation.org
SUMMARY:Flour Mill Night Food Market
DESCRIPTION:
URL:https://littlebigfoundation.org/event/flour-mill-night-food-market/2025-06-20/
LOCATION:Flour Mill of Summer Hill\, 16 Flour Mill Way\, Summer Hill\, Sydney\, NSW\, 2130\, Australia
CATEGORIES:Free
ATTACH;FMTTYPE=image/jpeg:https://littlebigfoundation.org/wp-content/uploads/Night-Market.jpg
GEO:-33.8937768;151.143025
X-APPLE-STRUCTURED-LOCATION;VALUE=URI;X-ADDRESS=Flour Mill of Summer Hill 16 Flour Mill Way Summer Hill Sydney NSW 2130 Australia;X-APPLE-RADIUS=500;X-TITLE=16 Flour Mill Way\, Summer Hill:geo:151.143025,-33.8937768
END:VEVENT
BEGIN:VEVENT
DTSTART;TZID=Australia/Sydney:20250616T090000
DTEND;TZID=Australia/Sydney:20250616T170000
DTSTAMP:20260425T114341
CREATED:20250521T065905Z
LAST-MODIFIED:20251126T015033Z
UID:10005827-1750064400-1750093200@littlebigfoundation.org
SUMMARY:Co-Working Mondays
DESCRIPTION:
URL:https://littlebigfoundation.org/event/co-working-mondays/2025-06-16/
LOCATION:Flour Mill of Summer Hill\, 16 Flour Mill Way\, Summer Hill\, Sydney\, NSW\, 2130\, Australia
CATEGORIES:Free,Professional & Learning
ATTACH;FMTTYPE=image/jpeg:https://littlebigfoundation.org/wp-content/uploads/6079987.jpg
GEO:-33.8937768;151.143025
X-APPLE-STRUCTURED-LOCATION;VALUE=URI;X-ADDRESS=Flour Mill of Summer Hill 16 Flour Mill Way Summer Hill Sydney NSW 2130 Australia;X-APPLE-RADIUS=500;X-TITLE=16 Flour Mill Way\, Summer Hill:geo:151.143025,-33.8937768
END:VEVENT
BEGIN:VEVENT
DTSTART;TZID=Australia/Sydney:20250609T090000
DTEND;TZID=Australia/Sydney:20250609T170000
DTSTAMP:20260425T114341
CREATED:20250521T065905Z
LAST-MODIFIED:20251126T015033Z
UID:10005826-1749459600-1749488400@littlebigfoundation.org
SUMMARY:Co-Working Mondays
DESCRIPTION:
URL:https://littlebigfoundation.org/event/co-working-mondays/2025-06-09/
LOCATION:Flour Mill of Summer Hill\, 16 Flour Mill Way\, Summer Hill\, Sydney\, NSW\, 2130\, Australia
CATEGORIES:Free,Professional & Learning
ATTACH;FMTTYPE=image/jpeg:https://littlebigfoundation.org/wp-content/uploads/6079987.jpg
GEO:-33.8937768;151.143025
X-APPLE-STRUCTURED-LOCATION;VALUE=URI;X-ADDRESS=Flour Mill of Summer Hill 16 Flour Mill Way Summer Hill Sydney NSW 2130 Australia;X-APPLE-RADIUS=500;X-TITLE=16 Flour Mill Way\, Summer Hill:geo:151.143025,-33.8937768
END:VEVENT
BEGIN:VEVENT
DTSTART;TZID=Australia/Sydney:20250602T090000
DTEND;TZID=Australia/Sydney:20250602T170000
DTSTAMP:20260425T114341
CREATED:20250521T065905Z
LAST-MODIFIED:20251126T015033Z
UID:10005825-1748854800-1748883600@littlebigfoundation.org
SUMMARY:Co-Working Mondays
DESCRIPTION:
URL:https://littlebigfoundation.org/event/co-working-mondays/2025-06-02/
LOCATION:Flour Mill of Summer Hill\, 16 Flour Mill Way\, Summer Hill\, Sydney\, NSW\, 2130\, Australia
CATEGORIES:Free,Professional & Learning
ATTACH;FMTTYPE=image/jpeg:https://littlebigfoundation.org/wp-content/uploads/6079987.jpg
GEO:-33.8937768;151.143025
X-APPLE-STRUCTURED-LOCATION;VALUE=URI;X-ADDRESS=Flour Mill of Summer Hill 16 Flour Mill Way Summer Hill Sydney NSW 2130 Australia;X-APPLE-RADIUS=500;X-TITLE=16 Flour Mill Way\, Summer Hill:geo:151.143025,-33.8937768
END:VEVENT
BEGIN:VEVENT
DTSTART;TZID=Australia/Sydney:20250526T090000
DTEND;TZID=Australia/Sydney:20250526T170000
DTSTAMP:20260425T114341
CREATED:20250521T065905Z
LAST-MODIFIED:20251126T015033Z
UID:10005824-1748250000-1748278800@littlebigfoundation.org
SUMMARY:Co-Working Mondays
DESCRIPTION:
URL:https://littlebigfoundation.org/event/co-working-mondays/2025-05-26/
LOCATION:Flour Mill of Summer Hill\, 16 Flour Mill Way\, Summer Hill\, Sydney\, NSW\, 2130\, Australia
CATEGORIES:Free,Professional & Learning
ATTACH;FMTTYPE=image/jpeg:https://littlebigfoundation.org/wp-content/uploads/6079987.jpg
GEO:-33.8937768;151.143025
X-APPLE-STRUCTURED-LOCATION;VALUE=URI;X-ADDRESS=Flour Mill of Summer Hill 16 Flour Mill Way Summer Hill Sydney NSW 2130 Australia;X-APPLE-RADIUS=500;X-TITLE=16 Flour Mill Way\, Summer Hill:geo:151.143025,-33.8937768
END:VEVENT
END:VCALENDAR