BEGIN:VCALENDAR
VERSION:2.0
PRODID:-//Little BIG - ECPv6.15.20//NONSGML v1.0//EN
CALSCALE:GREGORIAN
METHOD:PUBLISH
X-ORIGINAL-URL:https://littlebigfoundation.org
X-WR-CALDESC:Events for Little BIG
REFRESH-INTERVAL;VALUE=DURATION:PT1H
X-Robots-Tag:noindex
X-PUBLISHED-TTL:PT1H
BEGIN:VTIMEZONE
TZID:Australia/Sydney
BEGIN:STANDARD
TZOFFSETFROM:+1100
TZOFFSETTO:+1000
TZNAME:AEST
DTSTART:20250405T160000
END:STANDARD
BEGIN:DAYLIGHT
TZOFFSETFROM:+1000
TZOFFSETTO:+1100
TZNAME:AEDT
DTSTART:20251004T160000
END:DAYLIGHT
BEGIN:STANDARD
TZOFFSETFROM:+1100
TZOFFSETTO:+1000
TZNAME:AEST
DTSTART:20260404T160000
END:STANDARD
BEGIN:DAYLIGHT
TZOFFSETFROM:+1000
TZOFFSETTO:+1100
TZNAME:AEDT
DTSTART:20261003T160000
END:DAYLIGHT
BEGIN:STANDARD
TZOFFSETFROM:+1100
TZOFFSETTO:+1000
TZNAME:AEST
DTSTART:20270403T160000
END:STANDARD
BEGIN:DAYLIGHT
TZOFFSETFROM:+1000
TZOFFSETTO:+1100
TZNAME:AEDT
DTSTART:20271002T160000
END:DAYLIGHT
END:VTIMEZONE
BEGIN:VEVENT
DTSTART;TZID=Australia/Sydney:20260427T090000
DTEND;TZID=Australia/Sydney:20260427T170000
DTSTAMP:20260425T052042
CREATED:20260326T130354Z
LAST-MODIFIED:20260326T130433Z
UID:10007908-1777280400-1777309200@littlebigfoundation.org
SUMMARY:Co-Working Mondays
DESCRIPTION:
URL:https://littlebigfoundation.org/event/co-working-mondays-5/2026-04-27/
LOCATION:Flour Mill of Summer Hill\, 16 Flour Mill Way\, Summer Hill\, Sydney\, NSW\, 2130\, Australia
CATEGORIES:Free,Professional & Learning
ATTACH;FMTTYPE=image/jpeg:https://littlebigfoundation.org/wp-content/uploads/6079987.jpg
GEO:-33.8937768;151.143025
X-APPLE-STRUCTURED-LOCATION;VALUE=URI;X-ADDRESS=Flour Mill of Summer Hill 16 Flour Mill Way Summer Hill Sydney NSW 2130 Australia;X-APPLE-RADIUS=500;X-TITLE=16 Flour Mill Way\, Summer Hill:geo:151.143025,-33.8937768
END:VEVENT
BEGIN:VEVENT
DTSTART;TZID=Australia/Sydney:20260501T093000
DTEND;TZID=Australia/Sydney:20260501T110000
DTSTAMP:20260425T052042
CREATED:20260310T010436Z
LAST-MODIFIED:20260310T010438Z
UID:10015021-1777627800-1777633200@littlebigfoundation.org
SUMMARY:Death Curious Conversations
DESCRIPTION:
URL:https://littlebigfoundation.org/event/death-curious-conversations-2/2026-05-01/
LOCATION:Flour Mill of Summer Hill\, 16 Flour Mill Way\, Summer Hill\, Sydney\, NSW\, 2130\, Australia
CATEGORIES:Free
ATTACH;FMTTYPE=image/png:https://littlebigfoundation.org/wp-content/uploads/DCC-new-logo-and-colour.png
GEO:-33.8937768;151.143025
X-APPLE-STRUCTURED-LOCATION;VALUE=URI;X-ADDRESS=Flour Mill of Summer Hill 16 Flour Mill Way Summer Hill Sydney NSW 2130 Australia;X-APPLE-RADIUS=500;X-TITLE=16 Flour Mill Way\, Summer Hill:geo:151.143025,-33.8937768
END:VEVENT
BEGIN:VEVENT
DTSTART;TZID=Australia/Sydney:20260504T090000
DTEND;TZID=Australia/Sydney:20260504T170000
DTSTAMP:20260425T052042
CREATED:20250521T065905Z
LAST-MODIFIED:20251126T015033Z
UID:10007909-1777885200-1777914000@littlebigfoundation.org
SUMMARY:Co-Working Mondays
DESCRIPTION:
URL:https://littlebigfoundation.org/event/co-working-mondays/2026-05-04/
LOCATION:Flour Mill of Summer Hill\, 16 Flour Mill Way\, Summer Hill\, Sydney\, NSW\, 2130\, Australia
CATEGORIES:Free,Professional & Learning
ATTACH;FMTTYPE=image/jpeg:https://littlebigfoundation.org/wp-content/uploads/6079987.jpg
GEO:-33.8937768;151.143025
X-APPLE-STRUCTURED-LOCATION;VALUE=URI;X-ADDRESS=Flour Mill of Summer Hill 16 Flour Mill Way Summer Hill Sydney NSW 2130 Australia;X-APPLE-RADIUS=500;X-TITLE=16 Flour Mill Way\, Summer Hill:geo:151.143025,-33.8937768
END:VEVENT
BEGIN:VEVENT
DTSTART;TZID=Australia/Sydney:20260511T090000
DTEND;TZID=Australia/Sydney:20260511T170000
DTSTAMP:20260425T052042
CREATED:20250521T065905Z
LAST-MODIFIED:20251126T015033Z
UID:10007910-1778490000-1778518800@littlebigfoundation.org
SUMMARY:Co-Working Mondays
DESCRIPTION:
URL:https://littlebigfoundation.org/event/co-working-mondays/2026-05-11/
LOCATION:Flour Mill of Summer Hill\, 16 Flour Mill Way\, Summer Hill\, Sydney\, NSW\, 2130\, Australia
CATEGORIES:Free,Professional & Learning
ATTACH;FMTTYPE=image/jpeg:https://littlebigfoundation.org/wp-content/uploads/6079987.jpg
GEO:-33.8937768;151.143025
X-APPLE-STRUCTURED-LOCATION;VALUE=URI;X-ADDRESS=Flour Mill of Summer Hill 16 Flour Mill Way Summer Hill Sydney NSW 2130 Australia;X-APPLE-RADIUS=500;X-TITLE=16 Flour Mill Way\, Summer Hill:geo:151.143025,-33.8937768
END:VEVENT
BEGIN:VEVENT
DTSTART;TZID=Australia/Sydney:20260518T090000
DTEND;TZID=Australia/Sydney:20260518T170000
DTSTAMP:20260425T052042
CREATED:20250521T065905Z
LAST-MODIFIED:20251126T015033Z
UID:10007911-1779094800-1779123600@littlebigfoundation.org
SUMMARY:Co-Working Mondays
DESCRIPTION:
URL:https://littlebigfoundation.org/event/co-working-mondays/2026-05-18/
LOCATION:Flour Mill of Summer Hill\, 16 Flour Mill Way\, Summer Hill\, Sydney\, NSW\, 2130\, Australia
CATEGORIES:Free,Professional & Learning
ATTACH;FMTTYPE=image/jpeg:https://littlebigfoundation.org/wp-content/uploads/6079987.jpg
GEO:-33.8937768;151.143025
X-APPLE-STRUCTURED-LOCATION;VALUE=URI;X-ADDRESS=Flour Mill of Summer Hill 16 Flour Mill Way Summer Hill Sydney NSW 2130 Australia;X-APPLE-RADIUS=500;X-TITLE=16 Flour Mill Way\, Summer Hill:geo:151.143025,-33.8937768
END:VEVENT
BEGIN:VEVENT
DTSTART;TZID=Australia/Sydney:20260525T090000
DTEND;TZID=Australia/Sydney:20260525T170000
DTSTAMP:20260425T052042
CREATED:20250521T065905Z
LAST-MODIFIED:20251126T015033Z
UID:10007912-1779699600-1779728400@littlebigfoundation.org
SUMMARY:Co-Working Mondays
DESCRIPTION:
URL:https://littlebigfoundation.org/event/co-working-mondays/2026-05-25/
LOCATION:Flour Mill of Summer Hill\, 16 Flour Mill Way\, Summer Hill\, Sydney\, NSW\, 2130\, Australia
CATEGORIES:Free,Professional & Learning
ATTACH;FMTTYPE=image/jpeg:https://littlebigfoundation.org/wp-content/uploads/6079987.jpg
GEO:-33.8937768;151.143025
X-APPLE-STRUCTURED-LOCATION;VALUE=URI;X-ADDRESS=Flour Mill of Summer Hill 16 Flour Mill Way Summer Hill Sydney NSW 2130 Australia;X-APPLE-RADIUS=500;X-TITLE=16 Flour Mill Way\, Summer Hill:geo:151.143025,-33.8937768
END:VEVENT
BEGIN:VEVENT
DTSTART;TZID=Australia/Sydney:20260601T090000
DTEND;TZID=Australia/Sydney:20260601T170000
DTSTAMP:20260425T052042
CREATED:20250521T065905Z
LAST-MODIFIED:20251126T015033Z
UID:10007913-1780304400-1780333200@littlebigfoundation.org
SUMMARY:Co-Working Mondays
DESCRIPTION:
URL:https://littlebigfoundation.org/event/co-working-mondays/2026-06-01/
LOCATION:Flour Mill of Summer Hill\, 16 Flour Mill Way\, Summer Hill\, Sydney\, NSW\, 2130\, Australia
CATEGORIES:Free,Professional & Learning
ATTACH;FMTTYPE=image/jpeg:https://littlebigfoundation.org/wp-content/uploads/6079987.jpg
GEO:-33.8937768;151.143025
X-APPLE-STRUCTURED-LOCATION;VALUE=URI;X-ADDRESS=Flour Mill of Summer Hill 16 Flour Mill Way Summer Hill Sydney NSW 2130 Australia;X-APPLE-RADIUS=500;X-TITLE=16 Flour Mill Way\, Summer Hill:geo:151.143025,-33.8937768
END:VEVENT
BEGIN:VEVENT
DTSTART;TZID=Australia/Sydney:20260608T090000
DTEND;TZID=Australia/Sydney:20260608T170000
DTSTAMP:20260425T052042
CREATED:20250521T065905Z
LAST-MODIFIED:20251126T015033Z
UID:10007914-1780909200-1780938000@littlebigfoundation.org
SUMMARY:Co-Working Mondays
DESCRIPTION:
URL:https://littlebigfoundation.org/event/co-working-mondays/2026-06-08/
LOCATION:Flour Mill of Summer Hill\, 16 Flour Mill Way\, Summer Hill\, Sydney\, NSW\, 2130\, Australia
CATEGORIES:Free,Professional & Learning
ATTACH;FMTTYPE=image/jpeg:https://littlebigfoundation.org/wp-content/uploads/6079987.jpg
GEO:-33.8937768;151.143025
X-APPLE-STRUCTURED-LOCATION;VALUE=URI;X-ADDRESS=Flour Mill of Summer Hill 16 Flour Mill Way Summer Hill Sydney NSW 2130 Australia;X-APPLE-RADIUS=500;X-TITLE=16 Flour Mill Way\, Summer Hill:geo:151.143025,-33.8937768
END:VEVENT
BEGIN:VEVENT
DTSTART;TZID=Australia/Sydney:20260615T090000
DTEND;TZID=Australia/Sydney:20260615T170000
DTSTAMP:20260425T052042
CREATED:20250521T065905Z
LAST-MODIFIED:20251126T015033Z
UID:10007915-1781514000-1781542800@littlebigfoundation.org
SUMMARY:Co-Working Mondays
DESCRIPTION:
URL:https://littlebigfoundation.org/event/co-working-mondays/2026-06-15/
LOCATION:Flour Mill of Summer Hill\, 16 Flour Mill Way\, Summer Hill\, Sydney\, NSW\, 2130\, Australia
CATEGORIES:Free,Professional & Learning
ATTACH;FMTTYPE=image/jpeg:https://littlebigfoundation.org/wp-content/uploads/6079987.jpg
GEO:-33.8937768;151.143025
X-APPLE-STRUCTURED-LOCATION;VALUE=URI;X-ADDRESS=Flour Mill of Summer Hill 16 Flour Mill Way Summer Hill Sydney NSW 2130 Australia;X-APPLE-RADIUS=500;X-TITLE=16 Flour Mill Way\, Summer Hill:geo:151.143025,-33.8937768
END:VEVENT
BEGIN:VEVENT
DTSTART;TZID=Australia/Sydney:20260622T090000
DTEND;TZID=Australia/Sydney:20260622T170000
DTSTAMP:20260425T052042
CREATED:20250521T065905Z
LAST-MODIFIED:20251126T015033Z
UID:10007916-1782118800-1782147600@littlebigfoundation.org
SUMMARY:Co-Working Mondays
DESCRIPTION:
URL:https://littlebigfoundation.org/event/co-working-mondays/2026-06-22/
LOCATION:Flour Mill of Summer Hill\, 16 Flour Mill Way\, Summer Hill\, Sydney\, NSW\, 2130\, Australia
CATEGORIES:Free,Professional & Learning
ATTACH;FMTTYPE=image/jpeg:https://littlebigfoundation.org/wp-content/uploads/6079987.jpg
GEO:-33.8937768;151.143025
X-APPLE-STRUCTURED-LOCATION;VALUE=URI;X-ADDRESS=Flour Mill of Summer Hill 16 Flour Mill Way Summer Hill Sydney NSW 2130 Australia;X-APPLE-RADIUS=500;X-TITLE=16 Flour Mill Way\, Summer Hill:geo:151.143025,-33.8937768
END:VEVENT
BEGIN:VEVENT
DTSTART;TZID=Australia/Sydney:20260629T090000
DTEND;TZID=Australia/Sydney:20260629T170000
DTSTAMP:20260425T052042
CREATED:20250521T065905Z
LAST-MODIFIED:20251126T015033Z
UID:10007917-1782723600-1782752400@littlebigfoundation.org
SUMMARY:Co-Working Mondays
DESCRIPTION:
URL:https://littlebigfoundation.org/event/co-working-mondays/2026-06-29/
LOCATION:Flour Mill of Summer Hill\, 16 Flour Mill Way\, Summer Hill\, Sydney\, NSW\, 2130\, Australia
CATEGORIES:Free,Professional & Learning
ATTACH;FMTTYPE=image/jpeg:https://littlebigfoundation.org/wp-content/uploads/6079987.jpg
GEO:-33.8937768;151.143025
X-APPLE-STRUCTURED-LOCATION;VALUE=URI;X-ADDRESS=Flour Mill of Summer Hill 16 Flour Mill Way Summer Hill Sydney NSW 2130 Australia;X-APPLE-RADIUS=500;X-TITLE=16 Flour Mill Way\, Summer Hill:geo:151.143025,-33.8937768
END:VEVENT
BEGIN:VEVENT
DTSTART;TZID=Australia/Sydney:20260703T093000
DTEND;TZID=Australia/Sydney:20260703T110000
DTSTAMP:20260425T052042
CREATED:20260310T010436Z
LAST-MODIFIED:20260310T010438Z
UID:10015022-1783071000-1783076400@littlebigfoundation.org
SUMMARY:Death Curious Conversations
DESCRIPTION:
URL:https://littlebigfoundation.org/event/death-curious-conversations-2/2026-07-03/
LOCATION:Flour Mill of Summer Hill\, 16 Flour Mill Way\, Summer Hill\, Sydney\, NSW\, 2130\, Australia
CATEGORIES:Free
ATTACH;FMTTYPE=image/png:https://littlebigfoundation.org/wp-content/uploads/DCC-new-logo-and-colour.png
GEO:-33.8937768;151.143025
X-APPLE-STRUCTURED-LOCATION;VALUE=URI;X-ADDRESS=Flour Mill of Summer Hill 16 Flour Mill Way Summer Hill Sydney NSW 2130 Australia;X-APPLE-RADIUS=500;X-TITLE=16 Flour Mill Way\, Summer Hill:geo:151.143025,-33.8937768
END:VEVENT
BEGIN:VEVENT
DTSTART;TZID=Australia/Sydney:20260706T090000
DTEND;TZID=Australia/Sydney:20260706T170000
DTSTAMP:20260425T052042
CREATED:20250521T065905Z
LAST-MODIFIED:20251126T015033Z
UID:10007918-1783328400-1783357200@littlebigfoundation.org
SUMMARY:Co-Working Mondays
DESCRIPTION:
URL:https://littlebigfoundation.org/event/co-working-mondays/2026-07-06/
LOCATION:Flour Mill of Summer Hill\, 16 Flour Mill Way\, Summer Hill\, Sydney\, NSW\, 2130\, Australia
CATEGORIES:Free,Professional & Learning
ATTACH;FMTTYPE=image/jpeg:https://littlebigfoundation.org/wp-content/uploads/6079987.jpg
GEO:-33.8937768;151.143025
X-APPLE-STRUCTURED-LOCATION;VALUE=URI;X-ADDRESS=Flour Mill of Summer Hill 16 Flour Mill Way Summer Hill Sydney NSW 2130 Australia;X-APPLE-RADIUS=500;X-TITLE=16 Flour Mill Way\, Summer Hill:geo:151.143025,-33.8937768
END:VEVENT
BEGIN:VEVENT
DTSTART;TZID=Australia/Sydney:20260713T090000
DTEND;TZID=Australia/Sydney:20260713T170000
DTSTAMP:20260425T052042
CREATED:20250521T065905Z
LAST-MODIFIED:20251126T015033Z
UID:10007919-1783933200-1783962000@littlebigfoundation.org
SUMMARY:Co-Working Mondays
DESCRIPTION:
URL:https://littlebigfoundation.org/event/co-working-mondays/2026-07-13/
LOCATION:Flour Mill of Summer Hill\, 16 Flour Mill Way\, Summer Hill\, Sydney\, NSW\, 2130\, Australia
CATEGORIES:Free,Professional & Learning
ATTACH;FMTTYPE=image/jpeg:https://littlebigfoundation.org/wp-content/uploads/6079987.jpg
GEO:-33.8937768;151.143025
X-APPLE-STRUCTURED-LOCATION;VALUE=URI;X-ADDRESS=Flour Mill of Summer Hill 16 Flour Mill Way Summer Hill Sydney NSW 2130 Australia;X-APPLE-RADIUS=500;X-TITLE=16 Flour Mill Way\, Summer Hill:geo:151.143025,-33.8937768
END:VEVENT
BEGIN:VEVENT
DTSTART;TZID=Australia/Sydney:20260720T090000
DTEND;TZID=Australia/Sydney:20260720T170000
DTSTAMP:20260425T052042
CREATED:20250521T065905Z
LAST-MODIFIED:20251126T015033Z
UID:10007920-1784538000-1784566800@littlebigfoundation.org
SUMMARY:Co-Working Mondays
DESCRIPTION:
URL:https://littlebigfoundation.org/event/co-working-mondays/2026-07-20/
LOCATION:Flour Mill of Summer Hill\, 16 Flour Mill Way\, Summer Hill\, Sydney\, NSW\, 2130\, Australia
CATEGORIES:Free,Professional & Learning
ATTACH;FMTTYPE=image/jpeg:https://littlebigfoundation.org/wp-content/uploads/6079987.jpg
GEO:-33.8937768;151.143025
X-APPLE-STRUCTURED-LOCATION;VALUE=URI;X-ADDRESS=Flour Mill of Summer Hill 16 Flour Mill Way Summer Hill Sydney NSW 2130 Australia;X-APPLE-RADIUS=500;X-TITLE=16 Flour Mill Way\, Summer Hill:geo:151.143025,-33.8937768
END:VEVENT
BEGIN:VEVENT
DTSTART;TZID=Australia/Sydney:20260727T090000
DTEND;TZID=Australia/Sydney:20260727T170000
DTSTAMP:20260425T052042
CREATED:20250521T065905Z
LAST-MODIFIED:20251126T015033Z
UID:10007921-1785142800-1785171600@littlebigfoundation.org
SUMMARY:Co-Working Mondays
DESCRIPTION:
URL:https://littlebigfoundation.org/event/co-working-mondays/2026-07-27/
LOCATION:Flour Mill of Summer Hill\, 16 Flour Mill Way\, Summer Hill\, Sydney\, NSW\, 2130\, Australia
CATEGORIES:Free,Professional & Learning
ATTACH;FMTTYPE=image/jpeg:https://littlebigfoundation.org/wp-content/uploads/6079987.jpg
GEO:-33.8937768;151.143025
X-APPLE-STRUCTURED-LOCATION;VALUE=URI;X-ADDRESS=Flour Mill of Summer Hill 16 Flour Mill Way Summer Hill Sydney NSW 2130 Australia;X-APPLE-RADIUS=500;X-TITLE=16 Flour Mill Way\, Summer Hill:geo:151.143025,-33.8937768
END:VEVENT
BEGIN:VEVENT
DTSTART;TZID=Australia/Sydney:20260803T090000
DTEND;TZID=Australia/Sydney:20260803T170000
DTSTAMP:20260425T052042
CREATED:20250521T065905Z
LAST-MODIFIED:20251126T015033Z
UID:10007922-1785747600-1785776400@littlebigfoundation.org
SUMMARY:Co-Working Mondays
DESCRIPTION:
URL:https://littlebigfoundation.org/event/co-working-mondays/2026-08-03/
LOCATION:Flour Mill of Summer Hill\, 16 Flour Mill Way\, Summer Hill\, Sydney\, NSW\, 2130\, Australia
CATEGORIES:Free,Professional & Learning
ATTACH;FMTTYPE=image/jpeg:https://littlebigfoundation.org/wp-content/uploads/6079987.jpg
GEO:-33.8937768;151.143025
X-APPLE-STRUCTURED-LOCATION;VALUE=URI;X-ADDRESS=Flour Mill of Summer Hill 16 Flour Mill Way Summer Hill Sydney NSW 2130 Australia;X-APPLE-RADIUS=500;X-TITLE=16 Flour Mill Way\, Summer Hill:geo:151.143025,-33.8937768
END:VEVENT
BEGIN:VEVENT
DTSTART;TZID=Australia/Sydney:20260810T090000
DTEND;TZID=Australia/Sydney:20260810T170000
DTSTAMP:20260425T052042
CREATED:20250521T065905Z
LAST-MODIFIED:20251126T015033Z
UID:10007923-1786352400-1786381200@littlebigfoundation.org
SUMMARY:Co-Working Mondays
DESCRIPTION:
URL:https://littlebigfoundation.org/event/co-working-mondays/2026-08-10/
LOCATION:Flour Mill of Summer Hill\, 16 Flour Mill Way\, Summer Hill\, Sydney\, NSW\, 2130\, Australia
CATEGORIES:Free,Professional & Learning
ATTACH;FMTTYPE=image/jpeg:https://littlebigfoundation.org/wp-content/uploads/6079987.jpg
GEO:-33.8937768;151.143025
X-APPLE-STRUCTURED-LOCATION;VALUE=URI;X-ADDRESS=Flour Mill of Summer Hill 16 Flour Mill Way Summer Hill Sydney NSW 2130 Australia;X-APPLE-RADIUS=500;X-TITLE=16 Flour Mill Way\, Summer Hill:geo:151.143025,-33.8937768
END:VEVENT
BEGIN:VEVENT
DTSTART;TZID=Australia/Sydney:20260817T090000
DTEND;TZID=Australia/Sydney:20260817T170000
DTSTAMP:20260425T052042
CREATED:20250521T065905Z
LAST-MODIFIED:20251126T015033Z
UID:10007924-1786957200-1786986000@littlebigfoundation.org
SUMMARY:Co-Working Mondays
DESCRIPTION:
URL:https://littlebigfoundation.org/event/co-working-mondays/2026-08-17/
LOCATION:Flour Mill of Summer Hill\, 16 Flour Mill Way\, Summer Hill\, Sydney\, NSW\, 2130\, Australia
CATEGORIES:Free,Professional & Learning
ATTACH;FMTTYPE=image/jpeg:https://littlebigfoundation.org/wp-content/uploads/6079987.jpg
GEO:-33.8937768;151.143025
X-APPLE-STRUCTURED-LOCATION;VALUE=URI;X-ADDRESS=Flour Mill of Summer Hill 16 Flour Mill Way Summer Hill Sydney NSW 2130 Australia;X-APPLE-RADIUS=500;X-TITLE=16 Flour Mill Way\, Summer Hill:geo:151.143025,-33.8937768
END:VEVENT
BEGIN:VEVENT
DTSTART;TZID=Australia/Sydney:20260824T090000
DTEND;TZID=Australia/Sydney:20260824T170000
DTSTAMP:20260425T052042
CREATED:20250521T065905Z
LAST-MODIFIED:20251126T015033Z
UID:10007925-1787562000-1787590800@littlebigfoundation.org
SUMMARY:Co-Working Mondays
DESCRIPTION:
URL:https://littlebigfoundation.org/event/co-working-mondays/2026-08-24/
LOCATION:Flour Mill of Summer Hill\, 16 Flour Mill Way\, Summer Hill\, Sydney\, NSW\, 2130\, Australia
CATEGORIES:Free,Professional & Learning
ATTACH;FMTTYPE=image/jpeg:https://littlebigfoundation.org/wp-content/uploads/6079987.jpg
GEO:-33.8937768;151.143025
X-APPLE-STRUCTURED-LOCATION;VALUE=URI;X-ADDRESS=Flour Mill of Summer Hill 16 Flour Mill Way Summer Hill Sydney NSW 2130 Australia;X-APPLE-RADIUS=500;X-TITLE=16 Flour Mill Way\, Summer Hill:geo:151.143025,-33.8937768
END:VEVENT
BEGIN:VEVENT
DTSTART;TZID=Australia/Sydney:20260831T090000
DTEND;TZID=Australia/Sydney:20260831T170000
DTSTAMP:20260425T052042
CREATED:20250521T065905Z
LAST-MODIFIED:20251126T015033Z
UID:10007926-1788166800-1788195600@littlebigfoundation.org
SUMMARY:Co-Working Mondays
DESCRIPTION:
URL:https://littlebigfoundation.org/event/co-working-mondays/2026-08-31/
LOCATION:Flour Mill of Summer Hill\, 16 Flour Mill Way\, Summer Hill\, Sydney\, NSW\, 2130\, Australia
CATEGORIES:Free,Professional & Learning
ATTACH;FMTTYPE=image/jpeg:https://littlebigfoundation.org/wp-content/uploads/6079987.jpg
GEO:-33.8937768;151.143025
X-APPLE-STRUCTURED-LOCATION;VALUE=URI;X-ADDRESS=Flour Mill of Summer Hill 16 Flour Mill Way Summer Hill Sydney NSW 2130 Australia;X-APPLE-RADIUS=500;X-TITLE=16 Flour Mill Way\, Summer Hill:geo:151.143025,-33.8937768
END:VEVENT
BEGIN:VEVENT
DTSTART;TZID=Australia/Sydney:20260904T093000
DTEND;TZID=Australia/Sydney:20260904T110000
DTSTAMP:20260425T052042
CREATED:20260310T010436Z
LAST-MODIFIED:20260310T010438Z
UID:10015023-1788514200-1788519600@littlebigfoundation.org
SUMMARY:Death Curious Conversations
DESCRIPTION:
URL:https://littlebigfoundation.org/event/death-curious-conversations-2/2026-09-04/
LOCATION:Flour Mill of Summer Hill\, 16 Flour Mill Way\, Summer Hill\, Sydney\, NSW\, 2130\, Australia
CATEGORIES:Free
ATTACH;FMTTYPE=image/png:https://littlebigfoundation.org/wp-content/uploads/DCC-new-logo-and-colour.png
GEO:-33.8937768;151.143025
X-APPLE-STRUCTURED-LOCATION;VALUE=URI;X-ADDRESS=Flour Mill of Summer Hill 16 Flour Mill Way Summer Hill Sydney NSW 2130 Australia;X-APPLE-RADIUS=500;X-TITLE=16 Flour Mill Way\, Summer Hill:geo:151.143025,-33.8937768
END:VEVENT
BEGIN:VEVENT
DTSTART;TZID=Australia/Sydney:20260907T090000
DTEND;TZID=Australia/Sydney:20260907T170000
DTSTAMP:20260425T052042
CREATED:20250521T065905Z
LAST-MODIFIED:20251126T015033Z
UID:10007927-1788771600-1788800400@littlebigfoundation.org
SUMMARY:Co-Working Mondays
DESCRIPTION:
URL:https://littlebigfoundation.org/event/co-working-mondays/2026-09-07/
LOCATION:Flour Mill of Summer Hill\, 16 Flour Mill Way\, Summer Hill\, Sydney\, NSW\, 2130\, Australia
CATEGORIES:Free,Professional & Learning
ATTACH;FMTTYPE=image/jpeg:https://littlebigfoundation.org/wp-content/uploads/6079987.jpg
GEO:-33.8937768;151.143025
X-APPLE-STRUCTURED-LOCATION;VALUE=URI;X-ADDRESS=Flour Mill of Summer Hill 16 Flour Mill Way Summer Hill Sydney NSW 2130 Australia;X-APPLE-RADIUS=500;X-TITLE=16 Flour Mill Way\, Summer Hill:geo:151.143025,-33.8937768
END:VEVENT
BEGIN:VEVENT
DTSTART;TZID=Australia/Sydney:20260914T090000
DTEND;TZID=Australia/Sydney:20260914T170000
DTSTAMP:20260425T052042
CREATED:20250521T065905Z
LAST-MODIFIED:20251126T015033Z
UID:10007928-1789376400-1789405200@littlebigfoundation.org
SUMMARY:Co-Working Mondays
DESCRIPTION:
URL:https://littlebigfoundation.org/event/co-working-mondays/2026-09-14/
LOCATION:Flour Mill of Summer Hill\, 16 Flour Mill Way\, Summer Hill\, Sydney\, NSW\, 2130\, Australia
CATEGORIES:Free,Professional & Learning
ATTACH;FMTTYPE=image/jpeg:https://littlebigfoundation.org/wp-content/uploads/6079987.jpg
GEO:-33.8937768;151.143025
X-APPLE-STRUCTURED-LOCATION;VALUE=URI;X-ADDRESS=Flour Mill of Summer Hill 16 Flour Mill Way Summer Hill Sydney NSW 2130 Australia;X-APPLE-RADIUS=500;X-TITLE=16 Flour Mill Way\, Summer Hill:geo:151.143025,-33.8937768
END:VEVENT
BEGIN:VEVENT
DTSTART;TZID=Australia/Sydney:20260921T090000
DTEND;TZID=Australia/Sydney:20260921T170000
DTSTAMP:20260425T052042
CREATED:20250521T065905Z
LAST-MODIFIED:20251126T015033Z
UID:10007929-1789981200-1790010000@littlebigfoundation.org
SUMMARY:Co-Working Mondays
DESCRIPTION:
URL:https://littlebigfoundation.org/event/co-working-mondays/2026-09-21/
LOCATION:Flour Mill of Summer Hill\, 16 Flour Mill Way\, Summer Hill\, Sydney\, NSW\, 2130\, Australia
CATEGORIES:Free,Professional & Learning
ATTACH;FMTTYPE=image/jpeg:https://littlebigfoundation.org/wp-content/uploads/6079987.jpg
GEO:-33.8937768;151.143025
X-APPLE-STRUCTURED-LOCATION;VALUE=URI;X-ADDRESS=Flour Mill of Summer Hill 16 Flour Mill Way Summer Hill Sydney NSW 2130 Australia;X-APPLE-RADIUS=500;X-TITLE=16 Flour Mill Way\, Summer Hill:geo:151.143025,-33.8937768
END:VEVENT
BEGIN:VEVENT
DTSTART;TZID=Australia/Sydney:20260928T090000
DTEND;TZID=Australia/Sydney:20260928T170000
DTSTAMP:20260425T052042
CREATED:20250521T065905Z
LAST-MODIFIED:20251126T015033Z
UID:10007930-1790586000-1790614800@littlebigfoundation.org
SUMMARY:Co-Working Mondays
DESCRIPTION:
URL:https://littlebigfoundation.org/event/co-working-mondays/2026-09-28/
LOCATION:Flour Mill of Summer Hill\, 16 Flour Mill Way\, Summer Hill\, Sydney\, NSW\, 2130\, Australia
CATEGORIES:Free,Professional & Learning
ATTACH;FMTTYPE=image/jpeg:https://littlebigfoundation.org/wp-content/uploads/6079987.jpg
GEO:-33.8937768;151.143025
X-APPLE-STRUCTURED-LOCATION;VALUE=URI;X-ADDRESS=Flour Mill of Summer Hill 16 Flour Mill Way Summer Hill Sydney NSW 2130 Australia;X-APPLE-RADIUS=500;X-TITLE=16 Flour Mill Way\, Summer Hill:geo:151.143025,-33.8937768
END:VEVENT
BEGIN:VEVENT
DTSTART;TZID=Australia/Sydney:20261005T090000
DTEND;TZID=Australia/Sydney:20261005T170000
DTSTAMP:20260425T052042
CREATED:20250521T065905Z
LAST-MODIFIED:20251126T015033Z
UID:10007931-1791190800-1791219600@littlebigfoundation.org
SUMMARY:Co-Working Mondays
DESCRIPTION:
URL:https://littlebigfoundation.org/event/co-working-mondays/2026-10-05/
LOCATION:Flour Mill of Summer Hill\, 16 Flour Mill Way\, Summer Hill\, Sydney\, NSW\, 2130\, Australia
CATEGORIES:Free,Professional & Learning
ATTACH;FMTTYPE=image/jpeg:https://littlebigfoundation.org/wp-content/uploads/6079987.jpg
GEO:-33.8937768;151.143025
X-APPLE-STRUCTURED-LOCATION;VALUE=URI;X-ADDRESS=Flour Mill of Summer Hill 16 Flour Mill Way Summer Hill Sydney NSW 2130 Australia;X-APPLE-RADIUS=500;X-TITLE=16 Flour Mill Way\, Summer Hill:geo:151.143025,-33.8937768
END:VEVENT
BEGIN:VEVENT
DTSTART;TZID=Australia/Sydney:20261012T090000
DTEND;TZID=Australia/Sydney:20261012T170000
DTSTAMP:20260425T052042
CREATED:20250521T065905Z
LAST-MODIFIED:20251126T015033Z
UID:10007932-1791795600-1791824400@littlebigfoundation.org
SUMMARY:Co-Working Mondays
DESCRIPTION:
URL:https://littlebigfoundation.org/event/co-working-mondays/2026-10-12/
LOCATION:Flour Mill of Summer Hill\, 16 Flour Mill Way\, Summer Hill\, Sydney\, NSW\, 2130\, Australia
CATEGORIES:Free,Professional & Learning
ATTACH;FMTTYPE=image/jpeg:https://littlebigfoundation.org/wp-content/uploads/6079987.jpg
GEO:-33.8937768;151.143025
X-APPLE-STRUCTURED-LOCATION;VALUE=URI;X-ADDRESS=Flour Mill of Summer Hill 16 Flour Mill Way Summer Hill Sydney NSW 2130 Australia;X-APPLE-RADIUS=500;X-TITLE=16 Flour Mill Way\, Summer Hill:geo:151.143025,-33.8937768
END:VEVENT
BEGIN:VEVENT
DTSTART;TZID=Australia/Sydney:20261019T090000
DTEND;TZID=Australia/Sydney:20261019T170000
DTSTAMP:20260425T052042
CREATED:20250521T065905Z
LAST-MODIFIED:20251126T015033Z
UID:10007933-1792400400-1792429200@littlebigfoundation.org
SUMMARY:Co-Working Mondays
DESCRIPTION:
URL:https://littlebigfoundation.org/event/co-working-mondays/2026-10-19/
LOCATION:Flour Mill of Summer Hill\, 16 Flour Mill Way\, Summer Hill\, Sydney\, NSW\, 2130\, Australia
CATEGORIES:Free,Professional & Learning
ATTACH;FMTTYPE=image/jpeg:https://littlebigfoundation.org/wp-content/uploads/6079987.jpg
GEO:-33.8937768;151.143025
X-APPLE-STRUCTURED-LOCATION;VALUE=URI;X-ADDRESS=Flour Mill of Summer Hill 16 Flour Mill Way Summer Hill Sydney NSW 2130 Australia;X-APPLE-RADIUS=500;X-TITLE=16 Flour Mill Way\, Summer Hill:geo:151.143025,-33.8937768
END:VEVENT
BEGIN:VEVENT
DTSTART;TZID=Australia/Sydney:20261026T090000
DTEND;TZID=Australia/Sydney:20261026T170000
DTSTAMP:20260425T052042
CREATED:20250521T065905Z
LAST-MODIFIED:20251126T015033Z
UID:10007934-1793005200-1793034000@littlebigfoundation.org
SUMMARY:Co-Working Mondays
DESCRIPTION:
URL:https://littlebigfoundation.org/event/co-working-mondays/2026-10-26/
LOCATION:Flour Mill of Summer Hill\, 16 Flour Mill Way\, Summer Hill\, Sydney\, NSW\, 2130\, Australia
CATEGORIES:Free,Professional & Learning
ATTACH;FMTTYPE=image/jpeg:https://littlebigfoundation.org/wp-content/uploads/6079987.jpg
GEO:-33.8937768;151.143025
X-APPLE-STRUCTURED-LOCATION;VALUE=URI;X-ADDRESS=Flour Mill of Summer Hill 16 Flour Mill Way Summer Hill Sydney NSW 2130 Australia;X-APPLE-RADIUS=500;X-TITLE=16 Flour Mill Way\, Summer Hill:geo:151.143025,-33.8937768
END:VEVENT
END:VCALENDAR